Workbook

Sheet Resumen
A1: Vencimiento de opciones de reserva — resumen operativo
A3: Indicador | B3: Valor | D3: Situación del aviso | E3: Opciones
A4: Opciones registradas | B4: =COUNTIF(Opciones!$A$5:$A$104,"<>") | D4: Incompletas | E4: =B6
A5: Opciones abiertas | B5: =B4-COUNTIF(Opciones!$K$5:$K$104,"Confirmada")-COUNTIF(Opciones!$K$5:$K$104,"Liberada") | D5: Vencidas | E5: =B7
A6: Registros abiertos incompletos | B6: =COUNTIF(Opciones!$M$5:$M$104,"Revisar*") | D6: Vencen hoy | E6: =B8
A7: Opciones abiertas vencidas | B7: =COUNTIF(Opciones!$M$5:$M$104,"Vencida: comprobar") | D7: Urgentes | E7: =B9
A8: Opciones que vencen hoy | B8: =COUNTIF(Opciones!$M$5:$M$104,"Vence hoy: comprobar") | D8: Próximas | E8: =B10
A9: Opciones urgentes | B9: =COUNTIF(Opciones!$M$5:$M$104,"Urgente: comprobar") | D9: En plazo | E9: =B11
A10: Opciones próximas | B10: =COUNTIF(Opciones!$M$5:$M$104,"Próxima: revisar")
A11: Opciones abiertas en plazo | B11: =COUNTIF(Opciones!$M$5:$M$104,"En plazo")
A12: Personas en opciones abiertas | B12: =SUM(Opciones!$G$5:$G$104)-SUMIF(Opciones!$K$5:$K$104,"Confirmada",Opciones!$G$5:$G$104)-SUMIF(Opciones!$K$5:$K$104,"Liberada",Opciones!$G$5:$G$104)
A13: Importe de opciones abiertas | B13: =SUM(Opciones!$H$5:$H$104)-SUMIF(Opciones!$K$5:$K$104,"Confirmada",Opciones!$H$5:$H$104)-SUMIF(Opciones!$K$5:$K$104,"Liberada",Opciones!$H$5:$H$104)
A14: Proporción abierta que requiere revisión | B14: =IFERROR((B6+B7+B8+B9)/B5,"")

Sheet Opciones
A1: Control de vencimiento de opciones de reserva
A2: Las celdas en crema son editables. Los avisos solicitan una comprobación humana antes de confirmar o liberar una opción. | P2: ='Parámetros'!D4
P3: ='Parámetros'!D5
A4: Expediente | B4: Salida | C4: Viajero | D4: Servicio | E4: Fecha de opción | F4: Fecha límite | G4: Personas | H4: Importe (€) | I4: Proveedor | J4: Responsable | K4: Estado | L4: Días restantes | M4: Aviso de revisión | P4: ='Parámetros'!D6
A5: FIC-OP-26-001 | B5: 46296 | C5: Viajero ficticio Alfa | D5: Circuito ficticio Bruma | E5: 46256 | F5: 46273 | G5: 2 | H5: 1240.5 | I5: Proveedor ficticio Nimbo | J5: Agente ficticia Alba | K5: Pendiente | L5: =IF(OR(A5="",F5=""),"",IFERROR(F5-'Parámetros'!$B$4,"")) | M5: =IF(A5="","",IF(K5="","Revisar estado",IF(OR(K5="Confirmada",K5="Liberada"),IF(K5="Confirmada","Cerrada: confirmada","Cerrada: liberada"),IF(F5="","Revisar fecha límite",IF(F5<'Parámetros'!$B$4,"Vencida: comprobar",IF(F5='Parámetros'!$B$4,"Vence hoy: comprobar",IF(F5<='Parámetros'!$B$4+'Parámetros'!$B$5,"Urgente: comprobar",IF(F5<='Parámetros'!$B$4+'Parámetros'!$B$6,"Próxima: revisar","En plazo")))))))) | P5: ='Parámetros'!D7
A6: FIC-OP-26-002 | B6: 46301 | C6: Viajera ficticia Beta | D6: Estancia ficticia Lumbre | E6: 46261 | F6: 46276 | G6: 3 | H6: 2185 | I6: Proveedor ficticio Órbita | J6: Agente ficticio Bruno | K6: En revisión | L6: =IF(OR(A6="",F6=""),"",IFERROR(F6-'Parámetros'!$B$4,"")) | M6: =IF(A6="","",IF(K6="","Revisar estado",IF(OR(K6="Confirmada",K6="Liberada"),IF(K6="Confirmada","Cerrada: confirmada","Cerrada: liberada"),IF(F6="","Revisar fecha límite",IF(F6<'Parámetros'!$B$4,"Vencida: comprobar",IF(F6='Parámetros'!$B$4,"Vence hoy: comprobar",IF(F6<='Parámetros'!$B$4+'Parámetros'!$B$5,"Urgente: comprobar",IF(F6<='Parámetros'!$B$4+'Parámetros'!$B$6,"Próxima: revisar","En plazo")))))))) | P6: =""
A7: FIC-OP-26-003 | B7: 46311 | C7: Viajero ficticio Gamma | D7: Ruta ficticia Salitre | E7: 46266 | F7: 46277 | G7: 4 | H7: 3890.75 | I7: Proveedor ficticio Cúmulo | J7: Agente ficticia Celia | K7: Pendiente | L7: =IF(OR(A7="",F7=""),"",IFERROR(F7-'Parámetros'!$B$4,"")) | M7: =IF(A7="","",IF(K7="","Revisar estado",IF(OR(K7="Confirmada",K7="Liberada"),IF(K7="Confirmada","Cerrada: confirmada","Cerrada: liberada"),IF(F7="","Revisar fecha límite",IF(F7<'Parámetros'!$B$4,"Vencida: comprobar",IF(F7='Parámetros'!$B$4,"Vence hoy: comprobar",IF(F7<='Parámetros'!$B$4+'Parámetros'!$B$5,"Urgente: comprobar",IF(F7<='Parámetros'!$B$4+'Parámetros'!$B$6,"Próxima: revisar","En plazo")))))))) | P7: ='Parámetros'!B7
A8: FIC-OP-26-004 | B8: 46318 | C8: Viajera ficticia Delta | D8: Escapada ficticia Junco | E8: 46268 | F8: 46278 | G8: 2 | H8: 975.4 | I8: Proveedor ficticio Nimbo | J8: Agente ficticia Alba | K8: Pendiente | L8: =IF(OR(A8="",F8=""),"",IFERROR(F8-'Parámetros'!$B$4,"")) | M8: =IF(A8="","",IF(K8="","Revisar estado",IF(OR(K8="Confirmada",K8="Liberada"),IF(K8="Confirmada","Cerrada: confirmada","Cerrada: liberada"),IF(F8="","Revisar fecha límite",IF(F8<'Parámetros'!$B$4,"Vencida: comprobar",IF(F8='Parámetros'!$B$4,"Vence hoy: comprobar",IF(F8<='Parámetros'!$B$4+'Parámetros'!$B$5,"Urgente: comprobar",IF(F8<='Parámetros'!$B$4+'Parámetros'!$B$6,"Próxima: revisar","En plazo")))))))) | P8: ='Parámetros'!B8
A9: FIC-OP-26-005 | B9: 46326 | C9: Viajero ficticio Épsilon | D9: Circuito ficticio Boreal | E9: 46264 | F9: 46279 | G9: 5 | H9: 6420 | I9: Proveedor ficticio Órbita | J9: Agente ficticio Bruno | K9: En revisión | L9: =IF(OR(A9="",F9=""),"",IFERROR(F9-'Parámetros'!$B$4,"")) | M9: =IF(A9="","",IF(K9="","Revisar estado",IF(OR(K9="Confirmada",K9="Liberada"),IF(K9="Confirmada","Cerrada: confirmada","Cerrada: liberada"),IF(F9="","Revisar fecha límite",IF(F9<'Parámetros'!$B$4,"Vencida: comprobar",IF(F9='Parámetros'!$B$4,"Vence hoy: comprobar",IF(F9<='Parámetros'!$B$4+'Parámetros'!$B$5,"Urgente: comprobar",IF(F9<='Parámetros'!$B$4+'Parámetros'!$B$6,"Próxima: revisar","En plazo")))))))) | P9: ='Parámetros'!B9
A10: FIC-OP-26-006 | B10: 46336 | C10: Viajera ficticia Zeta | D10: Grupo ficticio Horizonte | E10: 46271 | F10: 46283 | G10: 60 | H10: 249500 | I10: Proveedor ficticio Trébol | J10: Agente ficticia Celia | K10: Pendiente | L10: =IF(OR(A10="",F10=""),"",IFERROR(F10-'Parámetros'!$B$4,"")) | M10: =IF(A10="","",IF(K10="","Revisar estado",IF(OR(K10="Confirmada",K10="Liberada"),IF(K10="Confirmada","Cerrada: confirmada","Cerrada: liberada"),IF(F10="","Revisar fecha límite",IF(F10<'Parámetros'!$B$4,"Vencida: comprobar",IF(F10='Parámetros'!$B$4,"Vence hoy: comprobar",IF(F10<='Parámetros'!$B$4+'Parámetros'!$B$5,"Urgente: comprobar",IF(F10<='Parámetros'!$B$4+'Parámetros'!$B$6,"Próxima: revisar","En plazo")))))))) | P10: ='Parámetros'!B10
A11: FIC-OP-26-007 | B11: 46346 | C11: Viajero ficticio Eta | D11: Estancia ficticia Mirto | E11: 46272 | F11: 46284 | G11: 2 | H11: 1540.25 | I11: Proveedor ficticio Cúmulo | J11: Agente ficticia Alba | K11: Pendiente | L11: =IF(OR(A11="",F11=""),"",IFERROR(F11-'Parámetros'!$B$4,"")) | M11: =IF(A11="","",IF(K11="","Revisar estado",IF(OR(K11="Confirmada",K11="Liberada"),IF(K11="Confirmada","Cerrada: confirmada","Cerrada: liberada"),IF(F11="","Revisar fecha límite",IF(F11<'Parámetros'!$B$4,"Vencida: comprobar",IF(F11='Parámetros'!$B$4,"Vence hoy: comprobar",IF(F11<='Parámetros'!$B$4+'Parámetros'!$B$5,"Urgente: comprobar",IF(F11<='Parámetros'!$B$4+'Parámetros'!$B$6,"Próxima: revisar","En plazo")))))))) | P11: =""
A12: FIC-OP-26-008 | B12: 46291 | C12: Viajera ficticia Theta | D12: Ruta ficticia Nácar | E12: 46258 | F12: 46275 | G12: 2 | H12: 1875 | I12: Proveedor ficticio Trébol | J12: Agente ficticio Bruno | K12: Confirmada | L12: =IF(OR(A12="",F12=""),"",IFERROR(F12-'Parámetros'!$B$4,"")) | M12: =IF(A12="","",IF(K12="","Revisar estado",IF(OR(K12="Confirmada",K12="Liberada"),IF(K12="Confirmada","Cerrada: confirmada","Cerrada: liberada"),IF(F12="","Revisar fecha límite",IF(F12<'Parámetros'!$B$4,"Vencida: comprobar",IF(F12='Parámetros'!$B$4,"Vence hoy: comprobar",IF(F12<='Parámetros'!$B$4+'Parámetros'!$B$5,"Urgente: comprobar",IF(F12<='Parámetros'!$B$4+'Parámetros'!$B$6,"Próxima: revisar","En plazo")))))))) | P12: =""
A13: FIC-OP-26-009 | B13: 46286 | C13: Viajero ficticio Iota | D13: Escapada ficticia Álamo | E13: 46265 | F13: 46276 | G13: 1 | H13: 685.9 | I13: Proveedor ficticio Nimbo | J13: Agente ficticia Celia | K13: Liberada | L13: =IF(OR(A13="",F13=""),"",IFERROR(F13-'Parámetros'!$B$4,"")) | M13: =IF(A13="","",IF(K13="","Revisar estado",IF(OR(K13="Confirmada",K13="Liberada"),IF(K13="Confirmada","Cerrada: confirmada","Cerrada: liberada"),IF(F13="","Revisar fecha límite",IF(F13<'Parámetros'!$B$4,"Vencida: comprobar",IF(F13='Parámetros'!$B$4,"Vence hoy: comprobar",IF(F13<='Parámetros'!$B$4+'Parámetros'!$B$5,"Urgente: comprobar",IF(F13<='Parámetros'!$B$4+'Parámetros'!$B$6,"Próxima: revisar","En plazo")))))))) | P13: =""
A14: FIC-OP-26-010 | B14: 46366 | C14: Viajera ficticia Kappa | D14: Circuito ficticio Vela | E14: 46274 | G14: 6 | H14: 8720 | I14: Proveedor ficticio Órbita | J14: Agente ficticia Alba | K14: Pendiente | L14: =IF(OR(A14="",F14=""),"",IFERROR(F14-'Parámetros'!$B$4,"")) | M14: =IF(A14="","",IF(K14="","Revisar estado",IF(OR(K14="Confirmada",K14="Liberada"),IF(K14="Confirmada","Cerrada: confirmada","Cerrada: liberada"),IF(F14="","Revisar fecha límite",IF(F14<'Parámetros'!$B$4,"Vencida: comprobar",IF(F14='Parámetros'!$B$4,"Vence hoy: comprobar",IF(F14<='Parámetros'!$B$4+'Parámetros'!$B$5,"Urgente: comprobar",IF(F14<='Parámetros'!$B$4+'Parámetros'!$B$6,"Próxima: revisar","En plazo")))))))) | P14: =""
L15: =IF(OR(A15="",F15=""),"",IFERROR(F15-'Parámetros'!$B$4,"")) | M15: =IF(A15="","",IF(K15="","Revisar estado",IF(OR(K15="Confirmada",K15="Liberada"),IF(K15="Confirmada","Cerrada: confirmada","Cerrada: liberada"),IF(F15="","Revisar fecha límite",IF(F15<'Parámetros'!$B$4,"Vencida: comprobar",IF(F15='Parámetros'!$B$4,"Vence hoy: comprobar",IF(F15<='Parámetros'!$B$4+'Parámetros'!$B$5,"Urgente: comprobar",IF(F15<='Parámetros'!$B$4+'Parámetros'!$B$6,"Próxima: revisar","En plazo")))))))) | P15: =""
L16: =IF(OR(A16="",F16=""),"",IFERROR(F16-'Parámetros'!$B$4,"")) | M16: =IF(A16="","",IF(K16="","Revisar estado",IF(OR(K16="Confirmada",K16="Liberada"),IF(K16="Confirmada","Cerrada: confirmada","Cerrada: liberada"),IF(F16="","Revisar fecha límite",IF(F16<'Parámetros'!$B$4,"Vencida: comprobar",IF(F16='Parámetros'!$B$4,"Vence hoy: comprobar",IF(F16<='Parámetros'!$B$4+'Parámetros'!$B$5,"Urgente: comprobar",IF(F16<='Parámetros'!$B$4+'Parámetros'!$B$6,"Próxima: revisar","En plazo")))))))) | P16: =""
L17: =IF(OR(A17="",F17=""),"",IFERROR(F17-'Parámetros'!$B$4,"")) | M17: =IF(A17="","",IF(K17="","Revisar estado",IF(OR(K17="Confirmada",K17="Liberada"),IF(K17="Confirmada","Cerrada: confirmada","Cerrada: liberada"),IF(F17="","Revisar fecha límite",IF(F17<'Parámetros'!$B$4,"Vencida: comprobar",IF(F17='Parámetros'!$B$4,"Vence hoy: comprobar",IF(F17<='Parámetros'!$B$4+'Parámetros'!$B$5,"Urgente: comprobar",IF(F17<='Parámetros'!$B$4+'Parámetros'!$B$6,"Próxima: revisar","En plazo")))))))) | P17: =""
L18: =IF(OR(A18="",F18=""),"",IFERROR(F18-'Parámetros'!$B$4,"")) | M18: =IF(A18="","",IF(K18="","Revisar estado",IF(OR(K18="Confirmada",K18="Liberada"),IF(K18="Confirmada","Cerrada: confirmada","Cerrada: liberada"),IF(F18="","Revisar fecha límite",IF(F18<'Parámetros'!$B$4,"Vencida: comprobar",IF(F18='Parámetros'!$B$4,"Vence hoy: comprobar",IF(F18<='Parámetros'!$B$4+'Parámetros'!$B$5,"Urgente: comprobar",IF(F18<='Parámetros'!$B$4+'Parámetros'!$B$6,"Próxima: revisar","En plazo")))))))) | P18: =""
L19: =IF(OR(A19="",F19=""),"",IFERROR(F19-'Parámetros'!$B$4,"")) | M19: =IF(A19="","",IF(K19="","Revisar estado",IF(OR(K19="Confirmada",K19="Liberada"),IF(K19="Confirmada","Cerrada: confirmada","Cerrada: liberada"),IF(F19="","Revisar fecha límite",IF(F19<'Parámetros'!$B$4,"Vencida: comprobar",IF(F19='Parámetros'!$B$4,"Vence hoy: comprobar",IF(F19<='Parámetros'!$B$4+'Parámetros'!$B$5,"Urgente: comprobar",IF(F19<='Parámetros'!$B$4+'Parámetros'!$B$6,"Próxima: revisar","En plazo")))))))) | P19: =""
L20: =IF(OR(A20="",F20=""),"",IFERROR(F20-'Parámetros'!$B$4,"")) | M20: =IF(A20="","",IF(K20="","Revisar estado",IF(OR(K20="Confirmada",K20="Liberada"),IF(K20="Confirmada","Cerrada: confirmada","Cerrada: liberada"),IF(F20="","Revisar fecha límite",IF(F20<'Parámetros'!$B$4,"Vencida: comprobar",IF(F20='Parámetros'!$B$4,"Vence hoy: comprobar",IF(F20<='Parámetros'!$B$4+'Parámetros'!$B$5,"Urgente: comprobar",IF(F20<='Parámetros'!$B$4+'Parámetros'!$B$6,"Próxima: revisar","En plazo")))))))) | P20: =""
L21: =IF(OR(A21="",F21=""),"",IFERROR(F21-'Parámetros'!$B$4,"")) | M21: =IF(A21="","",IF(K21="","Revisar estado",IF(OR(K21="Confirmada",K21="Liberada"),IF(K21="Confirmada","Cerrada: confirmada","Cerrada: liberada"),IF(F21="","Revisar fecha límite",IF(F21<'Parámetros'!$B$4,"Vencida: comprobar",IF(F21='Parámetros'!$B$4,"Vence hoy: comprobar",IF(F21<='Parámetros'!$B$4+'Parámetros'!$B$5,"Urgente: comprobar",IF(F21<='Parámetros'!$B$4+'Parámetros'!$B$6,"Próxima: revisar","En plazo")))))))) | P21: =""
L22: =IF(OR(A22="",F22=""),"",IFERROR(F22-'Parámetros'!$B$4,"")) | M22: =IF(A22="","",IF(K22="","Revisar estado",IF(OR(K22="Confirmada",K22="Liberada"),IF(K22="Confirmada","Cerrada: confirmada","Cerrada: liberada"),IF(F22="","Revisar fecha límite",IF(F22<'Parámetros'!$B$4,"Vencida: comprobar",IF(F22='Parámetros'!$B$4,"Vence hoy: comprobar",IF(F22<='Parámetros'!$B$4+'Parámetros'!$B$5,"Urgente: comprobar",IF(F22<='Parámetros'!$B$4+'Parámetros'!$B$6,"Próxima: revisar","En plazo")))))))) | P22: =""
L23: =IF(OR(A23="",F23=""),"",IFERROR(F23-'Parámetros'!$B$4,"")) | M23: =IF(A23="","",IF(K23="","Revisar estado",IF(OR(K23="Confirmada",K23="Liberada"),IF(K23="Confirmada","Cerrada: confirmada","Cerrada: liberada"),IF(F23="","Revisar fecha límite",IF(F23<'Parámetros'!$B$4,"Vencida: comprobar",IF(F23='Parámetros'!$B$4,"Vence hoy: comprobar",IF(F23<='Parámetros'!$B$4+'Parámetros'!$B$5,"Urgente: comprobar",IF(F23<='Parámetros'!$B$4+'Parámetros'!$B$6,"Próxima: revisar","En plazo")))))))) | P23: =""
L24: =IF(OR(A24="",F24=""),"",IFERROR(F24-'Parámetros'!$B$4,"")) | M24: =IF(A24="","",IF(K24="","Revisar estado",IF(OR(K24="Confirmada",K24="Liberada"),IF(K24="Confirmada","Cerrada: confirmada","Cerrada: liberada"),IF(F24="","Revisar fecha límite",IF(F24<'Parámetros'!$B$4,"Vencida: comprobar",IF(F24='Parámetros'!$B$4,"Vence hoy: comprobar",IF(F24<='Parámetros'!$B$4+'Parámetros'!$B$5,"Urgente: comprobar",IF(F24<='Parámetros'!$B$4+'Parámetros'!$B$6,"Próxima: revisar","En plazo")))))))) | P24: =""
L25: =IF(OR(A25="",F25=""),"",IFERROR(F25-'Parámetros'!$B$4,"")) | M25: =IF(A25="","",IF(K25="","Revisar estado",IF(OR(K25="Confirmada",K25="Liberada"),IF(K25="Confirmada","Cerrada: confirmada","Cerrada: liberada"),IF(F25="","Revisar fecha límite",IF(F25<'Parámetros'!$B$4,"Vencida: comprobar",IF(F25='Parámetros'!$B$4,"Vence hoy: comprobar",IF(F25<='Parámetros'!$B$4+'Parámetros'!$B$5,"Urgente: comprobar",IF(F25<='Parámetros'!$B$4+'Parámetros'!$B$6,"Próxima: revisar","En plazo")))))))) | P25: =""
L26: =IF(OR(A26="",F26=""),"",IFERROR(F26-'Parámetros'!$B$4,"")) | M26: =IF(A26="","",IF(K26="","Revisar estado",IF(OR(K26="Confirmada",K26="Liberada"),IF(K26="Confirmada","Cerrada: confirmada","Cerrada: liberada"),IF(F26="","Revisar fecha límite",IF(F26<'Parámetros'!$B$4,"Vencida: comprobar",IF(F26='Parámetros'!$B$4,"Vence hoy: comprobar",IF(F26<='Parámetros'!$B$4+'Parámetros'!$B$5,"Urgente: comprobar",IF(F26<='Parámetros'!$B$4+'Parámetros'!$B$6,"Próxima: revisar","En plazo")))))))) | P26: =""
... L104: =IF(OR(A104="",F104=""),"",IFERROR(F104-'Parámetros'!$B$4,"")) | M104: =IF(A104="","",IF(K104="","Revisar estado",IF(OR(K104="Confirmada",K104="Liberada"),IF(K104="Confirmada","Cerrada: confirmada","Cerrada: liberada"),IF(F104="","Revisar fecha límite",IF(F104<'Parámetros'!$B$4,"Vencida: comprobar",IF(F104='Parámetros'!$B$4,"Vence hoy: comprobar",IF(F104<='Parámetros'!$B$4+'Parámetros'!$B$5,"Urgente: comprobar",IF(F104<='Parámetros'!$B$4+'Parámetros'!$B$6,"Próxima: revisar","En plazo")))))))) | P104: =""

Sheet Parámetros
A1: Parámetros editables del control
A2: Ajuste la fecha de control, los umbrales y los límites internos antes de revisar los avisos.
A3: Supuesto | B3: Valor | C3: Unidad o uso | D3: Estados admitidos
A4: Fecha de control | B4: 46276 | C4: Fecha usada para calcular los avisos | D4: Pendiente
A5: Umbral urgente | B5: 2 | C5: días | D5: En revisión
A6: Umbral próximo | B6: 7 | C6: días; igual o superior al urgente | D6: Confirmada
A7: Máximo de personas | B7: 60 | C7: personas por opción | D7: Liberada
A8: Máximo de importe | B8: 250000 | C8: € por opción
A9: Fecha mínima admisible | B9: 42626 | C9: límite de captura
A10: Fecha máxima admisible | B10: 49926 | C10: límite de captura
