Workbook

Sheet Resumen
A1: Reservas de excursiones | Resumen operativo
A3: Indicador | B3: Resultado | C3: Estado | D3: Reservas
A4: Reservas registradas | B4: =COUNTIF(Reservas!$A$4:$A$103,"<>") | C4: ='Parámetros'!H4 | D4: =COUNTIF(Reservas!$K$4:$K$103,C4)
A5: Reservas confirmadas | B5: =COUNTIF(Reservas!$K$4:$K$103,'Parámetros'!$H$4) | C5: ='Parámetros'!H5 | D5: =COUNTIF(Reservas!$K$4:$K$103,C5)
A6: Personas en reservas activas | B6: =SUMIFS(Reservas!$G$4:$G$103,Reservas!$A$4:$A$103,"<>",Reservas!$K$4:$K$103,"<>"&'Parámetros'!$H$7) | C6: ='Parámetros'!H6 | D6: =COUNTIF(Reservas!$K$4:$K$103,C6)
A7: Importe estimado activo | B7: =SUMIFS(Reservas!$H$4:$H$103,Reservas!$A$4:$A$103,"<>",Reservas!$K$4:$K$103,"<>"&'Parámetros'!$H$7) | C7: ='Parámetros'!H7 | D7: =COUNTIF(Reservas!$K$4:$K$103,C7)
A8: Pendientes o en espera | B8: =COUNTIF(Reservas!$K$4:$K$103,'Parámetros'!$H$5)+COUNTIF(Reservas!$K$4:$K$103,'Parámetros'!$H$6)
A9: Registros que requieren comprobación | B9: =COUNTIF(Reservas!$O$4:$O$103,"Comprobar*")+COUNTIF(Reservas!$O$4:$O$103,"Completar*")
A10: Reservas próximas en el horizonte | B10: =COUNTIFS(Reservas!$E$4:$E$103,">="&TODAY(),Reservas!$E$4:$E$103,"<="&TODAY()+'Parámetros'!$B$17,Reservas!$A$4:$A$103,"<>",Reservas!$K$4:$K$103,"<>"&'Parámetros'!$H$7)
A11: Importe estimado medio por persona | B11: =IFERROR(SUMIFS(Reservas!$H$4:$H$103,Reservas!$A$4:$A$103,"<>",Reservas!$K$4:$K$103,"<>"&'Parámetros'!$H$7)/SUMIFS(Reservas!$G$4:$G$103,Reservas!$A$4:$A$103,"<>",Reservas!$K$4:$K$103,"<>"&'Parámetros'!$H$7),"")
A12: Primera fecha registrada | B12: =IF(COUNT(Reservas!$E$4:$E$103)=0,"",MIN(Reservas!$E$4:INDEX(Reservas!$E:$E,103)))
A13: Última fecha registrada | B13: =IF(COUNT(Reservas!$E$4:$E$103)=0,"",MAX(Reservas!$E$4:INDEX(Reservas!$E:$E,103)))

Sheet Reservas
A1: Reservas de excursiones | Registro operativo
A2: Entradas editables en crema. Los viajeros, empresas, servicios, localizadores y transacciones de muestra son ficticios. | Q2: =IFERROR('Parámetros'!A4,"") | R2: =IFERROR('Parámetros'!D4,"") | S2: =IFERROR('Parámetros'!F4,"") | T2: =IFERROR('Parámetros'!H4,"") | U2: =IFERROR('Parámetros'!J4,"") | V2: ='Parámetros'!B13 | W2: ='Parámetros'!B14 | X2: ='Parámetros'!B15 | Y2: ='Parámetros'!B16 | Z2: ='Parámetros'!B18 | AA2: ='Parámetros'!H4
A3: Expediente | B3: Salida | C3: Viajero o grupo | D3: Servicio | E3: Fecha | F3: Turno | G3: Cantidad (personas) | H3: Importe estimado (€) | I3: Proveedor | J3: Responsable | K3: Estado | L3: Capacidad (personas) | M3: Reservado activo (personas) | N3: Disponible (personas) | O3: Aviso | Q3: =IFERROR('Parámetros'!A5,"") | R3: =IFERROR('Parámetros'!D5,"") | S3: =IFERROR('Parámetros'!F5,"") | T3: =IFERROR('Parámetros'!H5,"") | U3: =IFERROR('Parámetros'!J5,"")
A4: FIC-EXP-0001 | B4: FIC-SAL-001 | C4: Grupo Ficticio Azahar | D4: Ruta imaginaria de la Sierra | E4: 46283 | F4: Mañana | G4: 8 | H4: 240 | I4: Proveedor Ficticio Boreal | J4: Agente ficticio Alba | K4: Confirmada | L4: =IF(OR(A4="",D4=""),"",IFERROR(VLOOKUP(D4,'Parámetros'!$A$4:$B$9,2,FALSE),"")) | M4: =IF(B4="","",SUMIFS($G$4:$G$103,$B$4:$B$103,B4,$K$4:$K$103,"<>"&'Parámetros'!$H$7)) | N4: =IF(OR(B4="",L4="",M4=""),"",L4-M4) | O4: =IF(A4="","",IF(COUNTIF($A$4:$A$103,A4)>1,"Comprobar expediente duplicado",IF(OR(B4="",C4="",D4="",E4="",F4="",G4="",H4="",I4="",J4="",K4=""),"Completar datos",IF(L4="","Comprobar capacidad del servicio",IF(COUNTIFS($B$4:$B$103,B4,$D$4:$D$103,"<>"&D4)+COUNTIFS($B$4:$B$103,B4,$E$4:$E$103,"<>"&E4)+COUNTIFS($B$4:$B$103,B4,$F$4:$F$103,"<>"&F4)>0,"Comprobar datos de salida",IFERROR(IF(N4<0,"Comprobar exceso de capacidad",IF(N4<=$Z$2,"Comprobar disponibilidad baja",IF(OR(K4='Parámetros'!$H$5,K4='Parámetros'!$H$6),"Comprobar confirmación","Sin aviso"))),"Comprobar datos")))))) | Q4: =IFERROR('Parámetros'!A6,"") | R4: =IFERROR('Parámetros'!D6,"") | S4: =IFERROR('Parámetros'!F6,"") | T4: =IFERROR('Parámetros'!H6,"") | U4: =IFERROR('Parámetros'!J6,"")
A5: FIC-EXP-0002 | B5: FIC-SAL-001 | C5: Viajera Ficticia Vega | D5: Ruta imaginaria de la Sierra | E5: 46283 | F5: Mañana | G5: 7 | H5: 210 | I5: Proveedor Ficticio Boreal | J5: Agente ficticio Bruno | K5: Pendiente | L5: =IF(OR(A5="",D5=""),"",IFERROR(VLOOKUP(D5,'Parámetros'!$A$4:$B$9,2,FALSE),"")) | M5: =IF(B5="","",SUMIFS($G$4:$G$103,$B$4:$B$103,B5,$K$4:$K$103,"<>"&'Parámetros'!$H$7)) | N5: =IF(OR(B5="",L5="",M5=""),"",L5-M5) | O5: =IF(A5="","",IF(COUNTIF($A$4:$A$103,A5)>1,"Comprobar expediente duplicado",IF(OR(B5="",C5="",D5="",E5="",F5="",G5="",H5="",I5="",J5="",K5=""),"Completar datos",IF(L5="","Comprobar capacidad del servicio",IF(COUNTIFS($B$4:$B$103,B5,$D$4:$D$103,"<>"&D5)+COUNTIFS($B$4:$B$103,B5,$E$4:$E$103,"<>"&E5)+COUNTIFS($B$4:$B$103,B5,$F$4:$F$103,"<>"&F5)>0,"Comprobar datos de salida",IFERROR(IF(N5<0,"Comprobar exceso de capacidad",IF(N5<=$Z$2,"Comprobar disponibilidad baja",IF(OR(K5='Parámetros'!$H$5,K5='Parámetros'!$H$6),"Comprobar confirmación","Sin aviso"))),"Comprobar datos")))))) | Q5: =IFERROR('Parámetros'!A7,"") | R5: =IFERROR('Parámetros'!D7,"") | S5: =IFERROR('Parámetros'!F7,"") | T5: =IFERROR('Parámetros'!H7,"") | U5: =IFERROR('Parámetros'!J7,"")
A6: FIC-EXP-0003 | B6: FIC-SAL-002 | C6: Familia Inventada Brisa | D6: Paseo ficticio por la costa | E6: 46286 | F6: Tarde | G6: 6 | H6: 150 | I6: Servicios de Muestra Litoral | J6: Agente ficticio Carmen | K6: Confirmada | L6: =IF(OR(A6="",D6=""),"",IFERROR(VLOOKUP(D6,'Parámetros'!$A$4:$B$9,2,FALSE),"")) | M6: =IF(B6="","",SUMIFS($G$4:$G$103,$B$4:$B$103,B6,$K$4:$K$103,"<>"&'Parámetros'!$H$7)) | N6: =IF(OR(B6="",L6="",M6=""),"",L6-M6) | O6: =IF(A6="","",IF(COUNTIF($A$4:$A$103,A6)>1,"Comprobar expediente duplicado",IF(OR(B6="",C6="",D6="",E6="",F6="",G6="",H6="",I6="",J6="",K6=""),"Completar datos",IF(L6="","Comprobar capacidad del servicio",IF(COUNTIFS($B$4:$B$103,B6,$D$4:$D$103,"<>"&D6)+COUNTIFS($B$4:$B$103,B6,$E$4:$E$103,"<>"&E6)+COUNTIFS($B$4:$B$103,B6,$F$4:$F$103,"<>"&F6)>0,"Comprobar datos de salida",IFERROR(IF(N6<0,"Comprobar exceso de capacidad",IF(N6<=$Z$2,"Comprobar disponibilidad baja",IF(OR(K6='Parámetros'!$H$5,K6='Parámetros'!$H$6),"Comprobar confirmación","Sin aviso"))),"Comprobar datos")))))) | Q6: =IFERROR('Parámetros'!A8,"") | R6: =IFERROR('Parámetros'!D8,"") | S6: =IFERROR('Parámetros'!F8,"") | T6: ="" | U6: =""
A7: FIC-EXP-0004 | B7: FIC-SAL-002 | C7: Grupo de Muestra Nube | D7: Paseo ficticio por la costa | E7: 46286 | F7: Tarde | G7: 7 | H7: 175 | I7: Servicios de Muestra Litoral | J7: Agente ficticio Carmen | K7: En espera | L7: =IF(OR(A7="",D7=""),"",IFERROR(VLOOKUP(D7,'Parámetros'!$A$4:$B$9,2,FALSE),"")) | M7: =IF(B7="","",SUMIFS($G$4:$G$103,$B$4:$B$103,B7,$K$4:$K$103,"<>"&'Parámetros'!$H$7)) | N7: =IF(OR(B7="",L7="",M7=""),"",L7-M7) | O7: =IF(A7="","",IF(COUNTIF($A$4:$A$103,A7)>1,"Comprobar expediente duplicado",IF(OR(B7="",C7="",D7="",E7="",F7="",G7="",H7="",I7="",J7="",K7=""),"Completar datos",IF(L7="","Comprobar capacidad del servicio",IF(COUNTIFS($B$4:$B$103,B7,$D$4:$D$103,"<>"&D7)+COUNTIFS($B$4:$B$103,B7,$E$4:$E$103,"<>"&E7)+COUNTIFS($B$4:$B$103,B7,$F$4:$F$103,"<>"&F7)>0,"Comprobar datos de salida",IFERROR(IF(N7<0,"Comprobar exceso de capacidad",IF(N7<=$Z$2,"Comprobar disponibilidad baja",IF(OR(K7='Parámetros'!$H$5,K7='Parámetros'!$H$6),"Comprobar confirmación","Sin aviso"))),"Comprobar datos")))))) | Q7: =IFERROR('Parámetros'!A9,"") | R7: =IFERROR('Parámetros'!D9,"") | S7: ="" | T7: ="" | U7: =""
A8: FIC-EXP-0005 | B8: FIC-SAL-003 | C8: Viajero Ficticio Lino | D8: Visita monumental de muestra | E8: 46290 | F8: Mañana | G8: 10 | H8: 300 | I8: Operador Inventado Turquesa | J8: Agente ficticio Alba | K8: Confirmada | L8: =IF(OR(A8="",D8=""),"",IFERROR(VLOOKUP(D8,'Parámetros'!$A$4:$B$9,2,FALSE),"")) | M8: =IF(B8="","",SUMIFS($G$4:$G$103,$B$4:$B$103,B8,$K$4:$K$103,"<>"&'Parámetros'!$H$7)) | N8: =IF(OR(B8="",L8="",M8=""),"",L8-M8) | O8: =IF(A8="","",IF(COUNTIF($A$4:$A$103,A8)>1,"Comprobar expediente duplicado",IF(OR(B8="",C8="",D8="",E8="",F8="",G8="",H8="",I8="",J8="",K8=""),"Completar datos",IF(L8="","Comprobar capacidad del servicio",IF(COUNTIFS($B$4:$B$103,B8,$D$4:$D$103,"<>"&D8)+COUNTIFS($B$4:$B$103,B8,$E$4:$E$103,"<>"&E8)+COUNTIFS($B$4:$B$103,B8,$F$4:$F$103,"<>"&F8)>0,"Comprobar datos de salida",IFERROR(IF(N8<0,"Comprobar exceso de capacidad",IF(N8<=$Z$2,"Comprobar disponibilidad baja",IF(OR(K8='Parámetros'!$H$5,K8='Parámetros'!$H$6),"Comprobar confirmación","Sin aviso"))),"Comprobar datos")))))) | Q8: ="" | R8: ="" | S8: ="" | T8: ="" | U8: =""
A9: FIC-EXP-0006 | B9: FIC-SAL-003 | C9: Familia Simulada Faro | D9: Visita monumental de muestra | E9: 46290 | F9: Mañana | G9: 5 | H9: 125 | I9: Operador Inventado Turquesa | J9: Agente ficticio Darío | K9: Pendiente | L9: =IF(OR(A9="",D9=""),"",IFERROR(VLOOKUP(D9,'Parámetros'!$A$4:$B$9,2,FALSE),"")) | M9: =IF(B9="","",SUMIFS($G$4:$G$103,$B$4:$B$103,B9,$K$4:$K$103,"<>"&'Parámetros'!$H$7)) | N9: =IF(OR(B9="",L9="",M9=""),"",L9-M9) | O9: =IF(A9="","",IF(COUNTIF($A$4:$A$103,A9)>1,"Comprobar expediente duplicado",IF(OR(B9="",C9="",D9="",E9="",F9="",G9="",H9="",I9="",J9="",K9=""),"Completar datos",IF(L9="","Comprobar capacidad del servicio",IF(COUNTIFS($B$4:$B$103,B9,$D$4:$D$103,"<>"&D9)+COUNTIFS($B$4:$B$103,B9,$E$4:$E$103,"<>"&E9)+COUNTIFS($B$4:$B$103,B9,$F$4:$F$103,"<>"&F9)>0,"Comprobar datos de salida",IFERROR(IF(N9<0,"Comprobar exceso de capacidad",IF(N9<=$Z$2,"Comprobar disponibilidad baja",IF(OR(K9='Parámetros'!$H$5,K9='Parámetros'!$H$6),"Comprobar confirmación","Sin aviso"))),"Comprobar datos")))))) | Q9: ="" | R9: ="" | S9: ="" | T9: ="" | U9: =""
A10: FIC-EXP-0007 | B10: FIC-SAL-004 | C10: Grupo Inventado Olmo | D10: Taller gastronómico inventado | E10: 46296 | F10: Tarde | G10: 4 | H10: 0 | I10: Excursiones Simuladas Encina | J10: Agente ficticio Elena | K10: Cancelada | L10: =IF(OR(A10="",D10=""),"",IFERROR(VLOOKUP(D10,'Parámetros'!$A$4:$B$9,2,FALSE),"")) | M10: =IF(B10="","",SUMIFS($G$4:$G$103,$B$4:$B$103,B10,$K$4:$K$103,"<>"&'Parámetros'!$H$7)) | N10: =IF(OR(B10="",L10="",M10=""),"",L10-M10) | O10: =IF(A10="","",IF(COUNTIF($A$4:$A$103,A10)>1,"Comprobar expediente duplicado",IF(OR(B10="",C10="",D10="",E10="",F10="",G10="",H10="",I10="",J10="",K10=""),"Completar datos",IF(L10="","Comprobar capacidad del servicio",IF(COUNTIFS($B$4:$B$103,B10,$D$4:$D$103,"<>"&D10)+COUNTIFS($B$4:$B$103,B10,$E$4:$E$103,"<>"&E10)+COUNTIFS($B$4:$B$103,B10,$F$4:$F$103,"<>"&F10)>0,"Comprobar datos de salida",IFERROR(IF(N10<0,"Comprobar exceso de capacidad",IF(N10<=$Z$2,"Comprobar disponibilidad baja",IF(OR(K10='Parámetros'!$H$5,K10='Parámetros'!$H$6),"Comprobar confirmación","Sin aviso"))),"Comprobar datos")))))) | Q10: ="" | R10: ="" | S10: ="" | T10: ="" | U10: =""
A11: FIC-EXP-0008 | B11: FIC-SAL-004 | C11: Viajera de Muestra Iris | D11: Taller gastronómico inventado | E11: 46296 | F11: Tarde | G11: 6 | H11: 135 | I11: Excursiones Simuladas Encina | J11: Agente ficticio Elena | K11: Confirmada | L11: =IF(OR(A11="",D11=""),"",IFERROR(VLOOKUP(D11,'Parámetros'!$A$4:$B$9,2,FALSE),"")) | M11: =IF(B11="","",SUMIFS($G$4:$G$103,$B$4:$B$103,B11,$K$4:$K$103,"<>"&'Parámetros'!$H$7)) | N11: =IF(OR(B11="",L11="",M11=""),"",L11-M11) | O11: =IF(A11="","",IF(COUNTIF($A$4:$A$103,A11)>1,"Comprobar expediente duplicado",IF(OR(B11="",C11="",D11="",E11="",F11="",G11="",H11="",I11="",J11="",K11=""),"Completar datos",IF(L11="","Comprobar capacidad del servicio",IF(COUNTIFS($B$4:$B$103,B11,$D$4:$D$103,"<>"&D11)+COUNTIFS($B$4:$B$103,B11,$E$4:$E$103,"<>"&E11)+COUNTIFS($B$4:$B$103,B11,$F$4:$F$103,"<>"&F11)>0,"Comprobar datos de salida",IFERROR(IF(N11<0,"Comprobar exceso de capacidad",IF(N11<=$Z$2,"Comprobar disponibilidad baja",IF(OR(K11='Parámetros'!$H$5,K11='Parámetros'!$H$6),"Comprobar confirmación","Sin aviso"))),"Comprobar datos")))))) | Q11: ="" | R11: ="" | S11: ="" | T11: ="" | U11: =""
A12: FIC-EXP-0009 | B12: FIC-SAL-005 | C12: Grupo Ficticio Duna | D12: Travesía ficticia en barco | E12: 46306 | F12: Atardecer | G12: 16 | H12: 640 | I12: Proveedor Ficticio Horizonte | J12: Agente ficticio Bruno | K12: Confirmada | L12: =IF(OR(A12="",D12=""),"",IFERROR(VLOOKUP(D12,'Parámetros'!$A$4:$B$9,2,FALSE),"")) | M12: =IF(B12="","",SUMIFS($G$4:$G$103,$B$4:$B$103,B12,$K$4:$K$103,"<>"&'Parámetros'!$H$7)) | N12: =IF(OR(B12="",L12="",M12=""),"",L12-M12) | O12: =IF(A12="","",IF(COUNTIF($A$4:$A$103,A12)>1,"Comprobar expediente duplicado",IF(OR(B12="",C12="",D12="",E12="",F12="",G12="",H12="",I12="",J12="",K12=""),"Completar datos",IF(L12="","Comprobar capacidad del servicio",IF(COUNTIFS($B$4:$B$103,B12,$D$4:$D$103,"<>"&D12)+COUNTIFS($B$4:$B$103,B12,$E$4:$E$103,"<>"&E12)+COUNTIFS($B$4:$B$103,B12,$F$4:$F$103,"<>"&F12)>0,"Comprobar datos de salida",IFERROR(IF(N12<0,"Comprobar exceso de capacidad",IF(N12<=$Z$2,"Comprobar disponibilidad baja",IF(OR(K12='Parámetros'!$H$5,K12='Parámetros'!$H$6),"Comprobar confirmación","Sin aviso"))),"Comprobar datos")))))) | Q12: ="" | R12: ="" | S12: ="" | T12: ="" | U12: =""
A13: FIC-EXP-0010 | B13: FIC-SAL-006 | C13: Viajero Simulado Teo | D13: Sendero rural simulado | E13: 46321 | F13: Mañana | G13: 1 | H13: 28 | I13: Operador de Prueba Naranja | J13: Agente ficticio Darío | K13: Pendiente | L13: =IF(OR(A13="",D13=""),"",IFERROR(VLOOKUP(D13,'Parámetros'!$A$4:$B$9,2,FALSE),"")) | M13: =IF(B13="","",SUMIFS($G$4:$G$103,$B$4:$B$103,B13,$K$4:$K$103,"<>"&'Parámetros'!$H$7)) | N13: =IF(OR(B13="",L13="",M13=""),"",L13-M13) | O13: =IF(A13="","",IF(COUNTIF($A$4:$A$103,A13)>1,"Comprobar expediente duplicado",IF(OR(B13="",C13="",D13="",E13="",F13="",G13="",H13="",I13="",J13="",K13=""),"Completar datos",IF(L13="","Comprobar capacidad del servicio",IF(COUNTIFS($B$4:$B$103,B13,$D$4:$D$103,"<>"&D13)+COUNTIFS($B$4:$B$103,B13,$E$4:$E$103,"<>"&E13)+COUNTIFS($B$4:$B$103,B13,$F$4:$F$103,"<>"&F13)>0,"Comprobar datos de salida",IFERROR(IF(N13<0,"Comprobar exceso de capacidad",IF(N13<=$Z$2,"Comprobar disponibilidad baja",IF(OR(K13='Parámetros'!$H$5,K13='Parámetros'!$H$6),"Comprobar confirmación","Sin aviso"))),"Comprobar datos")))))) | Q13: ="" | R13: ="" | S13: ="" | T13: ="" | U13: =""
L14: =IF(OR(A14="",D14=""),"",IFERROR(VLOOKUP(D14,'Parámetros'!$A$4:$B$9,2,FALSE),"")) | M14: =IF(B14="","",SUMIFS($G$4:$G$103,$B$4:$B$103,B14,$K$4:$K$103,"<>"&'Parámetros'!$H$7)) | N14: =IF(OR(B14="",L14="",M14=""),"",L14-M14) | O14: =IF(A14="","",IF(COUNTIF($A$4:$A$103,A14)>1,"Comprobar expediente duplicado",IF(OR(B14="",C14="",D14="",E14="",F14="",G14="",H14="",I14="",J14="",K14=""),"Completar datos",IF(L14="","Comprobar capacidad del servicio",IF(COUNTIFS($B$4:$B$103,B14,$D$4:$D$103,"<>"&D14)+COUNTIFS($B$4:$B$103,B14,$E$4:$E$103,"<>"&E14)+COUNTIFS($B$4:$B$103,B14,$F$4:$F$103,"<>"&F14)>0,"Comprobar datos de salida",IFERROR(IF(N14<0,"Comprobar exceso de capacidad",IF(N14<=$Z$2,"Comprobar disponibilidad baja",IF(OR(K14='Parámetros'!$H$5,K14='Parámetros'!$H$6),"Comprobar confirmación","Sin aviso"))),"Comprobar datos")))))) | Q14: ="" | R14: ="" | S14: ="" | T14: ="" | U14: =""
L15: =IF(OR(A15="",D15=""),"",IFERROR(VLOOKUP(D15,'Parámetros'!$A$4:$B$9,2,FALSE),"")) | M15: =IF(B15="","",SUMIFS($G$4:$G$103,$B$4:$B$103,B15,$K$4:$K$103,"<>"&'Parámetros'!$H$7)) | N15: =IF(OR(B15="",L15="",M15=""),"",L15-M15) | O15: =IF(A15="","",IF(COUNTIF($A$4:$A$103,A15)>1,"Comprobar expediente duplicado",IF(OR(B15="",C15="",D15="",E15="",F15="",G15="",H15="",I15="",J15="",K15=""),"Completar datos",IF(L15="","Comprobar capacidad del servicio",IF(COUNTIFS($B$4:$B$103,B15,$D$4:$D$103,"<>"&D15)+COUNTIFS($B$4:$B$103,B15,$E$4:$E$103,"<>"&E15)+COUNTIFS($B$4:$B$103,B15,$F$4:$F$103,"<>"&F15)>0,"Comprobar datos de salida",IFERROR(IF(N15<0,"Comprobar exceso de capacidad",IF(N15<=$Z$2,"Comprobar disponibilidad baja",IF(OR(K15='Parámetros'!$H$5,K15='Parámetros'!$H$6),"Comprobar confirmación","Sin aviso"))),"Comprobar datos")))))) | Q15: ="" | R15: ="" | S15: ="" | T15: ="" | U15: =""
L16: =IF(OR(A16="",D16=""),"",IFERROR(VLOOKUP(D16,'Parámetros'!$A$4:$B$9,2,FALSE),"")) | M16: =IF(B16="","",SUMIFS($G$4:$G$103,$B$4:$B$103,B16,$K$4:$K$103,"<>"&'Parámetros'!$H$7)) | N16: =IF(OR(B16="",L16="",M16=""),"",L16-M16) | O16: =IF(A16="","",IF(COUNTIF($A$4:$A$103,A16)>1,"Comprobar expediente duplicado",IF(OR(B16="",C16="",D16="",E16="",F16="",G16="",H16="",I16="",J16="",K16=""),"Completar datos",IF(L16="","Comprobar capacidad del servicio",IF(COUNTIFS($B$4:$B$103,B16,$D$4:$D$103,"<>"&D16)+COUNTIFS($B$4:$B$103,B16,$E$4:$E$103,"<>"&E16)+COUNTIFS($B$4:$B$103,B16,$F$4:$F$103,"<>"&F16)>0,"Comprobar datos de salida",IFERROR(IF(N16<0,"Comprobar exceso de capacidad",IF(N16<=$Z$2,"Comprobar disponibilidad baja",IF(OR(K16='Parámetros'!$H$5,K16='Parámetros'!$H$6),"Comprobar confirmación","Sin aviso"))),"Comprobar datos")))))) | Q16: ="" | R16: ="" | S16: ="" | T16: ="" | U16: =""
L17: =IF(OR(A17="",D17=""),"",IFERROR(VLOOKUP(D17,'Parámetros'!$A$4:$B$9,2,FALSE),"")) | M17: =IF(B17="","",SUMIFS($G$4:$G$103,$B$4:$B$103,B17,$K$4:$K$103,"<>"&'Parámetros'!$H$7)) | N17: =IF(OR(B17="",L17="",M17=""),"",L17-M17) | O17: =IF(A17="","",IF(COUNTIF($A$4:$A$103,A17)>1,"Comprobar expediente duplicado",IF(OR(B17="",C17="",D17="",E17="",F17="",G17="",H17="",I17="",J17="",K17=""),"Completar datos",IF(L17="","Comprobar capacidad del servicio",IF(COUNTIFS($B$4:$B$103,B17,$D$4:$D$103,"<>"&D17)+COUNTIFS($B$4:$B$103,B17,$E$4:$E$103,"<>"&E17)+COUNTIFS($B$4:$B$103,B17,$F$4:$F$103,"<>"&F17)>0,"Comprobar datos de salida",IFERROR(IF(N17<0,"Comprobar exceso de capacidad",IF(N17<=$Z$2,"Comprobar disponibilidad baja",IF(OR(K17='Parámetros'!$H$5,K17='Parámetros'!$H$6),"Comprobar confirmación","Sin aviso"))),"Comprobar datos")))))) | Q17: ="" | R17: ="" | S17: ="" | T17: ="" | U17: =""
L18: =IF(OR(A18="",D18=""),"",IFERROR(VLOOKUP(D18,'Parámetros'!$A$4:$B$9,2,FALSE),"")) | M18: =IF(B18="","",SUMIFS($G$4:$G$103,$B$4:$B$103,B18,$K$4:$K$103,"<>"&'Parámetros'!$H$7)) | N18: =IF(OR(B18="",L18="",M18=""),"",L18-M18) | O18: =IF(A18="","",IF(COUNTIF($A$4:$A$103,A18)>1,"Comprobar expediente duplicado",IF(OR(B18="",C18="",D18="",E18="",F18="",G18="",H18="",I18="",J18="",K18=""),"Completar datos",IF(L18="","Comprobar capacidad del servicio",IF(COUNTIFS($B$4:$B$103,B18,$D$4:$D$103,"<>"&D18)+COUNTIFS($B$4:$B$103,B18,$E$4:$E$103,"<>"&E18)+COUNTIFS($B$4:$B$103,B18,$F$4:$F$103,"<>"&F18)>0,"Comprobar datos de salida",IFERROR(IF(N18<0,"Comprobar exceso de capacidad",IF(N18<=$Z$2,"Comprobar disponibilidad baja",IF(OR(K18='Parámetros'!$H$5,K18='Parámetros'!$H$6),"Comprobar confirmación","Sin aviso"))),"Comprobar datos")))))) | Q18: ="" | R18: ="" | S18: ="" | T18: ="" | U18: =""
L19: =IF(OR(A19="",D19=""),"",IFERROR(VLOOKUP(D19,'Parámetros'!$A$4:$B$9,2,FALSE),"")) | M19: =IF(B19="","",SUMIFS($G$4:$G$103,$B$4:$B$103,B19,$K$4:$K$103,"<>"&'Parámetros'!$H$7)) | N19: =IF(OR(B19="",L19="",M19=""),"",L19-M19) | O19: =IF(A19="","",IF(COUNTIF($A$4:$A$103,A19)>1,"Comprobar expediente duplicado",IF(OR(B19="",C19="",D19="",E19="",F19="",G19="",H19="",I19="",J19="",K19=""),"Completar datos",IF(L19="","Comprobar capacidad del servicio",IF(COUNTIFS($B$4:$B$103,B19,$D$4:$D$103,"<>"&D19)+COUNTIFS($B$4:$B$103,B19,$E$4:$E$103,"<>"&E19)+COUNTIFS($B$4:$B$103,B19,$F$4:$F$103,"<>"&F19)>0,"Comprobar datos de salida",IFERROR(IF(N19<0,"Comprobar exceso de capacidad",IF(N19<=$Z$2,"Comprobar disponibilidad baja",IF(OR(K19='Parámetros'!$H$5,K19='Parámetros'!$H$6),"Comprobar confirmación","Sin aviso"))),"Comprobar datos")))))) | Q19: ="" | R19: ="" | S19: ="" | T19: ="" | U19: =""
L20: =IF(OR(A20="",D20=""),"",IFERROR(VLOOKUP(D20,'Parámetros'!$A$4:$B$9,2,FALSE),"")) | M20: =IF(B20="","",SUMIFS($G$4:$G$103,$B$4:$B$103,B20,$K$4:$K$103,"<>"&'Parámetros'!$H$7)) | N20: =IF(OR(B20="",L20="",M20=""),"",L20-M20) | O20: =IF(A20="","",IF(COUNTIF($A$4:$A$103,A20)>1,"Comprobar expediente duplicado",IF(OR(B20="",C20="",D20="",E20="",F20="",G20="",H20="",I20="",J20="",K20=""),"Completar datos",IF(L20="","Comprobar capacidad del servicio",IF(COUNTIFS($B$4:$B$103,B20,$D$4:$D$103,"<>"&D20)+COUNTIFS($B$4:$B$103,B20,$E$4:$E$103,"<>"&E20)+COUNTIFS($B$4:$B$103,B20,$F$4:$F$103,"<>"&F20)>0,"Comprobar datos de salida",IFERROR(IF(N20<0,"Comprobar exceso de capacidad",IF(N20<=$Z$2,"Comprobar disponibilidad baja",IF(OR(K20='Parámetros'!$H$5,K20='Parámetros'!$H$6),"Comprobar confirmación","Sin aviso"))),"Comprobar datos")))))) | Q20: ="" | R20: ="" | S20: ="" | T20: ="" | U20: =""
L21: =IF(OR(A21="",D21=""),"",IFERROR(VLOOKUP(D21,'Parámetros'!$A$4:$B$9,2,FALSE),"")) | M21: =IF(B21="","",SUMIFS($G$4:$G$103,$B$4:$B$103,B21,$K$4:$K$103,"<>"&'Parámetros'!$H$7)) | N21: =IF(OR(B21="",L21="",M21=""),"",L21-M21) | O21: =IF(A21="","",IF(COUNTIF($A$4:$A$103,A21)>1,"Comprobar expediente duplicado",IF(OR(B21="",C21="",D21="",E21="",F21="",G21="",H21="",I21="",J21="",K21=""),"Completar datos",IF(L21="","Comprobar capacidad del servicio",IF(COUNTIFS($B$4:$B$103,B21,$D$4:$D$103,"<>"&D21)+COUNTIFS($B$4:$B$103,B21,$E$4:$E$103,"<>"&E21)+COUNTIFS($B$4:$B$103,B21,$F$4:$F$103,"<>"&F21)>0,"Comprobar datos de salida",IFERROR(IF(N21<0,"Comprobar exceso de capacidad",IF(N21<=$Z$2,"Comprobar disponibilidad baja",IF(OR(K21='Parámetros'!$H$5,K21='Parámetros'!$H$6),"Comprobar confirmación","Sin aviso"))),"Comprobar datos")))))) | Q21: ="" | R21: ="" | S21: ="" | T21: ="" | U21: =""
L22: =IF(OR(A22="",D22=""),"",IFERROR(VLOOKUP(D22,'Parámetros'!$A$4:$B$9,2,FALSE),"")) | M22: =IF(B22="","",SUMIFS($G$4:$G$103,$B$4:$B$103,B22,$K$4:$K$103,"<>"&'Parámetros'!$H$7)) | N22: =IF(OR(B22="",L22="",M22=""),"",L22-M22) | O22: =IF(A22="","",IF(COUNTIF($A$4:$A$103,A22)>1,"Comprobar expediente duplicado",IF(OR(B22="",C22="",D22="",E22="",F22="",G22="",H22="",I22="",J22="",K22=""),"Completar datos",IF(L22="","Comprobar capacidad del servicio",IF(COUNTIFS($B$4:$B$103,B22,$D$4:$D$103,"<>"&D22)+COUNTIFS($B$4:$B$103,B22,$E$4:$E$103,"<>"&E22)+COUNTIFS($B$4:$B$103,B22,$F$4:$F$103,"<>"&F22)>0,"Comprobar datos de salida",IFERROR(IF(N22<0,"Comprobar exceso de capacidad",IF(N22<=$Z$2,"Comprobar disponibilidad baja",IF(OR(K22='Parámetros'!$H$5,K22='Parámetros'!$H$6),"Comprobar confirmación","Sin aviso"))),"Comprobar datos")))))) | Q22: ="" | R22: ="" | S22: ="" | T22: ="" | U22: =""
L23: =IF(OR(A23="",D23=""),"",IFERROR(VLOOKUP(D23,'Parámetros'!$A$4:$B$9,2,FALSE),"")) | M23: =IF(B23="","",SUMIFS($G$4:$G$103,$B$4:$B$103,B23,$K$4:$K$103,"<>"&'Parámetros'!$H$7)) | N23: =IF(OR(B23="",L23="",M23=""),"",L23-M23) | O23: =IF(A23="","",IF(COUNTIF($A$4:$A$103,A23)>1,"Comprobar expediente duplicado",IF(OR(B23="",C23="",D23="",E23="",F23="",G23="",H23="",I23="",J23="",K23=""),"Completar datos",IF(L23="","Comprobar capacidad del servicio",IF(COUNTIFS($B$4:$B$103,B23,$D$4:$D$103,"<>"&D23)+COUNTIFS($B$4:$B$103,B23,$E$4:$E$103,"<>"&E23)+COUNTIFS($B$4:$B$103,B23,$F$4:$F$103,"<>"&F23)>0,"Comprobar datos de salida",IFERROR(IF(N23<0,"Comprobar exceso de capacidad",IF(N23<=$Z$2,"Comprobar disponibilidad baja",IF(OR(K23='Parámetros'!$H$5,K23='Parámetros'!$H$6),"Comprobar confirmación","Sin aviso"))),"Comprobar datos")))))) | Q23: ="" | R23: ="" | S23: ="" | T23: ="" | U23: =""
L24: =IF(OR(A24="",D24=""),"",IFERROR(VLOOKUP(D24,'Parámetros'!$A$4:$B$9,2,FALSE),"")) | M24: =IF(B24="","",SUMIFS($G$4:$G$103,$B$4:$B$103,B24,$K$4:$K$103,"<>"&'Parámetros'!$H$7)) | N24: =IF(OR(B24="",L24="",M24=""),"",L24-M24) | O24: =IF(A24="","",IF(COUNTIF($A$4:$A$103,A24)>1,"Comprobar expediente duplicado",IF(OR(B24="",C24="",D24="",E24="",F24="",G24="",H24="",I24="",J24="",K24=""),"Completar datos",IF(L24="","Comprobar capacidad del servicio",IF(COUNTIFS($B$4:$B$103,B24,$D$4:$D$103,"<>"&D24)+COUNTIFS($B$4:$B$103,B24,$E$4:$E$103,"<>"&E24)+COUNTIFS($B$4:$B$103,B24,$F$4:$F$103,"<>"&F24)>0,"Comprobar datos de salida",IFERROR(IF(N24<0,"Comprobar exceso de capacidad",IF(N24<=$Z$2,"Comprobar disponibilidad baja",IF(OR(K24='Parámetros'!$H$5,K24='Parámetros'!$H$6),"Comprobar confirmación","Sin aviso"))),"Comprobar datos")))))) | Q24: ="" | R24: ="" | S24: ="" | T24: ="" | U24: =""
L25: =IF(OR(A25="",D25=""),"",IFERROR(VLOOKUP(D25,'Parámetros'!$A$4:$B$9,2,FALSE),"")) | M25: =IF(B25="","",SUMIFS($G$4:$G$103,$B$4:$B$103,B25,$K$4:$K$103,"<>"&'Parámetros'!$H$7)) | N25: =IF(OR(B25="",L25="",M25=""),"",L25-M25) | O25: =IF(A25="","",IF(COUNTIF($A$4:$A$103,A25)>1,"Comprobar expediente duplicado",IF(OR(B25="",C25="",D25="",E25="",F25="",G25="",H25="",I25="",J25="",K25=""),"Completar datos",IF(L25="","Comprobar capacidad del servicio",IF(COUNTIFS($B$4:$B$103,B25,$D$4:$D$103,"<>"&D25)+COUNTIFS($B$4:$B$103,B25,$E$4:$E$103,"<>"&E25)+COUNTIFS($B$4:$B$103,B25,$F$4:$F$103,"<>"&F25)>0,"Comprobar datos de salida",IFERROR(IF(N25<0,"Comprobar exceso de capacidad",IF(N25<=$Z$2,"Comprobar disponibilidad baja",IF(OR(K25='Parámetros'!$H$5,K25='Parámetros'!$H$6),"Comprobar confirmación","Sin aviso"))),"Comprobar datos")))))) | Q25: ="" | R25: ="" | S25: ="" | T25: ="" | U25: =""
... L103: =IF(OR(A103="",D103=""),"",IFERROR(VLOOKUP(D103,'Parámetros'!$A$4:$B$9,2,FALSE),"")) | M103: =IF(B103="","",SUMIFS($G$4:$G$103,$B$4:$B$103,B103,$K$4:$K$103,"<>"&'Parámetros'!$H$7)) | N103: =IF(OR(B103="",L103="",M103=""),"",L103-M103) | O103: =IF(A103="","",IF(COUNTIF($A$4:$A$103,A103)>1,"Comprobar expediente duplicado",IF(OR(B103="",C103="",D103="",E103="",F103="",G103="",H103="",I103="",J103="",K103=""),"Completar datos",IF(L103="","Comprobar capacidad del servicio",IF(COUNTIFS($B$4:$B$103,B103,$D$4:$D$103,"<>"&D103)+COUNTIFS($B$4:$B$103,B103,$E$4:$E$103,"<>"&E103)+COUNTIFS($B$4:$B$103,B103,$F$4:$F$103,"<>"&F103)>0,"Comprobar datos de salida",IFERROR(IF(N103<0,"Comprobar exceso de capacidad",IF(N103<=$Z$2,"Comprobar disponibilidad baja",IF(OR(K103='Parámetros'!$H$5,K103='Parámetros'!$H$6),"Comprobar confirmación","Sin aviso"))),"Comprobar datos")))))) | Q103: ="" | R103: ="" | S103: ="" | T103: ="" | U103: =""

Sheet Parámetros
A1: Parámetros editables de reservas de excursiones
A2: Supuestos operativos editables. Compruebe manualmente capacidades, fechas e importes antes de confirmar. Todos los ejemplos son ficticios.
A3: Servicio ficticio | B3: Capacidad orientativa | D3: Proveedor ficticio | F3: Responsable ficticio | H3: Estado | J3: Turno
A4: Ruta imaginaria de la Sierra | B4: 18 | D4: Proveedor Ficticio Boreal | F4: Agente ficticio Alba | H4: Confirmada | J4: Mañana
A5: Paseo ficticio por la costa | B5: 12 | D5: Operador Inventado Turquesa | F5: Agente ficticio Bruno | H5: Pendiente | J5: Mediodía
A6: Visita monumental de muestra | B6: 20 | D6: Servicios de Muestra Litoral | F6: Agente ficticio Carmen | H6: En espera | J6: Tarde
A7: Taller gastronómico inventado | B7: 10 | D7: Excursiones Simuladas Encina | F7: Agente ficticio Darío | H7: Cancelada | J7: Atardecer
A8: Travesía ficticia en barco | B8: 16 | D8: Proveedor Ficticio Horizonte | F8: Agente ficticio Elena
A9: Sendero rural simulado | B9: 14 | D9: Operador de Prueba Naranja
A12: Límite editable | B12: Valor
A13: Fecha mínima admitida | B13: 45911
A14: Fecha máxima admitida | B14: 47006
A15: Máximo de participantes por reserva | B15: 50
A16: Importe máximo orientativo (€) | B16: 10000
A17: Horizonte de próximas salidas (días) | B17: 30
A18: Umbral de disponibilidad baja (personas) | B18: 2
