Workbook

Sheet Resumen
A1: Resumen del registro de cambios de reserva
A3: Indicador | B3: Resultado | D3: Estado de aplicación | E3: Cambios
A4: Total de cambios registrados | B4: =COUNTIF(Cambios!$A$8:$A$127,"<>") | D4: Pendiente | E4: =COUNTIFS(Cambios!$A$8:$A$127,"<>",Cambios!$L$8:$L$127,D4)
A5: Pendientes de aprobación | B5: =IF($B$4=0,"",COUNTIFS(Cambios!$A$8:$A$127,"<>",Cambios!$K$8:$K$127,"Pendiente")) | D5: Aplicado | E5: =COUNTIFS(Cambios!$A$8:$A$127,"<>",Cambios!$L$8:$L$127,D5)
A6: Pendientes de aplicación | B6: =IF($B$4=0,"",COUNTIFS(Cambios!$A$8:$A$127,"<>",Cambios!$L$8:$L$127,"Pendiente")) | D6: Cancelado | E6: =COUNTIFS(Cambios!$A$8:$A$127,"<>",Cambios!$L$8:$L$127,D6)
A7: Cambios aplicados | B7: =IF($B$4=0,"",COUNTIFS(Cambios!$A$8:$A$127,"<>",Cambios!$L$8:$L$127,"Aplicado"))
A8: Registros con aviso para revisión | B8: =IF($B$4=0,"",COUNTIFS(Cambios!$A$8:$A$127,"<>",Cambios!$Q$8:$Q$127,"<>"))
A9: Importe previsto acumulado | B9: =IF(COUNT(Cambios!$H$8:$H$127)=0,"",SUM(Cambios!$H$8:$H$127))
A10: Importe final registrado | B10: =IF(COUNT(Cambios!$N$8:$N$127)=0,"",SUM(Cambios!$N$8:$N$127))
A11: Variación acumulada registrada | B11: =IF(COUNT(Cambios!$O$8:$O$127)=0,"",SUM(Cambios!$O$8:$O$127))
A12: Porcentaje de cambios aplicados | B12: =IFERROR($B$7/$B$4,"")
A13: Salidas próximas pendientes de aplicación | B13: =IF($B$4=0,"",COUNTIFS(Cambios!$A$8:$A$127,"<>",Cambios!$C$8:$C$127,">="&TODAY(),Cambios!$C$8:$C$127,"<="&TODAY()+'Parámetros'!$B$5,Cambios!$L$8:$L$127,"Pendiente"))

Sheet Cambios
A1: Registro de cambios de reserva
A3: Filas preparadas | B3: 120 | D3: Umbral de revisión | E3: ='Parámetros'!B4 | G3: Aviso de salida | H3: ='Parámetros'!B5 | J3: Límites y listas | K3: Hoja Parámetros
A4: Las celdas crema son editables. Los avisos solicitan una revisión manual del registro.
A7: Expediente | B7: Fecha de solicitud | C7: Fecha de salida | D7: Viajero | E7: Servicio | F7: Detalle del cambio solicitado | G7: Cantidad afectada | H7: Importe previsto (€) | I7: Proveedor | J7: Responsable | K7: Aprobación | L7: Aplicación | M7: Fecha de aplicación | N7: Importe final (€) | O7: Variación (€) | P7: Días hasta salida | Q7: Aviso para revisión
A8: EXP-FICT-2026-001 | B8: 46256 | C8: 46321 | D8: Viajero ficticio Ámbar | E8: Alojamiento | F8: Añadir una noche al alojamiento | G8: 1 | H8: 120 | I8: Proveedor ficticio Brújula | J8: Responsable ficticia Iris | K8: Aprobado | L8: Aplicado | M8: 46259 | N8: 135 | O8: =IF($A8="","",IF(AND(ISNUMBER($H8),ISNUMBER($N8)),$N8-$H8,"")) | P8: =IF(OR($A8="",NOT(ISNUMBER($C8))),"",$C8-TODAY()) | Q8: =IF($A8="","",IF(OR(NOT(ISNUMBER($B8)),NOT(ISNUMBER($C8))),"Completar fechas",IF(OR($D8="",$E8="",$F8="",$I8="",$J8="",$K8="",$L8="",NOT(ISNUMBER($G8)),NOT(ISNUMBER($H8))),"Completar datos",IF($C8<$B8,"Revisar fechas",IF(AND($L8="Aplicado",NOT(ISNUMBER($M8))),"Falta fecha de aplicación",IF(AND($L8="Aplicado",NOT(ISNUMBER($N8))),"Falta importe final",IF(AND($L8<>"Aplicado",ISNUMBER($M8)),"Revisar fecha de aplicación",IF(AND($K8="Rechazado",$L8<>"Cancelado"),"Revisar estados",IF(AND($H8>=$Y$8,$K8="Pendiente"),"Revisar aprobación",IF(AND($P8<=$Z$8,$P8>=0,$L8="Pendiente"),"Salida próxima: comprobar",IF(AND($P8<0,$L8="Pendiente"),"Salida pasada: comprobar",""))))))))))) | R8: =IFERROR(INDEX('Parámetros'!$E$4:$E$8,1),"") | S8: =IFERROR(INDEX('Parámetros'!$F$4:$F$7,1),"") | T8: =IFERROR(INDEX('Parámetros'!$G$4:$G$6,1),"") | U8: ='Parámetros'!B6 | V8: ='Parámetros'!B7 | W8: ='Parámetros'!B8 | X8: ='Parámetros'!B9 | Y8: ='Parámetros'!B4 | Z8: ='Parámetros'!B5
A9: EXP-FICT-2026-002 | B9: 46266 | C9: 46286 | D9: Viajero ficticio Cobalto | E9: Transporte | F9: Cambiar dos plazas a otro horario | G9: 2 | H9: 280 | I9: Proveedor ficticio Andén | J9: Responsable ficticio Nilo | K9: Aprobado | L9: Pendiente | O9: =IF($A9="","",IF(AND(ISNUMBER($H9),ISNUMBER($N9)),$N9-$H9,"")) | P9: =IF(OR($A9="",NOT(ISNUMBER($C9))),"",$C9-TODAY()) | Q9: =IF($A9="","",IF(OR(NOT(ISNUMBER($B9)),NOT(ISNUMBER($C9))),"Completar fechas",IF(OR($D9="",$E9="",$F9="",$I9="",$J9="",$K9="",$L9="",NOT(ISNUMBER($G9)),NOT(ISNUMBER($H9))),"Completar datos",IF($C9<$B9,"Revisar fechas",IF(AND($L9="Aplicado",NOT(ISNUMBER($M9))),"Falta fecha de aplicación",IF(AND($L9="Aplicado",NOT(ISNUMBER($N9))),"Falta importe final",IF(AND($L9<>"Aplicado",ISNUMBER($M9)),"Revisar fecha de aplicación",IF(AND($K9="Rechazado",$L9<>"Cancelado"),"Revisar estados",IF(AND($H9>=$Y$8,$K9="Pendiente"),"Revisar aprobación",IF(AND($P9<=$Z$8,$P9>=0,$L9="Pendiente"),"Salida próxima: comprobar",IF(AND($P9<0,$L9="Pendiente"),"Salida pasada: comprobar",""))))))))))) | R9: =IFERROR(INDEX('Parámetros'!$E$4:$E$8,2),"") | S9: =IFERROR(INDEX('Parámetros'!$F$4:$F$7,2),"") | T9: =IFERROR(INDEX('Parámetros'!$G$4:$G$6,2),"")
A10: EXP-FICT-2026-003 | B10: 46271 | C10: 46279 | D10: Viajera ficticia Dalia | E10: Alojamiento | F10: Sustituir una habitación por categoría superior | G10: 1 | H10: 340 | I10: Proveedor ficticio Mirador | J10: Responsable ficticia Vega | K10: Pendiente | L10: Pendiente | O10: =IF($A10="","",IF(AND(ISNUMBER($H10),ISNUMBER($N10)),$N10-$H10,"")) | P10: =IF(OR($A10="",NOT(ISNUMBER($C10))),"",$C10-TODAY()) | Q10: =IF($A10="","",IF(OR(NOT(ISNUMBER($B10)),NOT(ISNUMBER($C10))),"Completar fechas",IF(OR($D10="",$E10="",$F10="",$I10="",$J10="",$K10="",$L10="",NOT(ISNUMBER($G10)),NOT(ISNUMBER($H10))),"Completar datos",IF($C10<$B10,"Revisar fechas",IF(AND($L10="Aplicado",NOT(ISNUMBER($M10))),"Falta fecha de aplicación",IF(AND($L10="Aplicado",NOT(ISNUMBER($N10))),"Falta importe final",IF(AND($L10<>"Aplicado",ISNUMBER($M10)),"Revisar fecha de aplicación",IF(AND($K10="Rechazado",$L10<>"Cancelado"),"Revisar estados",IF(AND($H10>=$Y$8,$K10="Pendiente"),"Revisar aprobación",IF(AND($P10<=$Z$8,$P10>=0,$L10="Pendiente"),"Salida próxima: comprobar",IF(AND($P10<0,$L10="Pendiente"),"Salida pasada: comprobar",""))))))))))) | R10: =IFERROR(INDEX('Parámetros'!$E$4:$E$8,3),"") | S10: =IFERROR(INDEX('Parámetros'!$F$4:$F$7,3),"") | T10: =IFERROR(INDEX('Parámetros'!$G$4:$G$6,3),"")
A11: EXP-FICT-2026-004 | B11: 46256 | C11: 46336 | D11: Viajero ficticio Estaño | E11: Traslado | F11: Anular un trayecto de traslado | G11: 1 | H11: 0 | I11: Proveedor ficticio Sendero | J11: Responsable ficticio Lino | K11: No requerida | L11: Aplicado | M11: 46259 | N11: 0 | O11: =IF($A11="","",IF(AND(ISNUMBER($H11),ISNUMBER($N11)),$N11-$H11,"")) | P11: =IF(OR($A11="",NOT(ISNUMBER($C11))),"",$C11-TODAY()) | Q11: =IF($A11="","",IF(OR(NOT(ISNUMBER($B11)),NOT(ISNUMBER($C11))),"Completar fechas",IF(OR($D11="",$E11="",$F11="",$I11="",$J11="",$K11="",$L11="",NOT(ISNUMBER($G11)),NOT(ISNUMBER($H11))),"Completar datos",IF($C11<$B11,"Revisar fechas",IF(AND($L11="Aplicado",NOT(ISNUMBER($M11))),"Falta fecha de aplicación",IF(AND($L11="Aplicado",NOT(ISNUMBER($N11))),"Falta importe final",IF(AND($L11<>"Aplicado",ISNUMBER($M11)),"Revisar fecha de aplicación",IF(AND($K11="Rechazado",$L11<>"Cancelado"),"Revisar estados",IF(AND($H11>=$Y$8,$K11="Pendiente"),"Revisar aprobación",IF(AND($P11<=$Z$8,$P11>=0,$L11="Pendiente"),"Salida próxima: comprobar",IF(AND($P11<0,$L11="Pendiente"),"Salida pasada: comprobar",""))))))))))) | R11: =IFERROR(INDEX('Parámetros'!$E$4:$E$8,4),"") | S11: =IFERROR(INDEX('Parámetros'!$F$4:$F$7,4),"") | T11: =IFERROR(INDEX('Parámetros'!$G$4:$G$6,4),"")
A12: EXP-FICT-2026-005 | B12: 46251 | C12: 46366 | D12: Viajera ficticia Fucsia | E12: Actividad | F12: Cambiar el horario para cuatro personas | G12: 4 | H12: 40 | I12: Proveedor ficticio Linterna | J12: Responsable ficticia Sira | K12: Rechazado | L12: Cancelado | O12: =IF($A12="","",IF(AND(ISNUMBER($H12),ISNUMBER($N12)),$N12-$H12,"")) | P12: =IF(OR($A12="",NOT(ISNUMBER($C12))),"",$C12-TODAY()) | Q12: =IF($A12="","",IF(OR(NOT(ISNUMBER($B12)),NOT(ISNUMBER($C12))),"Completar fechas",IF(OR($D12="",$E12="",$F12="",$I12="",$J12="",$K12="",$L12="",NOT(ISNUMBER($G12)),NOT(ISNUMBER($H12))),"Completar datos",IF($C12<$B12,"Revisar fechas",IF(AND($L12="Aplicado",NOT(ISNUMBER($M12))),"Falta fecha de aplicación",IF(AND($L12="Aplicado",NOT(ISNUMBER($N12))),"Falta importe final",IF(AND($L12<>"Aplicado",ISNUMBER($M12)),"Revisar fecha de aplicación",IF(AND($K12="Rechazado",$L12<>"Cancelado"),"Revisar estados",IF(AND($H12>=$Y$8,$K12="Pendiente"),"Revisar aprobación",IF(AND($P12<=$Z$8,$P12>=0,$L12="Pendiente"),"Salida próxima: comprobar",IF(AND($P12<0,$L12="Pendiente"),"Salida pasada: comprobar",""))))))))))) | R12: =IFERROR(INDEX('Parámetros'!$E$4:$E$8,5),"") | S12: =IFERROR(INDEX('Parámetros'!$F$4:$F$7,5),"") | T12: =IFERROR(INDEX('Parámetros'!$G$4:$G$6,5),"")
A13: EXP-FICT-2026-006 | B13: 46273 | C13: 46278 | D13: Viajero ficticio Granate | E13: Seguro | F13: Corregir datos de una persona en el servicio | G13: 1 | H13: 15 | I13: Proveedor ficticio Nube | J13: Responsable ficticio Elio | K13: Aprobado | L13: Pendiente | O13: =IF($A13="","",IF(AND(ISNUMBER($H13),ISNUMBER($N13)),$N13-$H13,"")) | P13: =IF(OR($A13="",NOT(ISNUMBER($C13))),"",$C13-TODAY()) | Q13: =IF($A13="","",IF(OR(NOT(ISNUMBER($B13)),NOT(ISNUMBER($C13))),"Completar fechas",IF(OR($D13="",$E13="",$F13="",$I13="",$J13="",$K13="",$L13="",NOT(ISNUMBER($G13)),NOT(ISNUMBER($H13))),"Completar datos",IF($C13<$B13,"Revisar fechas",IF(AND($L13="Aplicado",NOT(ISNUMBER($M13))),"Falta fecha de aplicación",IF(AND($L13="Aplicado",NOT(ISNUMBER($N13))),"Falta importe final",IF(AND($L13<>"Aplicado",ISNUMBER($M13)),"Revisar fecha de aplicación",IF(AND($K13="Rechazado",$L13<>"Cancelado"),"Revisar estados",IF(AND($H13>=$Y$8,$K13="Pendiente"),"Revisar aprobación",IF(AND($P13<=$Z$8,$P13>=0,$L13="Pendiente"),"Salida próxima: comprobar",IF(AND($P13<0,$L13="Pendiente"),"Salida pasada: comprobar",""))))))))))) | R13: =IFERROR(INDEX('Parámetros'!$E$4:$E$8,6),"") | S13: =IFERROR(INDEX('Parámetros'!$F$4:$F$7,6),"") | T13: =IFERROR(INDEX('Parámetros'!$G$4:$G$6,6),"")
A14: EXP-FICT-2026-007 | B14: 46236 | C14: 46271 | D14: Viajera ficticia Hiedra | E14: Alojamiento | F14: Reducir una noche del alojamiento | G14: 1 | H14: 75 | I14: Proveedor ficticio Faro | J14: Responsable ficticia Menta | K14: Aprobado | L14: Pendiente | O14: =IF($A14="","",IF(AND(ISNUMBER($H14),ISNUMBER($N14)),$N14-$H14,"")) | P14: =IF(OR($A14="",NOT(ISNUMBER($C14))),"",$C14-TODAY()) | Q14: =IF($A14="","",IF(OR(NOT(ISNUMBER($B14)),NOT(ISNUMBER($C14))),"Completar fechas",IF(OR($D14="",$E14="",$F14="",$I14="",$J14="",$K14="",$L14="",NOT(ISNUMBER($G14)),NOT(ISNUMBER($H14))),"Completar datos",IF($C14<$B14,"Revisar fechas",IF(AND($L14="Aplicado",NOT(ISNUMBER($M14))),"Falta fecha de aplicación",IF(AND($L14="Aplicado",NOT(ISNUMBER($N14))),"Falta importe final",IF(AND($L14<>"Aplicado",ISNUMBER($M14)),"Revisar fecha de aplicación",IF(AND($K14="Rechazado",$L14<>"Cancelado"),"Revisar estados",IF(AND($H14>=$Y$8,$K14="Pendiente"),"Revisar aprobación",IF(AND($P14<=$Z$8,$P14>=0,$L14="Pendiente"),"Salida próxima: comprobar",IF(AND($P14<0,$L14="Pendiente"),"Salida pasada: comprobar",""))))))))))) | R14: =IFERROR(INDEX('Parámetros'!$E$4:$E$8,7),"") | S14: =IFERROR(INDEX('Parámetros'!$F$4:$F$7,7),"") | T14: =IFERROR(INDEX('Parámetros'!$G$4:$G$6,7),"")
A15: EXP-FICT-2026-008 | B15: 46276 | C15: 46476 | D15: Viajero ficticio Índigo | E15: Transporte | F15: Cambiar dos plazas de clase | G15: 2 | H15: 850 | I15: Proveedor ficticio Cometa | J15: Responsable ficticio Tilo | K15: Pendiente | L15: Pendiente | O15: =IF($A15="","",IF(AND(ISNUMBER($H15),ISNUMBER($N15)),$N15-$H15,"")) | P15: =IF(OR($A15="",NOT(ISNUMBER($C15))),"",$C15-TODAY()) | Q15: =IF($A15="","",IF(OR(NOT(ISNUMBER($B15)),NOT(ISNUMBER($C15))),"Completar fechas",IF(OR($D15="",$E15="",$F15="",$I15="",$J15="",$K15="",$L15="",NOT(ISNUMBER($G15)),NOT(ISNUMBER($H15))),"Completar datos",IF($C15<$B15,"Revisar fechas",IF(AND($L15="Aplicado",NOT(ISNUMBER($M15))),"Falta fecha de aplicación",IF(AND($L15="Aplicado",NOT(ISNUMBER($N15))),"Falta importe final",IF(AND($L15<>"Aplicado",ISNUMBER($M15)),"Revisar fecha de aplicación",IF(AND($K15="Rechazado",$L15<>"Cancelado"),"Revisar estados",IF(AND($H15>=$Y$8,$K15="Pendiente"),"Revisar aprobación",IF(AND($P15<=$Z$8,$P15>=0,$L15="Pendiente"),"Salida próxima: comprobar",IF(AND($P15<0,$L15="Pendiente"),"Salida pasada: comprobar",""))))))))))) | R15: =IFERROR(INDEX('Parámetros'!$E$4:$E$8,8),"") | S15: =IFERROR(INDEX('Parámetros'!$F$4:$F$7,8),"") | T15: =IFERROR(INDEX('Parámetros'!$G$4:$G$6,8),"")
A16: EXP-FICT-2026-009 | B16: 46261 | C16: 46306 | D16: Viajera ficticia Jade | E16: Traslado | F16: Añadir una persona al traslado | G16: 1 | H16: 95 | I16: Proveedor ficticio Trébol | J16: Responsable ficticia Aura | K16: Aprobado | L16: Aplicado | M16: 46264 | N16: 100 | O16: =IF($A16="","",IF(AND(ISNUMBER($H16),ISNUMBER($N16)),$N16-$H16,"")) | P16: =IF(OR($A16="",NOT(ISNUMBER($C16))),"",$C16-TODAY()) | Q16: =IF($A16="","",IF(OR(NOT(ISNUMBER($B16)),NOT(ISNUMBER($C16))),"Completar fechas",IF(OR($D16="",$E16="",$F16="",$I16="",$J16="",$K16="",$L16="",NOT(ISNUMBER($G16)),NOT(ISNUMBER($H16))),"Completar datos",IF($C16<$B16,"Revisar fechas",IF(AND($L16="Aplicado",NOT(ISNUMBER($M16))),"Falta fecha de aplicación",IF(AND($L16="Aplicado",NOT(ISNUMBER($N16))),"Falta importe final",IF(AND($L16<>"Aplicado",ISNUMBER($M16)),"Revisar fecha de aplicación",IF(AND($K16="Rechazado",$L16<>"Cancelado"),"Revisar estados",IF(AND($H16>=$Y$8,$K16="Pendiente"),"Revisar aprobación",IF(AND($P16<=$Z$8,$P16>=0,$L16="Pendiente"),"Salida próxima: comprobar",IF(AND($P16<0,$L16="Pendiente"),"Salida pasada: comprobar",""))))))))))) | R16: =IFERROR(INDEX('Parámetros'!$E$4:$E$8,9),"") | S16: =IFERROR(INDEX('Parámetros'!$F$4:$F$7,9),"") | T16: =IFERROR(INDEX('Parámetros'!$G$4:$G$6,9),"")
A17: EXP-FICT-2026-010 | B17: 46275 | C17: 46284 | D17: Viajero ficticio Kermés | E17: Actividad | F17: Reducir una plaza en la actividad | G17: 1 | H17: 50 | I17: Proveedor ficticio Prisma | J17: Responsable ficticio Olmo | K17: Aprobado | L17: Aplicado | M17: 46276 | N17: 45 | O17: =IF($A17="","",IF(AND(ISNUMBER($H17),ISNUMBER($N17)),$N17-$H17,"")) | P17: =IF(OR($A17="",NOT(ISNUMBER($C17))),"",$C17-TODAY()) | Q17: =IF($A17="","",IF(OR(NOT(ISNUMBER($B17)),NOT(ISNUMBER($C17))),"Completar fechas",IF(OR($D17="",$E17="",$F17="",$I17="",$J17="",$K17="",$L17="",NOT(ISNUMBER($G17)),NOT(ISNUMBER($H17))),"Completar datos",IF($C17<$B17,"Revisar fechas",IF(AND($L17="Aplicado",NOT(ISNUMBER($M17))),"Falta fecha de aplicación",IF(AND($L17="Aplicado",NOT(ISNUMBER($N17))),"Falta importe final",IF(AND($L17<>"Aplicado",ISNUMBER($M17)),"Revisar fecha de aplicación",IF(AND($K17="Rechazado",$L17<>"Cancelado"),"Revisar estados",IF(AND($H17>=$Y$8,$K17="Pendiente"),"Revisar aprobación",IF(AND($P17<=$Z$8,$P17>=0,$L17="Pendiente"),"Salida próxima: comprobar",IF(AND($P17<0,$L17="Pendiente"),"Salida pasada: comprobar",""))))))))))) | R17: =IFERROR(INDEX('Parámetros'!$E$4:$E$8,10),"") | S17: =IFERROR(INDEX('Parámetros'!$F$4:$F$7,10),"") | T17: =IFERROR(INDEX('Parámetros'!$G$4:$G$6,10),"")
O18: =IF($A18="","",IF(AND(ISNUMBER($H18),ISNUMBER($N18)),$N18-$H18,"")) | P18: =IF(OR($A18="",NOT(ISNUMBER($C18))),"",$C18-TODAY()) | Q18: =IF($A18="","",IF(OR(NOT(ISNUMBER($B18)),NOT(ISNUMBER($C18))),"Completar fechas",IF(OR($D18="",$E18="",$F18="",$I18="",$J18="",$K18="",$L18="",NOT(ISNUMBER($G18)),NOT(ISNUMBER($H18))),"Completar datos",IF($C18<$B18,"Revisar fechas",IF(AND($L18="Aplicado",NOT(ISNUMBER($M18))),"Falta fecha de aplicación",IF(AND($L18="Aplicado",NOT(ISNUMBER($N18))),"Falta importe final",IF(AND($L18<>"Aplicado",ISNUMBER($M18)),"Revisar fecha de aplicación",IF(AND($K18="Rechazado",$L18<>"Cancelado"),"Revisar estados",IF(AND($H18>=$Y$8,$K18="Pendiente"),"Revisar aprobación",IF(AND($P18<=$Z$8,$P18>=0,$L18="Pendiente"),"Salida próxima: comprobar",IF(AND($P18<0,$L18="Pendiente"),"Salida pasada: comprobar",""))))))))))) | R18: =IFERROR(INDEX('Parámetros'!$E$4:$E$8,11),"") | S18: =IFERROR(INDEX('Parámetros'!$F$4:$F$7,11),"") | T18: =IFERROR(INDEX('Parámetros'!$G$4:$G$6,11),"")
O19: =IF($A19="","",IF(AND(ISNUMBER($H19),ISNUMBER($N19)),$N19-$H19,"")) | P19: =IF(OR($A19="",NOT(ISNUMBER($C19))),"",$C19-TODAY()) | Q19: =IF($A19="","",IF(OR(NOT(ISNUMBER($B19)),NOT(ISNUMBER($C19))),"Completar fechas",IF(OR($D19="",$E19="",$F19="",$I19="",$J19="",$K19="",$L19="",NOT(ISNUMBER($G19)),NOT(ISNUMBER($H19))),"Completar datos",IF($C19<$B19,"Revisar fechas",IF(AND($L19="Aplicado",NOT(ISNUMBER($M19))),"Falta fecha de aplicación",IF(AND($L19="Aplicado",NOT(ISNUMBER($N19))),"Falta importe final",IF(AND($L19<>"Aplicado",ISNUMBER($M19)),"Revisar fecha de aplicación",IF(AND($K19="Rechazado",$L19<>"Cancelado"),"Revisar estados",IF(AND($H19>=$Y$8,$K19="Pendiente"),"Revisar aprobación",IF(AND($P19<=$Z$8,$P19>=0,$L19="Pendiente"),"Salida próxima: comprobar",IF(AND($P19<0,$L19="Pendiente"),"Salida pasada: comprobar",""))))))))))) | R19: =IFERROR(INDEX('Parámetros'!$E$4:$E$8,12),"") | S19: =IFERROR(INDEX('Parámetros'!$F$4:$F$7,12),"") | T19: =IFERROR(INDEX('Parámetros'!$G$4:$G$6,12),"")
O20: =IF($A20="","",IF(AND(ISNUMBER($H20),ISNUMBER($N20)),$N20-$H20,"")) | P20: =IF(OR($A20="",NOT(ISNUMBER($C20))),"",$C20-TODAY()) | Q20: =IF($A20="","",IF(OR(NOT(ISNUMBER($B20)),NOT(ISNUMBER($C20))),"Completar fechas",IF(OR($D20="",$E20="",$F20="",$I20="",$J20="",$K20="",$L20="",NOT(ISNUMBER($G20)),NOT(ISNUMBER($H20))),"Completar datos",IF($C20<$B20,"Revisar fechas",IF(AND($L20="Aplicado",NOT(ISNUMBER($M20))),"Falta fecha de aplicación",IF(AND($L20="Aplicado",NOT(ISNUMBER($N20))),"Falta importe final",IF(AND($L20<>"Aplicado",ISNUMBER($M20)),"Revisar fecha de aplicación",IF(AND($K20="Rechazado",$L20<>"Cancelado"),"Revisar estados",IF(AND($H20>=$Y$8,$K20="Pendiente"),"Revisar aprobación",IF(AND($P20<=$Z$8,$P20>=0,$L20="Pendiente"),"Salida próxima: comprobar",IF(AND($P20<0,$L20="Pendiente"),"Salida pasada: comprobar",""))))))))))) | R20: =IFERROR(INDEX('Parámetros'!$E$4:$E$8,13),"") | S20: =IFERROR(INDEX('Parámetros'!$F$4:$F$7,13),"") | T20: =IFERROR(INDEX('Parámetros'!$G$4:$G$6,13),"")
O21: =IF($A21="","",IF(AND(ISNUMBER($H21),ISNUMBER($N21)),$N21-$H21,"")) | P21: =IF(OR($A21="",NOT(ISNUMBER($C21))),"",$C21-TODAY()) | Q21: =IF($A21="","",IF(OR(NOT(ISNUMBER($B21)),NOT(ISNUMBER($C21))),"Completar fechas",IF(OR($D21="",$E21="",$F21="",$I21="",$J21="",$K21="",$L21="",NOT(ISNUMBER($G21)),NOT(ISNUMBER($H21))),"Completar datos",IF($C21<$B21,"Revisar fechas",IF(AND($L21="Aplicado",NOT(ISNUMBER($M21))),"Falta fecha de aplicación",IF(AND($L21="Aplicado",NOT(ISNUMBER($N21))),"Falta importe final",IF(AND($L21<>"Aplicado",ISNUMBER($M21)),"Revisar fecha de aplicación",IF(AND($K21="Rechazado",$L21<>"Cancelado"),"Revisar estados",IF(AND($H21>=$Y$8,$K21="Pendiente"),"Revisar aprobación",IF(AND($P21<=$Z$8,$P21>=0,$L21="Pendiente"),"Salida próxima: comprobar",IF(AND($P21<0,$L21="Pendiente"),"Salida pasada: comprobar",""))))))))))) | R21: =IFERROR(INDEX('Parámetros'!$E$4:$E$8,14),"") | S21: =IFERROR(INDEX('Parámetros'!$F$4:$F$7,14),"") | T21: =IFERROR(INDEX('Parámetros'!$G$4:$G$6,14),"")
O22: =IF($A22="","",IF(AND(ISNUMBER($H22),ISNUMBER($N22)),$N22-$H22,"")) | P22: =IF(OR($A22="",NOT(ISNUMBER($C22))),"",$C22-TODAY()) | Q22: =IF($A22="","",IF(OR(NOT(ISNUMBER($B22)),NOT(ISNUMBER($C22))),"Completar fechas",IF(OR($D22="",$E22="",$F22="",$I22="",$J22="",$K22="",$L22="",NOT(ISNUMBER($G22)),NOT(ISNUMBER($H22))),"Completar datos",IF($C22<$B22,"Revisar fechas",IF(AND($L22="Aplicado",NOT(ISNUMBER($M22))),"Falta fecha de aplicación",IF(AND($L22="Aplicado",NOT(ISNUMBER($N22))),"Falta importe final",IF(AND($L22<>"Aplicado",ISNUMBER($M22)),"Revisar fecha de aplicación",IF(AND($K22="Rechazado",$L22<>"Cancelado"),"Revisar estados",IF(AND($H22>=$Y$8,$K22="Pendiente"),"Revisar aprobación",IF(AND($P22<=$Z$8,$P22>=0,$L22="Pendiente"),"Salida próxima: comprobar",IF(AND($P22<0,$L22="Pendiente"),"Salida pasada: comprobar",""))))))))))) | R22: =IFERROR(INDEX('Parámetros'!$E$4:$E$8,15),"") | S22: =IFERROR(INDEX('Parámetros'!$F$4:$F$7,15),"") | T22: =IFERROR(INDEX('Parámetros'!$G$4:$G$6,15),"")
O23: =IF($A23="","",IF(AND(ISNUMBER($H23),ISNUMBER($N23)),$N23-$H23,"")) | P23: =IF(OR($A23="",NOT(ISNUMBER($C23))),"",$C23-TODAY()) | Q23: =IF($A23="","",IF(OR(NOT(ISNUMBER($B23)),NOT(ISNUMBER($C23))),"Completar fechas",IF(OR($D23="",$E23="",$F23="",$I23="",$J23="",$K23="",$L23="",NOT(ISNUMBER($G23)),NOT(ISNUMBER($H23))),"Completar datos",IF($C23<$B23,"Revisar fechas",IF(AND($L23="Aplicado",NOT(ISNUMBER($M23))),"Falta fecha de aplicación",IF(AND($L23="Aplicado",NOT(ISNUMBER($N23))),"Falta importe final",IF(AND($L23<>"Aplicado",ISNUMBER($M23)),"Revisar fecha de aplicación",IF(AND($K23="Rechazado",$L23<>"Cancelado"),"Revisar estados",IF(AND($H23>=$Y$8,$K23="Pendiente"),"Revisar aprobación",IF(AND($P23<=$Z$8,$P23>=0,$L23="Pendiente"),"Salida próxima: comprobar",IF(AND($P23<0,$L23="Pendiente"),"Salida pasada: comprobar",""))))))))))) | R23: =IFERROR(INDEX('Parámetros'!$E$4:$E$8,16),"") | S23: =IFERROR(INDEX('Parámetros'!$F$4:$F$7,16),"") | T23: =IFERROR(INDEX('Parámetros'!$G$4:$G$6,16),"")
O24: =IF($A24="","",IF(AND(ISNUMBER($H24),ISNUMBER($N24)),$N24-$H24,"")) | P24: =IF(OR($A24="",NOT(ISNUMBER($C24))),"",$C24-TODAY()) | Q24: =IF($A24="","",IF(OR(NOT(ISNUMBER($B24)),NOT(ISNUMBER($C24))),"Completar fechas",IF(OR($D24="",$E24="",$F24="",$I24="",$J24="",$K24="",$L24="",NOT(ISNUMBER($G24)),NOT(ISNUMBER($H24))),"Completar datos",IF($C24<$B24,"Revisar fechas",IF(AND($L24="Aplicado",NOT(ISNUMBER($M24))),"Falta fecha de aplicación",IF(AND($L24="Aplicado",NOT(ISNUMBER($N24))),"Falta importe final",IF(AND($L24<>"Aplicado",ISNUMBER($M24)),"Revisar fecha de aplicación",IF(AND($K24="Rechazado",$L24<>"Cancelado"),"Revisar estados",IF(AND($H24>=$Y$8,$K24="Pendiente"),"Revisar aprobación",IF(AND($P24<=$Z$8,$P24>=0,$L24="Pendiente"),"Salida próxima: comprobar",IF(AND($P24<0,$L24="Pendiente"),"Salida pasada: comprobar",""))))))))))) | R24: =IFERROR(INDEX('Parámetros'!$E$4:$E$8,17),"") | S24: =IFERROR(INDEX('Parámetros'!$F$4:$F$7,17),"") | T24: =IFERROR(INDEX('Parámetros'!$G$4:$G$6,17),"")
O25: =IF($A25="","",IF(AND(ISNUMBER($H25),ISNUMBER($N25)),$N25-$H25,"")) | P25: =IF(OR($A25="",NOT(ISNUMBER($C25))),"",$C25-TODAY()) | Q25: =IF($A25="","",IF(OR(NOT(ISNUMBER($B25)),NOT(ISNUMBER($C25))),"Completar fechas",IF(OR($D25="",$E25="",$F25="",$I25="",$J25="",$K25="",$L25="",NOT(ISNUMBER($G25)),NOT(ISNUMBER($H25))),"Completar datos",IF($C25<$B25,"Revisar fechas",IF(AND($L25="Aplicado",NOT(ISNUMBER($M25))),"Falta fecha de aplicación",IF(AND($L25="Aplicado",NOT(ISNUMBER($N25))),"Falta importe final",IF(AND($L25<>"Aplicado",ISNUMBER($M25)),"Revisar fecha de aplicación",IF(AND($K25="Rechazado",$L25<>"Cancelado"),"Revisar estados",IF(AND($H25>=$Y$8,$K25="Pendiente"),"Revisar aprobación",IF(AND($P25<=$Z$8,$P25>=0,$L25="Pendiente"),"Salida próxima: comprobar",IF(AND($P25<0,$L25="Pendiente"),"Salida pasada: comprobar",""))))))))))) | R25: =IFERROR(INDEX('Parámetros'!$E$4:$E$8,18),"") | S25: =IFERROR(INDEX('Parámetros'!$F$4:$F$7,18),"") | T25: =IFERROR(INDEX('Parámetros'!$G$4:$G$6,18),"")
O26: =IF($A26="","",IF(AND(ISNUMBER($H26),ISNUMBER($N26)),$N26-$H26,"")) | P26: =IF(OR($A26="",NOT(ISNUMBER($C26))),"",$C26-TODAY()) | Q26: =IF($A26="","",IF(OR(NOT(ISNUMBER($B26)),NOT(ISNUMBER($C26))),"Completar fechas",IF(OR($D26="",$E26="",$F26="",$I26="",$J26="",$K26="",$L26="",NOT(ISNUMBER($G26)),NOT(ISNUMBER($H26))),"Completar datos",IF($C26<$B26,"Revisar fechas",IF(AND($L26="Aplicado",NOT(ISNUMBER($M26))),"Falta fecha de aplicación",IF(AND($L26="Aplicado",NOT(ISNUMBER($N26))),"Falta importe final",IF(AND($L26<>"Aplicado",ISNUMBER($M26)),"Revisar fecha de aplicación",IF(AND($K26="Rechazado",$L26<>"Cancelado"),"Revisar estados",IF(AND($H26>=$Y$8,$K26="Pendiente"),"Revisar aprobación",IF(AND($P26<=$Z$8,$P26>=0,$L26="Pendiente"),"Salida próxima: comprobar",IF(AND($P26<0,$L26="Pendiente"),"Salida pasada: comprobar",""))))))))))) | R26: =IFERROR(INDEX('Parámetros'!$E$4:$E$8,19),"") | S26: =IFERROR(INDEX('Parámetros'!$F$4:$F$7,19),"") | T26: =IFERROR(INDEX('Parámetros'!$G$4:$G$6,19),"")
O27: =IF($A27="","",IF(AND(ISNUMBER($H27),ISNUMBER($N27)),$N27-$H27,"")) | P27: =IF(OR($A27="",NOT(ISNUMBER($C27))),"",$C27-TODAY()) | Q27: =IF($A27="","",IF(OR(NOT(ISNUMBER($B27)),NOT(ISNUMBER($C27))),"Completar fechas",IF(OR($D27="",$E27="",$F27="",$I27="",$J27="",$K27="",$L27="",NOT(ISNUMBER($G27)),NOT(ISNUMBER($H27))),"Completar datos",IF($C27<$B27,"Revisar fechas",IF(AND($L27="Aplicado",NOT(ISNUMBER($M27))),"Falta fecha de aplicación",IF(AND($L27="Aplicado",NOT(ISNUMBER($N27))),"Falta importe final",IF(AND($L27<>"Aplicado",ISNUMBER($M27)),"Revisar fecha de aplicación",IF(AND($K27="Rechazado",$L27<>"Cancelado"),"Revisar estados",IF(AND($H27>=$Y$8,$K27="Pendiente"),"Revisar aprobación",IF(AND($P27<=$Z$8,$P27>=0,$L27="Pendiente"),"Salida próxima: comprobar",IF(AND($P27<0,$L27="Pendiente"),"Salida pasada: comprobar",""))))))))))) | R27: =IFERROR(INDEX('Parámetros'!$E$4:$E$8,20),"") | S27: =IFERROR(INDEX('Parámetros'!$F$4:$F$7,20),"") | T27: =IFERROR(INDEX('Parámetros'!$G$4:$G$6,20),"")
O28: =IF($A28="","",IF(AND(ISNUMBER($H28),ISNUMBER($N28)),$N28-$H28,"")) | P28: =IF(OR($A28="",NOT(ISNUMBER($C28))),"",$C28-TODAY()) | Q28: =IF($A28="","",IF(OR(NOT(ISNUMBER($B28)),NOT(ISNUMBER($C28))),"Completar fechas",IF(OR($D28="",$E28="",$F28="",$I28="",$J28="",$K28="",$L28="",NOT(ISNUMBER($G28)),NOT(ISNUMBER($H28))),"Completar datos",IF($C28<$B28,"Revisar fechas",IF(AND($L28="Aplicado",NOT(ISNUMBER($M28))),"Falta fecha de aplicación",IF(AND($L28="Aplicado",NOT(ISNUMBER($N28))),"Falta importe final",IF(AND($L28<>"Aplicado",ISNUMBER($M28)),"Revisar fecha de aplicación",IF(AND($K28="Rechazado",$L28<>"Cancelado"),"Revisar estados",IF(AND($H28>=$Y$8,$K28="Pendiente"),"Revisar aprobación",IF(AND($P28<=$Z$8,$P28>=0,$L28="Pendiente"),"Salida próxima: comprobar",IF(AND($P28<0,$L28="Pendiente"),"Salida pasada: comprobar",""))))))))))) | R28: =IFERROR(INDEX('Parámetros'!$E$4:$E$8,21),"") | S28: =IFERROR(INDEX('Parámetros'!$F$4:$F$7,21),"") | T28: =IFERROR(INDEX('Parámetros'!$G$4:$G$6,21),"")
O29: =IF($A29="","",IF(AND(ISNUMBER($H29),ISNUMBER($N29)),$N29-$H29,"")) | P29: =IF(OR($A29="",NOT(ISNUMBER($C29))),"",$C29-TODAY()) | Q29: =IF($A29="","",IF(OR(NOT(ISNUMBER($B29)),NOT(ISNUMBER($C29))),"Completar fechas",IF(OR($D29="",$E29="",$F29="",$I29="",$J29="",$K29="",$L29="",NOT(ISNUMBER($G29)),NOT(ISNUMBER($H29))),"Completar datos",IF($C29<$B29,"Revisar fechas",IF(AND($L29="Aplicado",NOT(ISNUMBER($M29))),"Falta fecha de aplicación",IF(AND($L29="Aplicado",NOT(ISNUMBER($N29))),"Falta importe final",IF(AND($L29<>"Aplicado",ISNUMBER($M29)),"Revisar fecha de aplicación",IF(AND($K29="Rechazado",$L29<>"Cancelado"),"Revisar estados",IF(AND($H29>=$Y$8,$K29="Pendiente"),"Revisar aprobación",IF(AND($P29<=$Z$8,$P29>=0,$L29="Pendiente"),"Salida próxima: comprobar",IF(AND($P29<0,$L29="Pendiente"),"Salida pasada: comprobar",""))))))))))) | R29: =IFERROR(INDEX('Parámetros'!$E$4:$E$8,22),"") | S29: =IFERROR(INDEX('Parámetros'!$F$4:$F$7,22),"") | T29: =IFERROR(INDEX('Parámetros'!$G$4:$G$6,22),"")
O30: =IF($A30="","",IF(AND(ISNUMBER($H30),ISNUMBER($N30)),$N30-$H30,"")) | P30: =IF(OR($A30="",NOT(ISNUMBER($C30))),"",$C30-TODAY()) | Q30: =IF($A30="","",IF(OR(NOT(ISNUMBER($B30)),NOT(ISNUMBER($C30))),"Completar fechas",IF(OR($D30="",$E30="",$F30="",$I30="",$J30="",$K30="",$L30="",NOT(ISNUMBER($G30)),NOT(ISNUMBER($H30))),"Completar datos",IF($C30<$B30,"Revisar fechas",IF(AND($L30="Aplicado",NOT(ISNUMBER($M30))),"Falta fecha de aplicación",IF(AND($L30="Aplicado",NOT(ISNUMBER($N30))),"Falta importe final",IF(AND($L30<>"Aplicado",ISNUMBER($M30)),"Revisar fecha de aplicación",IF(AND($K30="Rechazado",$L30<>"Cancelado"),"Revisar estados",IF(AND($H30>=$Y$8,$K30="Pendiente"),"Revisar aprobación",IF(AND($P30<=$Z$8,$P30>=0,$L30="Pendiente"),"Salida próxima: comprobar",IF(AND($P30<0,$L30="Pendiente"),"Salida pasada: comprobar",""))))))))))) | R30: =IFERROR(INDEX('Parámetros'!$E$4:$E$8,23),"") | S30: =IFERROR(INDEX('Parámetros'!$F$4:$F$7,23),"") | T30: =IFERROR(INDEX('Parámetros'!$G$4:$G$6,23),"")
O31: =IF($A31="","",IF(AND(ISNUMBER($H31),ISNUMBER($N31)),$N31-$H31,"")) | P31: =IF(OR($A31="",NOT(ISNUMBER($C31))),"",$C31-TODAY()) | Q31: =IF($A31="","",IF(OR(NOT(ISNUMBER($B31)),NOT(ISNUMBER($C31))),"Completar fechas",IF(OR($D31="",$E31="",$F31="",$I31="",$J31="",$K31="",$L31="",NOT(ISNUMBER($G31)),NOT(ISNUMBER($H31))),"Completar datos",IF($C31<$B31,"Revisar fechas",IF(AND($L31="Aplicado",NOT(ISNUMBER($M31))),"Falta fecha de aplicación",IF(AND($L31="Aplicado",NOT(ISNUMBER($N31))),"Falta importe final",IF(AND($L31<>"Aplicado",ISNUMBER($M31)),"Revisar fecha de aplicación",IF(AND($K31="Rechazado",$L31<>"Cancelado"),"Revisar estados",IF(AND($H31>=$Y$8,$K31="Pendiente"),"Revisar aprobación",IF(AND($P31<=$Z$8,$P31>=0,$L31="Pendiente"),"Salida próxima: comprobar",IF(AND($P31<0,$L31="Pendiente"),"Salida pasada: comprobar",""))))))))))) | R31: =IFERROR(INDEX('Parámetros'!$E$4:$E$8,24),"") | S31: =IFERROR(INDEX('Parámetros'!$F$4:$F$7,24),"") | T31: =IFERROR(INDEX('Parámetros'!$G$4:$G$6,24),"")
O32: =IF($A32="","",IF(AND(ISNUMBER($H32),ISNUMBER($N32)),$N32-$H32,"")) | P32: =IF(OR($A32="",NOT(ISNUMBER($C32))),"",$C32-TODAY()) | Q32: =IF($A32="","",IF(OR(NOT(ISNUMBER($B32)),NOT(ISNUMBER($C32))),"Completar fechas",IF(OR($D32="",$E32="",$F32="",$I32="",$J32="",$K32="",$L32="",NOT(ISNUMBER($G32)),NOT(ISNUMBER($H32))),"Completar datos",IF($C32<$B32,"Revisar fechas",IF(AND($L32="Aplicado",NOT(ISNUMBER($M32))),"Falta fecha de aplicación",IF(AND($L32="Aplicado",NOT(ISNUMBER($N32))),"Falta importe final",IF(AND($L32<>"Aplicado",ISNUMBER($M32)),"Revisar fecha de aplicación",IF(AND($K32="Rechazado",$L32<>"Cancelado"),"Revisar estados",IF(AND($H32>=$Y$8,$K32="Pendiente"),"Revisar aprobación",IF(AND($P32<=$Z$8,$P32>=0,$L32="Pendiente"),"Salida próxima: comprobar",IF(AND($P32<0,$L32="Pendiente"),"Salida pasada: comprobar",""))))))))))) | R32: =IFERROR(INDEX('Parámetros'!$E$4:$E$8,25),"") | S32: =IFERROR(INDEX('Parámetros'!$F$4:$F$7,25),"") | T32: =IFERROR(INDEX('Parámetros'!$G$4:$G$6,25),"")
O33: =IF($A33="","",IF(AND(ISNUMBER($H33),ISNUMBER($N33)),$N33-$H33,"")) | P33: =IF(OR($A33="",NOT(ISNUMBER($C33))),"",$C33-TODAY()) | Q33: =IF($A33="","",IF(OR(NOT(ISNUMBER($B33)),NOT(ISNUMBER($C33))),"Completar fechas",IF(OR($D33="",$E33="",$F33="",$I33="",$J33="",$K33="",$L33="",NOT(ISNUMBER($G33)),NOT(ISNUMBER($H33))),"Completar datos",IF($C33<$B33,"Revisar fechas",IF(AND($L33="Aplicado",NOT(ISNUMBER($M33))),"Falta fecha de aplicación",IF(AND($L33="Aplicado",NOT(ISNUMBER($N33))),"Falta importe final",IF(AND($L33<>"Aplicado",ISNUMBER($M33)),"Revisar fecha de aplicación",IF(AND($K33="Rechazado",$L33<>"Cancelado"),"Revisar estados",IF(AND($H33>=$Y$8,$K33="Pendiente"),"Revisar aprobación",IF(AND($P33<=$Z$8,$P33>=0,$L33="Pendiente"),"Salida próxima: comprobar",IF(AND($P33<0,$L33="Pendiente"),"Salida pasada: comprobar",""))))))))))) | R33: =IFERROR(INDEX('Parámetros'!$E$4:$E$8,26),"") | S33: =IFERROR(INDEX('Parámetros'!$F$4:$F$7,26),"") | T33: =IFERROR(INDEX('Parámetros'!$G$4:$G$6,26),"")
O34: =IF($A34="","",IF(AND(ISNUMBER($H34),ISNUMBER($N34)),$N34-$H34,"")) | P34: =IF(OR($A34="",NOT(ISNUMBER($C34))),"",$C34-TODAY()) | Q34: =IF($A34="","",IF(OR(NOT(ISNUMBER($B34)),NOT(ISNUMBER($C34))),"Completar fechas",IF(OR($D34="",$E34="",$F34="",$I34="",$J34="",$K34="",$L34="",NOT(ISNUMBER($G34)),NOT(ISNUMBER($H34))),"Completar datos",IF($C34<$B34,"Revisar fechas",IF(AND($L34="Aplicado",NOT(ISNUMBER($M34))),"Falta fecha de aplicación",IF(AND($L34="Aplicado",NOT(ISNUMBER($N34))),"Falta importe final",IF(AND($L34<>"Aplicado",ISNUMBER($M34)),"Revisar fecha de aplicación",IF(AND($K34="Rechazado",$L34<>"Cancelado"),"Revisar estados",IF(AND($H34>=$Y$8,$K34="Pendiente"),"Revisar aprobación",IF(AND($P34<=$Z$8,$P34>=0,$L34="Pendiente"),"Salida próxima: comprobar",IF(AND($P34<0,$L34="Pendiente"),"Salida pasada: comprobar",""))))))))))) | R34: =IFERROR(INDEX('Parámetros'!$E$4:$E$8,27),"") | S34: =IFERROR(INDEX('Parámetros'!$F$4:$F$7,27),"") | T34: =IFERROR(INDEX('Parámetros'!$G$4:$G$6,27),"")
O35: =IF($A35="","",IF(AND(ISNUMBER($H35),ISNUMBER($N35)),$N35-$H35,"")) | P35: =IF(OR($A35="",NOT(ISNUMBER($C35))),"",$C35-TODAY()) | Q35: =IF($A35="","",IF(OR(NOT(ISNUMBER($B35)),NOT(ISNUMBER($C35))),"Completar fechas",IF(OR($D35="",$E35="",$F35="",$I35="",$J35="",$K35="",$L35="",NOT(ISNUMBER($G35)),NOT(ISNUMBER($H35))),"Completar datos",IF($C35<$B35,"Revisar fechas",IF(AND($L35="Aplicado",NOT(ISNUMBER($M35))),"Falta fecha de aplicación",IF(AND($L35="Aplicado",NOT(ISNUMBER($N35))),"Falta importe final",IF(AND($L35<>"Aplicado",ISNUMBER($M35)),"Revisar fecha de aplicación",IF(AND($K35="Rechazado",$L35<>"Cancelado"),"Revisar estados",IF(AND($H35>=$Y$8,$K35="Pendiente"),"Revisar aprobación",IF(AND($P35<=$Z$8,$P35>=0,$L35="Pendiente"),"Salida próxima: comprobar",IF(AND($P35<0,$L35="Pendiente"),"Salida pasada: comprobar",""))))))))))) | R35: =IFERROR(INDEX('Parámetros'!$E$4:$E$8,28),"") | S35: =IFERROR(INDEX('Parámetros'!$F$4:$F$7,28),"") | T35: =IFERROR(INDEX('Parámetros'!$G$4:$G$6,28),"")
O36: =IF($A36="","",IF(AND(ISNUMBER($H36),ISNUMBER($N36)),$N36-$H36,"")) | P36: =IF(OR($A36="",NOT(ISNUMBER($C36))),"",$C36-TODAY()) | Q36: =IF($A36="","",IF(OR(NOT(ISNUMBER($B36)),NOT(ISNUMBER($C36))),"Completar fechas",IF(OR($D36="",$E36="",$F36="",$I36="",$J36="",$K36="",$L36="",NOT(ISNUMBER($G36)),NOT(ISNUMBER($H36))),"Completar datos",IF($C36<$B36,"Revisar fechas",IF(AND($L36="Aplicado",NOT(ISNUMBER($M36))),"Falta fecha de aplicación",IF(AND($L36="Aplicado",NOT(ISNUMBER($N36))),"Falta importe final",IF(AND($L36<>"Aplicado",ISNUMBER($M36)),"Revisar fecha de aplicación",IF(AND($K36="Rechazado",$L36<>"Cancelado"),"Revisar estados",IF(AND($H36>=$Y$8,$K36="Pendiente"),"Revisar aprobación",IF(AND($P36<=$Z$8,$P36>=0,$L36="Pendiente"),"Salida próxima: comprobar",IF(AND($P36<0,$L36="Pendiente"),"Salida pasada: comprobar",""))))))))))) | R36: =IFERROR(INDEX('Parámetros'!$E$4:$E$8,29),"") | S36: =IFERROR(INDEX('Parámetros'!$F$4:$F$7,29),"") | T36: =IFERROR(INDEX('Parámetros'!$G$4:$G$6,29),"")
O37: =IF($A37="","",IF(AND(ISNUMBER($H37),ISNUMBER($N37)),$N37-$H37,"")) | P37: =IF(OR($A37="",NOT(ISNUMBER($C37))),"",$C37-TODAY()) | Q37: =IF($A37="","",IF(OR(NOT(ISNUMBER($B37)),NOT(ISNUMBER($C37))),"Completar fechas",IF(OR($D37="",$E37="",$F37="",$I37="",$J37="",$K37="",$L37="",NOT(ISNUMBER($G37)),NOT(ISNUMBER($H37))),"Completar datos",IF($C37<$B37,"Revisar fechas",IF(AND($L37="Aplicado",NOT(ISNUMBER($M37))),"Falta fecha de aplicación",IF(AND($L37="Aplicado",NOT(ISNUMBER($N37))),"Falta importe final",IF(AND($L37<>"Aplicado",ISNUMBER($M37)),"Revisar fecha de aplicación",IF(AND($K37="Rechazado",$L37<>"Cancelado"),"Revisar estados",IF(AND($H37>=$Y$8,$K37="Pendiente"),"Revisar aprobación",IF(AND($P37<=$Z$8,$P37>=0,$L37="Pendiente"),"Salida próxima: comprobar",IF(AND($P37<0,$L37="Pendiente"),"Salida pasada: comprobar",""))))))))))) | R37: =IFERROR(INDEX('Parámetros'!$E$4:$E$8,30),"") | S37: =IFERROR(INDEX('Parámetros'!$F$4:$F$7,30),"") | T37: =IFERROR(INDEX('Parámetros'!$G$4:$G$6,30),"")
O38: =IF($A38="","",IF(AND(ISNUMBER($H38),ISNUMBER($N38)),$N38-$H38,"")) | P38: =IF(OR($A38="",NOT(ISNUMBER($C38))),"",$C38-TODAY()) | Q38: =IF($A38="","",IF(OR(NOT(ISNUMBER($B38)),NOT(ISNUMBER($C38))),"Completar fechas",IF(OR($D38="",$E38="",$F38="",$I38="",$J38="",$K38="",$L38="",NOT(ISNUMBER($G38)),NOT(ISNUMBER($H38))),"Completar datos",IF($C38<$B38,"Revisar fechas",IF(AND($L38="Aplicado",NOT(ISNUMBER($M38))),"Falta fecha de aplicación",IF(AND($L38="Aplicado",NOT(ISNUMBER($N38))),"Falta importe final",IF(AND($L38<>"Aplicado",ISNUMBER($M38)),"Revisar fecha de aplicación",IF(AND($K38="Rechazado",$L38<>"Cancelado"),"Revisar estados",IF(AND($H38>=$Y$8,$K38="Pendiente"),"Revisar aprobación",IF(AND($P38<=$Z$8,$P38>=0,$L38="Pendiente"),"Salida próxima: comprobar",IF(AND($P38<0,$L38="Pendiente"),"Salida pasada: comprobar",""))))))))))) | R38: =IFERROR(INDEX('Parámetros'!$E$4:$E$8,31),"") | S38: =IFERROR(INDEX('Parámetros'!$F$4:$F$7,31),"") | T38: =IFERROR(INDEX('Parámetros'!$G$4:$G$6,31),"")
O39: =IF($A39="","",IF(AND(ISNUMBER($H39),ISNUMBER($N39)),$N39-$H39,"")) | P39: =IF(OR($A39="",NOT(ISNUMBER($C39))),"",$C39-TODAY()) | Q39: =IF($A39="","",IF(OR(NOT(ISNUMBER($B39)),NOT(ISNUMBER($C39))),"Completar fechas",IF(OR($D39="",$E39="",$F39="",$I39="",$J39="",$K39="",$L39="",NOT(ISNUMBER($G39)),NOT(ISNUMBER($H39))),"Completar datos",IF($C39<$B39,"Revisar fechas",IF(AND($L39="Aplicado",NOT(ISNUMBER($M39))),"Falta fecha de aplicación",IF(AND($L39="Aplicado",NOT(ISNUMBER($N39))),"Falta importe final",IF(AND($L39<>"Aplicado",ISNUMBER($M39)),"Revisar fecha de aplicación",IF(AND($K39="Rechazado",$L39<>"Cancelado"),"Revisar estados",IF(AND($H39>=$Y$8,$K39="Pendiente"),"Revisar aprobación",IF(AND($P39<=$Z$8,$P39>=0,$L39="Pendiente"),"Salida próxima: comprobar",IF(AND($P39<0,$L39="Pendiente"),"Salida pasada: comprobar",""))))))))))) | R39: =IFERROR(INDEX('Parámetros'!$E$4:$E$8,32),"") | S39: =IFERROR(INDEX('Parámetros'!$F$4:$F$7,32),"") | T39: =IFERROR(INDEX('Parámetros'!$G$4:$G$6,32),"")
O40: =IF($A40="","",IF(AND(ISNUMBER($H40),ISNUMBER($N40)),$N40-$H40,"")) | P40: =IF(OR($A40="",NOT(ISNUMBER($C40))),"",$C40-TODAY()) | Q40: =IF($A40="","",IF(OR(NOT(ISNUMBER($B40)),NOT(ISNUMBER($C40))),"Completar fechas",IF(OR($D40="",$E40="",$F40="",$I40="",$J40="",$K40="",$L40="",NOT(ISNUMBER($G40)),NOT(ISNUMBER($H40))),"Completar datos",IF($C40<$B40,"Revisar fechas",IF(AND($L40="Aplicado",NOT(ISNUMBER($M40))),"Falta fecha de aplicación",IF(AND($L40="Aplicado",NOT(ISNUMBER($N40))),"Falta importe final",IF(AND($L40<>"Aplicado",ISNUMBER($M40)),"Revisar fecha de aplicación",IF(AND($K40="Rechazado",$L40<>"Cancelado"),"Revisar estados",IF(AND($H40>=$Y$8,$K40="Pendiente"),"Revisar aprobación",IF(AND($P40<=$Z$8,$P40>=0,$L40="Pendiente"),"Salida próxima: comprobar",IF(AND($P40<0,$L40="Pendiente"),"Salida pasada: comprobar",""))))))))))) | R40: =IFERROR(INDEX('Parámetros'!$E$4:$E$8,33),"") | S40: =IFERROR(INDEX('Parámetros'!$F$4:$F$7,33),"") | T40: =IFERROR(INDEX('Parámetros'!$G$4:$G$6,33),"")
O41: =IF($A41="","",IF(AND(ISNUMBER($H41),ISNUMBER($N41)),$N41-$H41,"")) | P41: =IF(OR($A41="",NOT(ISNUMBER($C41))),"",$C41-TODAY()) | Q41: =IF($A41="","",IF(OR(NOT(ISNUMBER($B41)),NOT(ISNUMBER($C41))),"Completar fechas",IF(OR($D41="",$E41="",$F41="",$I41="",$J41="",$K41="",$L41="",NOT(ISNUMBER($G41)),NOT(ISNUMBER($H41))),"Completar datos",IF($C41<$B41,"Revisar fechas",IF(AND($L41="Aplicado",NOT(ISNUMBER($M41))),"Falta fecha de aplicación",IF(AND($L41="Aplicado",NOT(ISNUMBER($N41))),"Falta importe final",IF(AND($L41<>"Aplicado",ISNUMBER($M41)),"Revisar fecha de aplicación",IF(AND($K41="Rechazado",$L41<>"Cancelado"),"Revisar estados",IF(AND($H41>=$Y$8,$K41="Pendiente"),"Revisar aprobación",IF(AND($P41<=$Z$8,$P41>=0,$L41="Pendiente"),"Salida próxima: comprobar",IF(AND($P41<0,$L41="Pendiente"),"Salida pasada: comprobar",""))))))))))) | R41: =IFERROR(INDEX('Parámetros'!$E$4:$E$8,34),"") | S41: =IFERROR(INDEX('Parámetros'!$F$4:$F$7,34),"") | T41: =IFERROR(INDEX('Parámetros'!$G$4:$G$6,34),"")
O42: =IF($A42="","",IF(AND(ISNUMBER($H42),ISNUMBER($N42)),$N42-$H42,"")) | P42: =IF(OR($A42="",NOT(ISNUMBER($C42))),"",$C42-TODAY()) | Q42: =IF($A42="","",IF(OR(NOT(ISNUMBER($B42)),NOT(ISNUMBER($C42))),"Completar fechas",IF(OR($D42="",$E42="",$F42="",$I42="",$J42="",$K42="",$L42="",NOT(ISNUMBER($G42)),NOT(ISNUMBER($H42))),"Completar datos",IF($C42<$B42,"Revisar fechas",IF(AND($L42="Aplicado",NOT(ISNUMBER($M42))),"Falta fecha de aplicación",IF(AND($L42="Aplicado",NOT(ISNUMBER($N42))),"Falta importe final",IF(AND($L42<>"Aplicado",ISNUMBER($M42)),"Revisar fecha de aplicación",IF(AND($K42="Rechazado",$L42<>"Cancelado"),"Revisar estados",IF(AND($H42>=$Y$8,$K42="Pendiente"),"Revisar aprobación",IF(AND($P42<=$Z$8,$P42>=0,$L42="Pendiente"),"Salida próxima: comprobar",IF(AND($P42<0,$L42="Pendiente"),"Salida pasada: comprobar",""))))))))))) | R42: =IFERROR(INDEX('Parámetros'!$E$4:$E$8,35),"") | S42: =IFERROR(INDEX('Parámetros'!$F$4:$F$7,35),"") | T42: =IFERROR(INDEX('Parámetros'!$G$4:$G$6,35),"")
O43: =IF($A43="","",IF(AND(ISNUMBER($H43),ISNUMBER($N43)),$N43-$H43,"")) | P43: =IF(OR($A43="",NOT(ISNUMBER($C43))),"",$C43-TODAY()) | Q43: =IF($A43="","",IF(OR(NOT(ISNUMBER($B43)),NOT(ISNUMBER($C43))),"Completar fechas",IF(OR($D43="",$E43="",$F43="",$I43="",$J43="",$K43="",$L43="",NOT(ISNUMBER($G43)),NOT(ISNUMBER($H43))),"Completar datos",IF($C43<$B43,"Revisar fechas",IF(AND($L43="Aplicado",NOT(ISNUMBER($M43))),"Falta fecha de aplicación",IF(AND($L43="Aplicado",NOT(ISNUMBER($N43))),"Falta importe final",IF(AND($L43<>"Aplicado",ISNUMBER($M43)),"Revisar fecha de aplicación",IF(AND($K43="Rechazado",$L43<>"Cancelado"),"Revisar estados",IF(AND($H43>=$Y$8,$K43="Pendiente"),"Revisar aprobación",IF(AND($P43<=$Z$8,$P43>=0,$L43="Pendiente"),"Salida próxima: comprobar",IF(AND($P43<0,$L43="Pendiente"),"Salida pasada: comprobar",""))))))))))) | R43: =IFERROR(INDEX('Parámetros'!$E$4:$E$8,36),"") | S43: =IFERROR(INDEX('Parámetros'!$F$4:$F$7,36),"") | T43: =IFERROR(INDEX('Parámetros'!$G$4:$G$6,36),"")
...

Sheet Parámetros
A1: Parámetros editables del registro de cambios
A3: Supuesto editable | B3: Valor | C3: Uso operativo | E3: Servicios | F3: Aprobación | G3: Aplicación
A4: Umbral de importe previsto para revisión | B4: 300 | C4: €; criterio interno editable para comprobación humana | E4: Alojamiento | F4: Pendiente | G4: Pendiente
A5: Antelación para aviso de salida | B5: 7 | C5: días; criterio interno editable | E5: Transporte | F5: Aprobado | G5: Aplicado
A6: Cantidad máxima por cambio | B6: 20 | C6: personas, noches, plazas, trayectos o servicios | E6: Traslado | F6: Rechazado | G6: Cancelado
A7: Importe máximo admisible por registro | B7: 10000 | C7: €; límite interno editable, no tarifa garantizada | E7: Actividad | F7: No requerida
A8: Fecha mínima admisible | B8: 45911 | C8: límite editable para las fechas del registro | E8: Seguro
A9: Fecha máxima admisible | B9: 47006 | C9: límite editable para las fechas del registro
A11: Las listas y los límites son supuestos internos editables. Cualquier aviso requiere comprobación humana.
