Workbook

Sheet Resumen
A1: Resumen del registro de cambios de reserva
A3: Indicador | B3: Resultado | D3: Estado de aplicación | E3: Cambios
A4: Total de cambios registrados | B4: =COUNTIF(Cambios!$A$8:$A$127,"<>") | D4: Pendiente | E4: =COUNTIFS(Cambios!$A$8:$A$127,"<>",Cambios!$L$8:$L$127,D4)
A5: Pendientes de aprobación | B5: =IF($B$4=0,"",COUNTIFS(Cambios!$A$8:$A$127,"<>",Cambios!$K$8:$K$127,"Pendiente")) | D5: Aplicado | E5: =COUNTIFS(Cambios!$A$8:$A$127,"<>",Cambios!$L$8:$L$127,D5)
A6: Pendientes de aplicación | B6: =IF($B$4=0,"",COUNTIFS(Cambios!$A$8:$A$127,"<>",Cambios!$L$8:$L$127,"Pendiente")) | D6: Cancelado | E6: =COUNTIFS(Cambios!$A$8:$A$127,"<>",Cambios!$L$8:$L$127,D6)
A7: Cambios aplicados | B7: =IF($B$4=0,"",COUNTIFS(Cambios!$A$8:$A$127,"<>",Cambios!$L$8:$L$127,"Aplicado"))
A8: Registros con aviso para revisión | B8: =IF($B$4=0,"",COUNTIFS(Cambios!$A$8:$A$127,"<>",Cambios!$Q$8:$Q$127,"<>"))
A9: Importe previsto acumulado | B9: =IF(COUNT(Cambios!$H$8:$H$127)=0,"",SUM(Cambios!$H$8:$H$127))
A10: Importe final registrado | B10: =IF(COUNT(Cambios!$N$8:$N$127)=0,"",SUM(Cambios!$N$8:$N$127))
A11: Variación acumulada registrada | B11: =IF(COUNT(Cambios!$O$8:$O$127)=0,"",SUM(Cambios!$O$8:$O$127))
A12: Porcentaje de cambios aplicados | B12: =IFERROR($B$7/$B$4,"")
A13: Salidas próximas pendientes de aplicación | B13: =IF($B$4=0,"",COUNTIFS(Cambios!$A$8:$A$127,"<>",Cambios!$C$8:$C$127,">="&TODAY(),Cambios!$C$8:$C$127,"<="&TODAY()+'Parámetros'!$B$5,Cambios!$L$8:$L$127,"Pendiente"))

Sheet Cambios
A1: Registro de cambios de reserva
A3: Filas preparadas | B3: 120 | D3: Umbral de revisión | E3: ='Parámetros'!B4 | G3: Aviso de salida | H3: ='Parámetros'!B5 | J3: Límites y listas | K3: Hoja Parámetros
A4: Las celdas crema son editables. Los avisos solicitan una revisión manual del registro.
A7: Expediente | B7: Fecha de solicitud | C7: Fecha de salida | D7: Viajero | E7: Servicio | F7: Detalle del cambio solicitado | G7: Cantidad afectada | H7: Importe previsto (€) | I7: Proveedor | J7: Responsable | K7: Aprobación | L7: Aplicación | M7: Fecha de aplicación | N7: Importe final (€) | O7: Variación (€) | P7: Días hasta salida | Q7: Aviso para revisión
A8: EXP-FICT-2026-001 | B8: 46256 | C8: 46321 | D8: Viajero ficticio Ámbar | E8: Alojamiento | F8: Añadir una noche al alojamiento | G8: 1 | H8: 120 | I8: Proveedor ficticio Brújula | J8: Responsable ficticia Iris | K8: Aprobado | L8: Aplicado | M8: 46259 | N8: 135 | O8: =IF($A8="","",IF(AND(ISNUMBER($H8),ISNUMBER($N8)),$N8-$H8,"")) | P8: =IF(OR($A8="",NOT(ISNUMBER($C8))),"",$C8-TODAY()) | Q8: =IF($A8="","",IF(OR(NOT(ISNUMBER($B8)),NOT(ISNUMBER($C8))),"Completar fechas",IF(OR($D8="",$E8="",$F8="",$I8="",$J8="",$K8="",$L8="",NOT(ISNUMBER($G8)),NOT(ISNUMBER($H8))),"Completar datos",IF($C8<$B8,"Revisar fechas",IF(AND($L8="Aplicado",NOT(ISNUMBER($M8))),"Falta fecha de aplicación",IF(AND($L8="Aplicado",NOT(ISNUMBER($N8))),"Falta importe final",IF(AND($L8<>"Aplicado",ISNUMBER($M8)),"Revisar fecha de aplicación",IF(AND($K8="Rechazado",$L8<>"Cancelado"),"Revisar estados",IF(AND($H8>=$Y$8,$K8="Pendiente"),"Revisar aprobación",IF(AND($P8<=$Z$8,$P8>=0,$L8="Pendiente"),"Salida próxima: comprobar",IF(AND($P8<0,$L8="Pendiente"),"Salida pasada: comprobar",""))))))))))) | R8: =IFERROR(INDEX('Parámetros'!$E$4:$E$8,1),"") | S8: =IFERROR(INDEX('Parámetros'!$F$4:$F$7,1),"") | T8: =IFERROR(INDEX('Parámetros'!$G$4:$G$6,1),"") | U8: ='Parámetros'!B6 | V8: ='Parámetros'!B7 | W8: ='Parámetros'!B8 | X8: ='Parámetros'!B9 | Y8: ='Parámetros'!B4 | Z8: ='Parámetros'!B5
A9: EXP-FICT-2026-002 | B9: 46266 | C9: 46286 | D9: Viajero ficticio Cobalto | E9: Transporte | F9: Cambiar dos plazas a otro horario | G9: 2 | H9: 280 | I9: Proveedor ficticio Andén | J9: Responsable ficticio Nilo | K9: Aprobado | L9: Pendiente | O9: =IF($A9="","",IF(AND(ISNUMBER($H9),ISNUMBER($N9)),$N9-$H9,"")) | P9: =IF(OR($A9="",NOT(ISNUMBER($C9))),"",$C9-TODAY()) | Q9: =IF($A9="","",IF(OR(NOT(ISNUMBER($B9)),NOT(ISNUMBER($C9))),"Completar fechas",IF(OR($D9="",$E9="",$F9="",$I9="",$J9="",$K9="",$L9="",NOT(ISNUMBER($G9)),NOT(ISNUMBER($H9))),"Completar datos",IF($C9<$B9,"Revisar fechas",IF(AND($L9="Aplicado",NOT(ISNUMBER($M9))),"Falta fecha de aplicación",IF(AND($L9="Aplicado",NOT(ISNUMBER($N9))),"Falta importe final",IF(AND($L9<>"Aplicado",ISNUMBER($M9)),"Revisar fecha de aplicación",IF(AND($K9="Rechazado",$L9<>"Cancelado"),"Revisar estados",IF(AND($H9>=$Y$8,$K9="Pendiente"),"Revisar aprobación",IF(AND($P9<=$Z$8,$P9>=0,$L9="Pendiente"),"Salida próxima: comprobar",IF(AND($P9<0,$L9="Pendiente"),"Salida pasada: comprobar",""))))))))))) | R9: =IFERROR(INDEX('Parámetros'!$E$4:$E$8,2),"") | S9: =IFERROR(INDEX('Parámetros'!$F$4:$F$7,2),"") | T9: =IFERROR(INDEX('Parámetros'!$G$4:$G$6,2),"")
A10: EXP-FICT-2026-003 | B10: 46271 | C10: 46279 | D10: Viajera ficticia Dalia | E10: Alojamiento | F10: Sustituir una habitación por categoría superior | G10: 1 | H10: 340 | I10: Proveedor ficticio Mirador | J10: Responsable ficticia Vega | K10: Pendiente | L10: Pendiente | O10: =IF($A10="","",IF(AND(ISNUMBER($H10),ISNUMBER($N10)),$N10-$H10,"")) | P10: =IF(OR($A10="",NOT(ISNUMBER($C10))),"",$C10-TODAY()) | Q10: =IF($A10="","",IF(OR(NOT(ISNUMBER($B10)),NOT(ISNUMBER($C10))),"Completar fechas",IF(OR($D10="",$E10="",$F10="",$I10="",$J10="",$K10="",$L10="",NOT(ISNUMBER($G10)),NOT(ISNUMBER($H10))),"Completar datos",IF($C10<$B10,"Revisar fechas",IF(AND($L10="Aplicado",NOT(ISNUMBER($M10))),"Falta fecha de aplicación",IF(AND($L10="Aplicado",NOT(ISNUMBER($N10))),"Falta importe final",IF(AND($L10<>"Aplicado",ISNUMBER($M10)),"Revisar fecha de aplicación",IF(AND($K10="Rechazado",$L10<>"Cancelado"),"Revisar estados",IF(AND($H10>=$Y$8,$K10="Pendiente"),"Revisar aprobación",IF(AND($P10<=$Z$8,$P10>=0,$L10="Pendiente"),"Salida próxima: comprobar",IF(AND($P10<0,$L10="Pendiente"),"Salida pasada: comprobar",""))))))))))) | R10: =IFERROR(INDEX('Parámetros'!$E$4:$E$8,3),"") | S10: =IFERROR(INDEX('Parámetros'!$F$4:$F$7,3),"") | T10: =IFERROR(INDEX('Parámetros'!$G$4:$G$6,3),"")
A11: EXP-FICT-2026-004 | B11: 46256 | C11: 46336 | D11: Viajero ficticio Estaño | E11: Traslado | F11: Anular un trayecto de traslado | G11: 1 | H11: 0 | I11: Proveedor ficticio Sendero | J11: Responsable ficticio Lino | K11: No requerida | L11: Aplicado | M11: 46259 | N11: 0 | O11: =IF($A11="","",IF(AND(ISNUMBER($H11),ISNUMBER($N11)),$N11-$H11,"")) | P11: =IF(OR($A11="",NOT(ISNUMBER($C11))),"",$C11-TODAY()) | Q11: =IF($A11="","",IF(OR(NOT(ISNUMBER($B11)),NOT(ISNUMBER($C11))),"Completar fechas",IF(OR($D11="",$E11="",$F11="",$I11="",$J11="",$K11="",$L11="",NOT(ISNUMBER($G11)),NOT(ISNUMBER($H11))),"Completar datos",IF($C11<$B11,"Revisar fechas",IF(AND($L11="Aplicado",NOT(ISNUMBER($M11))),"Falta fecha de aplicación",IF(AND($L11="Aplicado",NOT(ISNUMBER($N11))),"Falta importe final",IF(AND($L11<>"Aplicado",ISNUMBER($M11)),"Revisar fecha de aplicación",IF(AND($K11="Rechazado",$L11<>"Cancelado"),"Revisar estados",IF(AND($H11>=$Y$8,$K11="Pendiente"),"Revisar aprobación",IF(AND($P11<=$Z$8,$P11>=0,$L11="Pendiente"),"Salida próxima: comprobar",IF(AND($P11<0,$L11="Pendiente"),"Salida pasada: comprobar",""))))))))))) | R11: =IFERROR(INDEX('Parámetros'!$E$4:$E$8,4),"") | S11: =IFERROR(INDEX('Parámetros'!$F$4:$F$7,4),"") | T11: =IFERROR(INDEX('Parámetros'!$G$4:$G$6,4),"")
A12: EXP-FICT-2026-005 | B12: 46251 | C12: 46366 | D12: Viajera ficticia Fucsia | E12: Actividad | F12: Cambiar el horario para cuatro personas | G12: 4 | H12: 40 | I12: Proveedor ficticio Linterna | J12: Responsable ficticia Sira | K12: Rechazado | L12: Cancelado | O12: =IF($A12="","",IF(AND(ISNUMBER($H12),ISNUMBER($N12)),$N12-$H12,"")) | P12: =IF(OR($A12="",NOT(ISNUMBER($C12))),"",$C12-TODAY()) | Q12: =IF($A12="","",IF(OR(NOT(ISNUMBER($B12)),NOT(ISNUMBER($C12))),"Completar fechas",IF(OR($D12="",$E12="",$F12="",$I12="",$J12="",$K12="",$L12="",NOT(ISNUMBER($G12)),NOT(ISNUMBER($H12))),"Completar datos",IF($C12<$B12,"Revisar fechas",IF(AND($L12="Aplicado",NOT(ISNUMBER($M12))),"Falta fecha de aplicación",IF(AND($L12="Aplicado",NOT(ISNUMBER($N12))),"Falta importe final",IF(AND($L12<>"Aplicado",ISNUMBER($M12)),"Revisar fecha de aplicación",IF(AND($K12="Rechazado",$L12<>"Cancelado"),"Revisar estados",IF(AND($H12>=$Y$8,$K12="Pendiente"),"Revisar aprobación",IF(AND($P12<=$Z$8,$P12>=0,$L12="Pendiente"),"Salida próxima: comprobar",IF(AND($P12<0,$L12="Pendiente"),"Salida pasada: comprobar",""))))))))))) | R12: =IFERROR(INDEX('Parámetros'!$E$4:$E$8,5),"") | S12: =IFERROR(INDEX('Parámetros'!$F$4:$F$7,5),"") | T12: =IFERROR(INDEX('Parámetros'!$G$4:$G$6,5),"")
A13: EXP-FICT-2026-006 | B13: 46273 | C13: 46278 | D13: Viajero ficticio Granate | E13: Seguro | F13: Corregir datos de una persona en el servicio | G13: 1 | H13: 15 | I13: Proveedor ficticio Nube | J13: Responsable ficticio Elio | K13: Aprobado | L13: Pendiente | O13: =IF($A13="","",IF(AND(ISNUMBER($H13),ISNUMBER($N13)),$N13-$H13,"")) | P13: =IF(OR($A13="",NOT(ISNUMBER($C13))),"",$C13-TODAY()) | Q13: =IF($A13="","",IF(OR(NOT(ISNUMBER($B13)),NOT(ISNUMBER($C13))),"Completar fechas",IF(OR($D13="",$E13="",$F13="",$I13="",$J13="",$K13="",$L13="",NOT(ISNUMBER($G13)),NOT(ISNUMBER($H13))),"Completar datos",IF($C13<$B13,"Revisar fechas",IF(AND($L13="Aplicado",NOT(ISNUMBER($M13))),"Falta fecha de aplicación",IF(AND($L13="Aplicado",NOT(ISNUMBER($N13))),"Falta importe final",IF(AND($L13<>"Aplicado",ISNUMBER($M13)),"Revisar fecha de aplicación",IF(AND($K13="Rechazado",$L13<>"Cancelado"),"Revisar estados",IF(AND($H13>=$Y$8,$K13="Pendiente"),"Revisar aprobación",IF(AND($P13<=$Z$8,$P13>=0,$L13="Pendiente"),"Salida próxima: comprobar",IF(AND($P13<0,$L13="Pendiente"),"Salida pasada: comprobar",""))))))))))) | R13: =IFERROR(INDEX('Parámetros'!$E$4:$E$8,6),"") | S13: =IFERROR(INDEX('Parámetros'!$F$4:$F$7,6),"") | T13: =IFERROR(INDEX('Parámetros'!$G$4:$G$6,6),"")
A14: EXP-FICT-2026-007 | B14: 46236 | C14: 46271 | D14: Viajera ficticia Hiedra | E14: Alojamiento | F14: Reducir una noche del alojamiento | G14: 1 | H14: 75 | I14: Proveedor ficticio Faro | J14: Responsable ficticia Menta | K14: Aprobado | L14: Pendiente | O14: =IF($A14="","",IF(AND(ISNUMBER($H14),ISNUMBER($N14)),$N14-$H14,"")) | P14: =IF(OR($A14="",NOT(ISNUMBER($C14))),"",$C14-TODAY()) | Q14: =IF($A14="","",IF(OR(NOT(ISNUMBER($B14)),NOT(ISNUMBER($C14))),"Completar fechas",IF(OR($D14="",$E14="",$F14="",$I14="",$J14="",$K14="",$L14="",NOT(ISNUMBER($G14)),NOT(ISNUMBER($H14))),"Completar datos",IF($C14<$B14,"Revisar fechas",IF(AND($L14="Aplicado",NOT(ISNUMBER($M14))),"Falta fecha de aplicación",IF(AND($L14="Aplicado",NOT(ISNUMBER($N14))),"Falta importe final",IF(AND($L14<>"Aplicado",ISNUMBER($M14)),"Revisar fecha de aplicación",IF(AND($K14="Rechazado",$L14<>"Cancelado"),"Revisar estados",IF(AND($H14>=$Y$8,$K14="Pendiente"),"Revisar aprobación",IF(AND($P14<=$Z$8,$P14>=0,$L14="Pendiente"),"Salida próxima: comprobar",IF(AND($P14<0,$L14="Pendiente"),"Salida pasada: comprobar",""))))))))))) | R14: =IFERROR(INDEX('Parámetros'!$E$4:$E$8,7),"") | S14: =IFERROR(INDEX('Parámetros'!$F$4:$F$7,7),"") | T14: =IFERROR(INDEX('Parámetros'!$G$4:$G$6,7),"")
A15: EXP-FICT-2026-008 | B15: 46276 | C15: 46476 | D15: Viajero ficticio Índigo | E15: Transporte | F15: Cambiar dos plazas de clase | G15: 2 | H15: 850 | I15: Proveedor ficticio Cometa | J15: Responsable ficticio Tilo | K15: Pendiente | L15: Pendiente | O15: =IF($A15="","",IF(AND(ISNUMBER($H15),ISNUMBER($N15)),$N15-$H15,"")) | P15: =IF(OR($A15="",NOT(ISNUMBER($C15))),"",$C15-TODAY()) | Q15: =IF($A15="","",IF(OR(NOT(ISNUMBER($B15)),NOT(ISNUMBER($C15))),"Completar fechas",IF(OR($D15="",$E15="",$F15="",$I15="",$J15="",$K15="",$L15="",NOT(ISNUMBER($G15)),NOT(ISNUMBER($H15))),"Completar datos",IF($C15<$B15,"Revisar fechas",IF(AND($L15="Aplicado",NOT(ISNUMBER($M15))),"Falta fecha de aplicación",IF(AND($L15="Aplicado",NOT(ISNUMBER($N15))),"Falta importe final",IF(AND($L15<>"Aplicado",ISNUMBER($M15)),"Revisar fecha de aplicación",IF(AND($K15="Rechazado",$L15<>"Cancelado"),"Revisar estados",IF(AND($H15>=$Y$8,$K15="Pendiente"),"Revisar aprobación",IF(AND($P15<=$Z$8,$P15>=0,$L15="Pendiente"),"Salida próxima: comprobar",IF(AND($P15<0,$L15="Pendiente"),"Salida pasada: comprobar",""))))))))))) | R15: =IFERROR(INDEX('Parámetros'!$E$4:$E$8,8),"") | S15: =IFERROR(INDEX('Parámetros'!$F$4:$F$7,8),"") | T15: =IFERROR(INDEX('Parámetros'!$G$4:$G$6,8),"")
A16: EXP-FICT-2026-009 | B16: 46261 | C16: 46306 | D16: Viajera ficticia Jade | E16: Traslado | F16: Añadir una persona al traslado | G16: 1 | H16: 95 | I16: Proveedor ficticio Trébol | J16: Responsable ficticia Aura | K16: Aprobado | L16: Aplicado | M16: 46264 | N16: 100 | O16: =IF($A16="","",IF(AND(ISNUMBER($H16),ISNUMBER($N16)),$N16-$H16,"")) | P16: =IF(OR($A16="",NOT(ISNUMBER($C16))),"",$C16-TODAY()) | Q16: =IF($A16="","",IF(OR(NOT(ISNUMBER($B16)),NOT(ISNUMBER($C16))),"Completar fechas",IF(OR($D16="",$E16="",$F16="",$I16="",$J16="",$K16="",$L16="",NOT(ISNUMBER($G16)),NOT(ISNUMBER($H16))),"Completar datos",IF($C16<$B16,"Revisar fechas",IF(AND($L16="Aplicado",NOT(ISNUMBER($M16))),"Falta fecha de aplicación",IF(AND($L16="Aplicado",NOT(ISNUMBER($N16))),"Falta importe final",IF(AND($L16<>"Aplicado",ISNUMBER($M16)),"Revisar fecha de aplicación",IF(AND($K16="Rechazado",$L16<>"Cancelado"),"Revisar estados",IF(AND($H16>=$Y$8,$K16="Pendiente"),"Revisar aprobación",IF(AND($P16<=$Z$8,$P16>=0,$L16="Pendiente"),"Salida próxima: comprobar",IF(AND($P16<0,$L16="Pendiente"),"Salida pasada: comprobar",""))))))))))) | R16: =IFERROR(INDEX('Parámetros'!$E$4:$E$8,9),"") | S16: =IFERROR(INDEX('Parámetros'!$F$4:$F$7,9),"") | T16: =IFERROR(INDEX('Parámetros'!$G$4:$G$6,9),"")
A17: EXP-FICT-2026-010 | B17: 46275 | C17: 46284 | D17: Viajero ficticio Kermés | E17: Actividad | F17: Reducir una plaza en la actividad | G17: 1 | H17: 50 | I17: Proveedor ficticio Prisma | J17: Responsable ficticio Olmo | K17: Aprobado | L17: Aplicado | M17: 46276 | N17: 45 | O17: =IF($A17="","",IF(AND(ISNUMBER($H17),ISNUMBER($N17)),$N17-$H17,"")) | P17: =IF(OR($A17="",NOT(ISNUMBER($C17))),"",$C17-TODAY()) | Q17: =IF($A17="","",IF(OR(NOT(ISNUMBER($B17)),NOT(ISNUMBER($C17))),"Completar fechas",IF(OR($D17="",$E17="",$F17="",$I17="",$J17="",$K17="",$L17="",NOT(ISNUMBER($G17)),NOT(ISNUMBER($H17))),"Completar datos",IF($C17<$B17,"Revisar fechas",IF(AND($L17="Aplicado",NOT(ISNUMBER($M17))),"Falta fecha de aplicación",IF(AND($L17="Aplicado",NOT(ISNUMBER($N17))),"Falta importe final",IF(AND($L17<>"Aplicado",ISNUMBER($M17)),"Revisar fecha de aplicación",IF(AND($K17="Rechazado",$L17<>"Cancelado"),"Revisar estados",IF(AND($H17>=$Y$8,$K17="Pendiente"),"Revisar aprobación",IF(AND($P17<=$Z$8,$P17>=0,$L17="Pendiente"),"Salida próxima: comprobar",IF(AND($P17<0,$L17="Pendiente"),"Salida pasada: comprobar",""))))))))))) | R17: =IFERROR(INDEX('Parámetros'!$E$4:$E$8,10),"") | S17: =IFERROR(INDEX('Parámetros'!$F$4:$F$7,10),"") | T17: =IFERROR(INDEX('Parámetros'!$G$4:$G$6,10),"")
O18: =IF($A18="","",IF(AND(ISNUMBER($H18),ISNUMBER($N18)),$N18-$H18,"")) | P18: =IF(OR($A18="",NOT(ISNUMBER($C18))),"",$C18-TODAY()) | Q18: =IF($A18="","",IF(OR(NOT(ISNUMBER($B18)),NOT(ISNUMBER($C18))),"Completar fechas",IF(OR($D18="",$E18="",$F18="",$I18="",$J18="",$K18="",$L18="",NOT(ISNUMBER($G18)),NOT(ISNUMBER($H18))),"Completar datos",IF($C18<$B18,"Revisar fechas",IF(AND($L18="Aplicado",NOT(ISNUMBER($M18))),"Falta fecha de aplicación",IF(AND($L18="Aplicado",NOT(ISNUMBER($N18))),"Falta importe final",IF(AND($L18<>"Aplicado",ISNUMBER($M18)),"Revisar fecha de aplicación",IF(AND($K18="Rechazado",$L18<>"Cancelado"),"Revisar estados",IF(AND($H18>=$Y$8,$K18="Pendiente"),"Revisar aprobación",IF(AND($P18<=$Z$8,$P18>=0,$L18="Pendiente"),"Salida próxima: comprobar",IF(AND($P18<0,$L18="Pendiente"),"Salida pasada: comprobar",""))))))))))) | R18: =IFERROR(INDEX('Parámetros'!$E$4:$E$8,11),"") | S18: =IFERROR(INDEX('Parámetros'!$F$4:$F$7,11),"") | T18: =IFERROR(INDEX('Parámetros'!$G$4:$G$6,11),"")
O19: =IF($A19="","",IF(AND(ISNUMBER($H19),ISNUMBER($N19)),$N19-$H19,"")) | P19: =IF(OR($A19="",NOT(ISNUMBER($C19))),"",$C19-TODAY()) | Q19: =IF($A19="","",IF(OR(NOT(ISNUMBER($B19)),NOT(ISNUMBER($C19))),"Completar fechas",IF(OR($D19="",$E19="",$F19="",$I19="",$J19="",$K19="",$L19="",NOT(ISNUMBER($G19)),NOT(ISNUMBER($H19))),"Completar datos",IF($C19<$B19,"Revisar fechas",IF(AND($L19="Aplicado",NOT(ISNUMBER($M19))),"Falta fecha de aplicación",IF(AND($L19="Aplicado",NOT(ISNUMBER($N19))),"Falta importe final",IF(AND($L19<>"Aplicado",ISNUMBER($M19)),"Revisar fecha de aplicación",IF(AND($K19="Rechazado",$L19<>"Cancelado"),"Revisar estados",IF(AND($H19>=$Y$8,$K19="Pendiente"),"Revisar aprobación",IF(AND($P19<=$Z$8,$P19>=0,$L19="Pendiente"),"Salida próxima: comprobar",IF(AND($P19<0,$L19="Pendiente"),"Salida pasada: comprobar",""))))))))))) | R19: =IFERROR(INDEX('Parámetros'!$E$4:$E$8,12),"") | S19: =IFERROR(INDEX('Parámetros'!$F$4:$F$7,12),"") | T19: =IFERROR(INDEX('Parámetros'!$G$4:$G$6,12),"")
O20: =IF($A20="","",IF(AND(ISNUMBER($H20),ISNUMBER($N20)),$N20-$H20,"")) | P20: =IF(OR($A20="",NOT(ISNUMBER($C20))),"",$C20-TODAY()) | Q20: =IF($A20="","",IF(OR(NOT(ISNUMBER($B20)),NOT(ISNUMBER($C20))),"Completar fechas",IF(OR($D20="",$E20="",$F20="",$I20="",$J20="",$K20="",$L20="",NOT(ISNUMBER($G20)),NOT(ISNUMBER($H20))),"Completar datos",IF($C20<$B20,"Revisar fechas",IF(AND($L20="Aplicado",NOT(ISNUMBER($M20))),"Falta fecha de aplicación",IF(AND($L20="Aplicado",NOT(ISNUMBER($N20))),"Falta importe final",IF(AND($L20<>"Aplicado",ISNUMBER($M20)),"Revisar fecha de aplicación",IF(AND($K20="Rechazado",$L20<>"Cancelado"),"Revisar estados",IF(AND($H20>=$Y$8,$K20="Pendiente"),"Revisar aprobación",IF(AND($P20<=$Z$8,$P20>=0,$L20="Pendiente"),"Salida próxima: comprobar",IF(AND($P20<0,$L20="Pendiente"),"Salida pasada: comprobar",""))))))))))) | R20: =IFERROR(INDEX('Parámetros'!$E$4:$E$8,13),"") | S20: =IFERROR(INDEX('Parámetros'!$F$4:$F$7,13),"") | T20: =IFERROR(INDEX('Parámetros'!$G$4:$G$6,13),"")
O21: =IF($A21="","",IF(AND(ISNUMBER($H21),ISNUMBER($N21)),$N21-$H21,"")) | P21: =IF(OR($A21="",NOT(ISNUMBER($C21))),"",$C21-TODAY()) | Q21: =IF($A21="","",IF(OR(NOT(ISNUMBER($B21)),NOT(ISNUMBER($C21))),"Completar fechas",IF(OR($D21="",$E21="",$F21="",$I21="",$J21="",$K21="",$L21="",NOT(ISNUMBER($G21)),NOT(ISNUMBER($H21))),"Completar datos",IF($C21<$B21,"Revisar fechas",IF(AND($L21="Aplicado",NOT(ISNUMBER($M21))),"Falta fecha de aplicación",IF(AND($L21="Aplicado",NOT(ISNUMBER($N21))),"Falta importe final",IF(AND($L21<>"Aplicado",ISNUMBER($M21)),"Revisar fecha de aplicación",IF(AND($K21="Rechazado",$L21<>"Cancelado"),"Revisar estados",IF(AND($H21>=$Y$8,$K21="Pendiente"),"Revisar aprobación",IF(AND($P21<=$Z$8,$P21>=0,$L21="Pendiente"),"Salida próxima: comprobar",IF(AND($P21<0,$L21="Pendiente"),"Salida pasada: comprobar",""))))))))))) | R21: =IFERROR(INDEX('Parámetros'!$E$4:$E$8,14),"") | S21: =IFERROR(INDEX('Parámetros'!$F$4:$F$7,14),"") | T21: =IFERROR(INDEX('Parámetros'!$G$4:$G$6,14),"")
O22: =IF($A22="","",IF(AND(ISNUMBER($H22),ISNUMBER($N22)),$N22-$H22,"")) | P22: =IF(OR($A22="",NOT(ISNUMBER($C22))),"",$C22-TODAY()) | Q22: =IF($A22="","",IF(OR(NOT(ISNUMBER($B22)),NOT(ISNUMBER($C22))),"Completar fechas",IF(OR($D22="",$E22="",$F22="",$I22="",$J22="",$K22="",$L22="",NOT(ISNUMBER($G22)),NOT(ISNUMBER($H22))),"Completar datos",IF($C22<$B22,"Revisar fechas",IF(AND($L22="Aplicado",NOT(ISNUMBER($M22))),"Falta fecha de aplicación",IF(AND($L22="Aplicado",NOT(ISNUMBER($N22))),"Falta importe final",IF(AND($L22<>"Aplicado",ISNUMBER($M22)),"Revisar fecha de aplicación",IF(AND($K22="Rechazado",$L22<>"Cancelado"),"Revisar estados",IF(AND($H22>=$Y$8,$K22="Pendiente"),"Revisar aprobación",IF(AND($P22<=$Z$8,$P22>=0,$L22="Pendiente"),"Salida próxima: comprobar",IF(AND($P22<0,$L22="Pendiente"),"Salida pasada: comprobar",""))))))))))) | R22: =IFERROR(INDEX('Parámetros'!$E$4:$E$8,15),"") | S22: =IFERROR(INDEX('Parámetros'!$F$4:$F$7,15),"") | T22: =IFERROR(INDEX('Parámetros'!$G$4:$G$6,15),"")
O23: =IF($A23="","",IF(AND(ISNUMBER($H23),ISNUMBER($N23)),$N23-$H23,"")) | P23: =IF(OR($A23="",NOT(ISNUMBER($C23))),"",$C23-TODAY()) | Q23: =IF($A23="","",IF(OR(NOT(ISNUMBER($B23)),NOT(ISNUMBER($C23))),"Completar fechas",IF(OR($D23="",$E23="",$F23="",$I23="",$J23="",$K23="",$L23="",NOT(ISNUMBER($G23)),NOT(ISNUMBER($H23))),"Completar datos",IF($C23<$B23,"Revisar fechas",IF(AND($L23="Aplicado",NOT(ISNUMBER($M23))),"Falta fecha de aplicación",IF(AND($L23="Aplicado",NOT(ISNUMBER($N23))),"Falta importe final",IF(AND($L23<>"Aplicado",ISNUMBER($M23)),"Revisar fecha de aplicación",IF(AND($K23="Rechazado",$L23<>"Cancelado"),"Revisar estados",IF(AND($H23>=$Y$8,$K23="Pendiente"),"Revisar aprobación",IF(AND($P23<=$Z$8,$P23>=0,$L23="Pendiente"),"Salida próxima: comprobar",IF(AND($P23<0,$L23="Pendiente"),"Salida pasada: comprobar",""))))))))))) | R23: =IFERROR(INDEX('Parámetros'!$E$4:$E$8,16),"") | S23: =IFERROR(INDEX('Parámetros'!$F$4:$F$7,16),"") | T23: =IFERROR(INDEX('Parámetros'!$G$4:$G$6,16),"")
O24: =IF($A24="","",IF(AND(ISNUMBER($H24),ISNUMBER($N24)),$N24-$H24,"")) | P24: =IF(OR($A24="",NOT(ISNUMBER($C24))),"",$C24-TODAY()) | Q24: =IF($A24="","",IF(OR(NOT(ISNUMBER($B24)),NOT(ISNUMBER($C24))),"Completar fechas",IF(OR($D24="",$E24="",$F24="",$I24="",$J24="",$K24="",$L24="",NOT(ISNUMBER($G24)),NOT(ISNUMBER($H24))),"Completar datos",IF($C24<$B24,"Revisar fechas",IF(AND($L24="Aplicado",NOT(ISNUMBER($M24))),"Falta fecha de aplicación",IF(AND($L24="Aplicado",NOT(ISNUMBER($N24))),"Falta importe final",IF(AND($L24<>"Aplicado",ISNUMBER($M24)),"Revisar fecha de aplicación",IF(AND($K24="Rechazado",$L24<>"Cancelado"),"Revisar estados",IF(AND($H24>=$Y$8,$K24="Pendiente"),"Revisar aprobación",IF(AND($P24<=$Z$8,$P24>=0,$L24="Pendiente"),"Salida próxima: comprobar",IF(AND($P24<0,$L24="Pendiente"),"Salida pasada: comprobar",""))))))))))) | R24: =IFERROR(INDEX('Parámetros'!$E$4:$E$8,17),"") | S24: =IFERROR(INDEX('Parámetros'!$F$4:$F$7,17),"") | T24: =IFERROR(INDEX('Parámetros'!$G$4:$G$6,17),"")
O25: =IF($A25="","",IF(AND(ISNUMBER($H25),ISNUMBER($N25)),$N25-$H25,"")) | P25: =IF(OR($A25="",NOT(ISNUMBER($C25))),"",$C25-TODAY()) | Q25: =IF($A25="","",IF(OR(NOT(ISNUMBER($B25)),NOT(ISNUMBER($C25))),"Completar fechas",IF(OR($D25="",$E25="",$F25="",$I25="",$J25="",$K25="",$L25="",NOT(ISNUMBER($G25)),NOT(ISNUMBER($H25))),"Completar datos",IF($C25<$B25,"Revisar fechas",IF(AND($L25="Aplicado",NOT(ISNUMBER($M25))),"Falta fecha de aplicación",IF(AND($L25="Aplicado",NOT(ISNUMBER($N25))),"Falta importe final",IF(AND($L25<>"Aplicado",ISNUMBER($M25)),"Revisar fecha de aplicación",IF(AND($K25="Rechazado",$L25<>"Cancelado"),"Revisar estados",IF(AND($H25>=$Y$8,$K25="Pendiente"),"Revisar aprobación",IF(AND($P25<=$Z$8,$P25>=0,$L25="Pendiente"),"Salida próxima: comprobar",IF(AND($P25<0,$L25="Pendiente"),"Salida pasada: comprobar",""))))))))))) | R25: =IFERROR(INDEX('Parámetros'!$E$4:$E$8,18),"") | S25: =IFERROR(INDEX('Parámetros'!$F$4:$F$7,18),"") | T25: =IFERROR(INDEX('Parámetros'!$G$4:$G$6,18),"")
O26: =IF($A26="","",IF(AND(ISNUMBER($H26),ISNUMBER($N26)),$N26-$H26,"")) | P26: =IF(OR($A26="",NOT(ISNUMBER($C26))),"",$C26-TODAY()) | Q26: =IF($A26="","",IF(OR(NOT(ISNUMBER($B26)),NOT(ISNUMBER($C26))),"Completar fechas",IF(OR($D26="",$E26="",$F26="",$I26="",$J26="",$K26="",$L26="",NOT(ISNUMBER($G26)),NOT(ISNUMBER($H26))),"Completar datos",IF($C26<$B26,"Revisar fechas",IF(AND($L26="Aplicado",NOT(ISNUMBER($M26))),"Falta fecha de aplicación",IF(AND($L26="Aplicado",NOT(ISNUMBER($N26))),"Falta importe final",IF(AND($L26<>"Aplicado",ISNUMBER($M26)),"Revisar fecha de aplicación",IF(AND($K26="Rechazado",$L26<>"Cancelado"),"Revisar estados",IF(AND($H26>=$Y$8,$K26="Pendiente"),"Revisar aprobación",IF(AND($P26<=$Z$8,$P26>=0,$L26="Pendiente"),"Salida próxima: comprobar",IF(AND($P26<0,$L26="Pendiente"),"Salida pasada: comprobar",""))))))))))) | R26: =IFERROR(INDEX('Parámetros'!$E$4:$E$8,19),"") | S26: =IFERROR(INDEX('Parámetros'!$F$4:$F$7,19),"") | T26: =IFERROR(INDEX('Parámetros'!$G$4:$G$6,19),"")
O27: =IF($A27="","",IF(AND(ISNUMBER($H27),ISNUMBER($N27)),$N27-$H27,"")) | P27: =IF(OR($A27="",NOT(ISNUMBER($C27))),"",$C27-TODAY()) | Q27: =IF($A27="","",IF(OR(NOT(ISNUMBER($B27)),NOT(ISNUMBER($C27))),"Completar fechas",IF(OR($D27="",$E27="",$F27="",$I27="",$J27="",$K27="",$L27="",NOT(ISNUMBER($G27)),NOT(ISNUMBER($H27))),"Completar datos",IF($C27<$B27,"Revisar fechas",IF(AND($L27="Aplicado",NOT(ISNUMBER($M27))),"Falta fecha de aplicación",IF(AND($L27="Aplicado",NOT(ISNUMBER($N27))),"Falta importe final",IF(AND($L27<>"Aplicado",ISNUMBER($M27)),"Revisar fecha de aplicación",IF(AND($K27="Rechazado",$L27<>"Cancelado"),"Revisar estados",IF(AND($H27>=$Y$8,$K27="Pendiente"),"Revisar aprobación",IF(AND($P27<=$Z$8,$P27>=0,$L27="Pendiente"),"Salida próxima: comprobar",IF(AND($P27<0,$L27="Pendiente"),"Salida pasada: comprobar",""))))))))))) | R27: =IFERROR(INDEX('Parámetros'!$E$4:$E$8,20),"") | S27: =IFERROR(INDEX('Parámetros'!$F$4:$F$7,20),"") | T27: =IFERROR(INDEX('Parámetros'!$G$4:$G$6,20),"")
O28: =IF($A28="","",IF(AND(ISNUMBER($H28),ISNUMBER($N28)),$N28-$H28,"")) | P28: =IF(OR($A28="",NOT(ISNUMBER($C28))),"",$C28-TODAY()) | Q28: =IF($A28="","",IF(OR(NOT(ISNUMBER($B28)),NOT(ISNUMBER($C28))),"Completar fechas",IF(OR($D28="",$E28="",$F28="",$I28="",$J28="",$K28="",$L28="",NOT(ISNUMBER($G28)),NOT(ISNUMBER($H28))),"Completar datos",IF($C28<$B28,"Revisar fechas",IF(AND($L28="Aplicado",NOT(ISNUMBER($M28))),"Falta fecha de aplicación",IF(AND($L28="Aplicado",NOT(ISNUMBER($N28))),"Falta importe final",IF(AND($L28<>"Aplicado",ISNUMBER($M28)),"Revisar fecha de aplicación",IF(AND($K28="Rechazado",$L28<>"Cancelado"),"Revisar estados",IF(AND($H28>=$Y$8,$K28="Pendiente"),"Revisar aprobación",IF(AND($P28<=$Z$8,$P28>=0,$L28="Pendiente"),"Salida próxima: comprobar",IF(AND($P28<0,$L28="Pendiente"),"Salida pasada: comprobar",""))))))))))) | R28: =IFERROR(INDEX('Parámetros'!$E$4:$E$8,21),"") | S28: =IFERROR(INDEX('Parámetros'!$F$4:$F$7,21),"") | T28: =IFERROR(INDEX('Parámetros'!$G$4:$G$6,21),"")
O29: =IF($A29="","",IF(AND(ISNUMBER($H29),ISNUMBER($N29)),$N29-$H29,"")) | P29: =IF(OR($A29="",NOT(ISNUMBER($C29))),"",$C29-TODAY()) | Q29: =IF($A29="","",IF(OR(NOT(ISNUMBER($B29)),NOT(ISNUMBER($C29))),"Completar fechas",IF(OR($D29="",$E29="",$F29="",$I29="",$J29="",$K29="",$L29="",NOT(ISNUMBER($G29)),NOT(ISNUMBER($H29))),"Completar datos",IF($C29<$B29,"Revisar fechas",IF(AND($L29="Aplicado",NOT(ISNUMBER($M29))),"Falta fecha de aplicación",IF(AND($L29="Aplicado",NOT(ISNUMBER($N29))),"Falta importe final",IF(AND($L29<>"Aplicado",ISNUMBER($M29)),"Revisar fecha de aplicación",IF(AND($K29="Rechazado",$L29<>"Cancelado"),"Revisar estados",IF(AND($H29>=$Y$8,$K29="Pendiente"),"Revisar aprobación",IF(AND($P29<=$Z$8,$P29>=0,$L29="Pendiente"),"Salida próxima: comprobar",IF(AND($P29<0,$L29="Pendiente"),"Salida pasada: comprobar",""))))))))))) | R29: =IFERROR(INDEX('Parámetros'!$E$4:$E$8,22),"") | S29: =IFERROR(INDEX('Parámetros'!$F$4:$F$7,22),"") | T29: =IFERROR(INDEX('Parámetros'!$G$4:$G$6,22),"")
O30: =IF($A30="","",IF(AND(ISNUMBER($H30),ISNUMBER($N30)),$N30-$H30,"")) | P30: =IF(OR($A30="",NOT(ISNUMBER($C30))),"",$C30-TODAY()) | Q30: =IF($A30="","",IF(OR(NOT(ISNUMBER($B30)),NOT(ISNUMBER($C30))),"Completar fechas",IF(OR($D30="",$E30="",$F30="",$I30="",$J30="",$K30="",$L30="",NOT(ISNUMBER($G30)),NOT(ISNUMBER($H30))),"Completar datos",IF($C30<$B30,"Revisar fechas",IF(AND($L30="Aplicado",NOT(ISNUMBER($M30))),"Falta fecha de aplicación",IF(AND($L30="Aplicado",NOT(ISNUMBER($N30))),"Falta importe final",IF(AND($L30<>"Aplicado",ISNUMBER($M30)),"Revisar fecha de aplicación",IF(AND($K30="Rechazado",$L30<>"Cancelado"),"Revisar estados",IF(AND($H30>=$Y$8,$K30="Pendiente"),"Revisar aprobación",IF(AND($P30<=$Z$8,$P30>=0,$L30="Pendiente"),"Salida próxima: comprobar",IF(AND($P30<0,$L30="Pendiente"),"Salida pasada: comprobar",""))))))))))) | R30: =IFERROR(INDEX('Parámetros'!$E$4:$E$8,23),"") | S30: =IFERROR(INDEX('Parámetros'!$F$4:$F$7,23),"") | T30: =IFERROR(INDEX('Parámetros'!$G$4:$G$6,23),"")
O31: =IF($A31="","",IF(AND(ISNUMBER($H31),ISNUMBER($N31)),$N31-$H31,"")) | P31: =IF(OR($A31="",NOT(ISNUMBER($C31))),"",$C31-TODAY()) | Q31: =IF($A31="","",IF(OR(NOT(ISNUMBER($B31)),NOT(ISNUMBER($C31))),"Completar fechas",IF(OR($D31="",$E31="",$F31="",$I31="",$J31="",$K31="",$L31="",NOT(ISNUMBER($G31)),NOT(ISNUMBER($H31))),"Completar datos",IF($C31<$B31,"Revisar fechas",IF(AND($L31="Aplicado",NOT(ISNUMBER($M31))),"Falta fecha de aplicación",IF(AND($L31="Aplicado",NOT(ISNUMBER($N31))),"Falta importe final",IF(AND($L31<>"Aplicado",ISNUMBER($M31)),"Revisar fecha de aplicación",IF(AND($K31="Rechazado",$L31<>"Cancelado"),"Revisar estados",IF(AND($H31>=$Y$8,$K31="Pendiente"),"Revisar aprobación",IF(AND($P31<=$Z$8,$P31>=0,$L31="Pendiente"),"Salida próxima: comprobar",IF(AND($P31<0,$L31="Pendiente"),"Salida pasada: comprobar",""))))))))))) | R31: =IFERROR(INDEX('Parámetros'!$E$4:$E$8,24),"") | S31: =IFERROR(INDEX('Parámetros'!$F$4:$F$7,24),"") | T31: =IFERROR(INDEX('Parámetros'!$G$4:$G$6,24),"")
O32: =IF($A32="","",IF(AND(ISNUMBER($H32),ISNUMBER($N32)),$N32-$H32,"")) | P32: =IF(OR($A32="",NOT(ISNUMBER($C32))),"",$C32-TODAY()) | Q32: =IF($A32="","",IF(OR(NOT(ISNUMBER($B32)),NOT(ISNUMBER($C32))),"Completar fechas",IF(OR($D32="",$E32="",$F32="",$I32="",$J32="",$K32="",$L32="",NOT(ISNUMBER($G32)),NOT(ISNUMBER($H32))),"Completar datos",IF($C32<$B32,"Revisar fechas",IF(AND($L32="Aplicado",NOT(ISNUMBER($M32))),"Falta fecha de aplicación",IF(AND($L32="Aplicado",NOT(ISNUMBER($N32))),"Falta importe final",IF(AND($L32<>"Aplicado",ISNUMBER($M32)),"Revisar fecha de aplicación",IF(AND($K32="Rechazado",$L32<>"Cancelado"),"Revisar estados",IF(AND($H32>=$Y$8,$K32="Pendiente"),"Revisar aprobación",IF(AND($P32<=$Z$8,$P32>=0,$L32="Pendiente"),"Salida próxima: comprobar",IF(AND($P32<0,$L32="Pendiente"),"Salida pasada: comprobar",""))))))))))) | R32: =IFERROR(INDEX('Parámetros'!$E$4:$E$8,25),"") | S32: =IFERROR(INDEX('Parámetros'!$F$4:$F$7,25),"") | T32: =IFERROR(INDEX('Parámetros'!$G$4:$G$6,25),"")
O33: =IF($A33="","",IF(AND(ISNUMBER($H33),ISNUMBER($N33)),$N33-$H33,"")) | P33: =IF(OR($A33="",NOT(ISNUMBER($C33))),"",$C33-TODAY()) | Q33: =IF($A33="","",IF(OR(NOT(ISNUMBER($B33)),NOT(ISNUMBER($C33))),"Completar fechas",IF(OR($D33="",$E33="",$F33="",$I33="",$J33="",$K33="",$L33="",NOT(ISNUMBER($G33)),NOT(ISNUMBER($H33))),"Completar datos",IF($C33<$B33,"Revisar fechas",IF(AND($L33="Aplicado",NOT(ISNUMBER($M33))),"Falta fecha de aplicación",IF(AND($L33="Aplicado",NOT(ISNUMBER($N33))),"Falta importe final",IF(AND($L33<>"Aplicado",ISNUMBER($M33)),"Revisar fecha de aplicación",IF(AND($K33="Rechazado",$L33<>"Cancelado"),"Revisar estados",IF(AND($H33>=$Y$8,$K33="Pendiente"),"Revisar aprobación",IF(AND($P33<=$Z$8,$P33>=0,$L33="Pendiente"),"Salida próxima: comprobar",IF(AND($P33<0,$L33="Pendiente"),"Salida pasada: comprobar",""))))))))))) | R33: =IFERROR(INDEX('Parámetros'!$E$4:$E$8,26),"") | S33: =IFERROR(INDEX('Parámetros'!$F$4:$F$7,26),"") | T33: =IFERROR(INDEX('Parámetros'!$G$4:$G$6,26),"")
O34: =IF($A34="","",IF(AND(ISNUMBER($H34),ISNUMBER($N34)),$N34-$H34,"")) | P34: =IF(OR($A34="",NOT(ISNUMBER($C34))),"",$C34-TODAY()) | Q34: =IF($A34="","",IF(OR(NOT(ISNUMBER($B34)),NOT(ISNUMBER($C34))),"Completar fechas",IF(OR($D34="",$E34="",$F34="",$I34="",$J34="",$K34="",$L34="",NOT(ISNUMBER($G34)),NOT(ISNUMBER($H34))),"Completar datos",IF($C34<$B34,"Revisar fechas",IF(AND($L34="Aplicado",NOT(ISNUMBER($M34))),"Falta fecha de aplicación",IF(AND($L34="Aplicado",NOT(ISNUMBER($N34))),"Falta importe final",IF(AND($L34<>"Aplicado",ISNUMBER($M34)),"Revisar fecha de aplicación",IF(AND($K34="Rechazado",$L34<>"Cancelado"),"Revisar estados",IF(AND($H34>=$Y$8,$K34="Pendiente"),"Revisar aprobación",IF(AND($P34<=$Z$8,$P34>=0,$L34="Pendiente"),"Salida próxima: comprobar",IF(AND($P34<0,$L34="Pendiente"),"Salida pasada: comprobar",""))))))))))) | R34: =IFERROR(INDEX('Parámetros'!$E$4:$E$8,27),"") | S34: =IFERROR(INDEX('Parámetros'!$F$4:$F$7,27),"") | T34: =IFERROR(INDEX('Parámetros'!$G$4:$G$6,27),"")
O35: =IF($A35="","",IF(AND(ISNUMBER($H35),ISNUMBER($N35)),$N35-$H35,"")) | P35: =IF(OR($A35="",NOT(ISNUMBER($C35))),"",$C35-TODAY()) | Q35: =IF($A35="","",IF(OR(NOT(ISNUMBER($B35)),NOT(ISNUMBER($C35))),"Completar fechas",IF(OR($D35="",$E35="",$F35="",$I35="",$J35="",$K35="",$L35="",NOT(ISNUMBER($G35)),NOT(ISNUMBER($H35))),"Completar datos",IF($C35<$B35,"Revisar fechas",IF(AND($L35="Aplicado",NOT(ISNUMBER($M35))),"Falta fecha de aplicación",IF(AND($L35="Aplicado",NOT(ISNUMBER($N35))),"Falta importe final",IF(AND($L35<>"Aplicado",ISNUMBER($M35)),"Revisar fecha de aplicación",IF(AND($K35="Rechazado",$L35<>"Cancelado"),"Revisar estados",IF(AND($H35>=$Y$8,$K35="Pendiente"),"Revisar aprobación",IF(AND($P35<=$Z$8,$P35>=0,$L35="Pendiente"),"Salida próxima: comprobar",IF(AND($P35<0,$L35="Pendiente"),"Salida pasada: comprobar",""))))))))))) | R35: =IFERROR(INDEX('Parámetros'!$E$4:$E$8,28),"") | S35: =IFERROR(INDEX('Parámetros'!$F$4:$F$7,28),"") | T35: =IFERROR(INDEX('Parámetros'!$G$4:$G$6,28),"")
O36: =IF($A36="","",IF(AND(ISNUMBER($H36),ISNUMBER($N36)),$N36-$H36,"")) | P36: =IF(OR($A36="",NOT(ISNUMBER($C36))),"",$C36-TODAY()) | Q36: =IF($A36="","",IF(OR(NOT(ISNUMBER($B36)),NOT(ISNUMBER($C36))),"Completar fechas",IF(OR($D36="",$E36="",$F36="",$I36="",$J36="",$K36="",$L36="",NOT(ISNUMBER($G36)),NOT(ISNUMBER($H36))),"Completar datos",IF($C36<$B36,"Revisar fechas",IF(AND($L36="Aplicado",NOT(ISNUMBER($M36))),"Falta fecha de aplicación",IF(AND($L36="Aplicado",NOT(ISNUMBER($N36))),"Falta importe final",IF(AND($L36<>"Aplicado",ISNUMBER($M36)),"Revisar fecha de aplicación",IF(AND($K36="Rechazado",$L36<>"Cancelado"),"Revisar estados",IF(AND($H36>=$Y$8,$K36="Pendiente"),"Revisar aprobación",IF(AND($P36<=$Z$8,$P36>=0,$L36="Pendiente"),"Salida próxima: comprobar",IF(AND($P36<0,$L36="Pendiente"),"Salida pasada: comprobar",""))))))))))) | R36: =IFERROR(INDEX('Parámetros'!$E$4:$E$8,29),"") | S36: =IFERROR(INDEX('Parámetros'!$F$4:$F$7,29),"") | T36: =IFERROR(INDEX('Parámetros'!$G$4:$G$6,29),"")
O37: =IF($A37="","",IF(AND(ISNUMBER($H37),ISNUMBER($N37)),$N37-$H37,"")) | P37: =IF(OR($A37="",NOT(ISNUMBER($C37))),"",$C37-TODAY()) | Q37: =IF($A37="","",IF(OR(NOT(ISNUMBER($B37)),NOT(ISNUMBER($C37))),"Completar fechas",IF(OR($D37="",$E37="",$F37="",$I37="",$J37="",$K37="",$L37="",NOT(ISNUMBER($G37)),NOT(ISNUMBER($H37))),"Completar datos",IF($C37<$B37,"Revisar fechas",IF(AND($L37="Aplicado",NOT(ISNUMBER($M37))),"Falta fecha de aplicación",IF(AND($L37="Aplicado",NOT(ISNUMBER($N37))),"Falta importe final",IF(AND($L37<>"Aplicado",ISNUMBER($M37)),"Revisar fecha de aplicación",IF(AND($K37="Rechazado",$L37<>"Cancelado"),"Revisar estados",IF(AND($H37>=$Y$8,$K37="Pendiente"),"Revisar aprobación",IF(AND($P37<=$Z$8,$P37>=0,$L37="Pendiente"),"Salida próxima: comprobar",IF(AND($P37<0,$L37="Pendiente"),"Salida pasada: comprobar",""))))))))))) | R37: =IFERROR(INDEX('Parámetros'!$E$4:$E$8,30),"") | S37: =IFERROR(INDEX('Parámetros'!$F$4:$F$7,30),"") | T37: =IFERROR(INDEX('Parámetros'!$G$4:$G$6,30),"")
O38: =IF($A38="","",IF(AND(ISNUMBER($H38),ISNUMBER($N38)),$N38-$H38,"")) | P38: =IF(OR($A38="",NOT(ISNUMBER($C38))),"",$C38-TODAY()) | Q38: =IF($A38="","",IF(OR(NOT(ISNUMBER($B38)),NOT(ISNUMBER($C38))),"Completar fechas",IF(OR($D38="",$E38="",$F38="",$I38="",$J38="",$K38="",$L38="",NOT(ISNUMBER($G38)),NOT(ISNUMBER($H38))),"Completar datos",IF($C38<$B38,"Revisar fechas",IF(AND($L38="Aplicado",NOT(ISNUMBER($M38))),"Falta fecha de aplicación",IF(AND($L38="Aplicado",NOT(ISNUMBER($N38))),"Falta importe final",IF(AND($L38<>"Aplicado",ISNUMBER($M38)),"Revisar fecha de aplicación",IF(AND($K38="Rechazado",$L38<>"Cancelado"),"Revisar estados",IF(AND($H38>=$Y$8,$K38="Pendiente"),"Revisar aprobación",IF(AND($P38<=$Z$8,$P38>=0,$L38="Pendiente"),"Salida próxima: comprobar",IF(AND($P38<0,$L38="Pendiente"),"Salida pasada: comprobar",""))))))))))) | R38: =IFERROR(INDEX('Parámetros'!$E$4:$E$8,31),"") | S38: =IFERROR(INDEX('Parámetros'!$F$4:$F$7,31),"") | T38: =IFERROR(INDEX('Parámetros'!$G$4:$G$6,31),"")
O39: =IF($A39="","",IF(AND(ISNUMBER($H39),ISNUMBER($N39)),$N39-$H39,"")) | P39: =IF(OR($A39="",NOT(ISNUMBER($C39))),"",$C39-TODAY()) | Q39: =IF($A39="","",IF(OR(NOT(ISNUMBER($B39)),NOT(ISNUMBER($C39))),"Completar fechas",IF(OR($D39="",$E39="",$F39="",$I39="",$J39="",$K39="",$L39="",NOT(ISNUMBER($G39)),NOT(ISNUMBER($H39))),"Completar datos",IF($C39<$B39,"Revisar fechas",IF(AND($L39="Aplicado",NOT(ISNUMBER($M39))),"Falta fecha de aplicación",IF(AND($L39="Aplicado",NOT(ISNUMBER($N39))),"Falta importe final",IF(AND($L39<>"Aplicado",ISNUMBER($M39)),"Revisar fecha de aplicación",IF(AND($K39="Rechazado",$L39<>"Cancelado"),"Revisar estados",IF(AND($H39>=$Y$8,$K39="Pendiente"),"Revisar aprobación",IF(AND($P39<=$Z$8,$P39>=0,$L39="Pendiente"),"Salida próxima: comprobar",IF(AND($P39<0,$L39="Pendiente"),"Salida pasada: comprobar",""))))))))))) | R39: =IFERROR(INDEX('Parámetros'!$E$4:$E$8,32),"") | S39: =IFERROR(INDEX('Parámetros'!$F$4:$F$7,32),"") | T39: =IFERROR(INDEX('Parámetros'!$G$4:$G$6,32),"")
O40: =IF($A40="","",IF(AND(ISNUMBER($H40),ISNUMBER($N40)),$N40-$H40,"")) | P40: =IF(OR($A40="",NOT(ISNUMBER($C40))),"",$C40-TODAY()) | Q40: =IF($A40="","",IF(OR(NOT(ISNUMBER($B40)),NOT(ISNUMBER($C40))),"Completar fechas",IF(OR($D40="",$E40="",$F40="",$I40="",$J40="",$K40="",$L40="",NOT(ISNUMBER($G40)),NOT(ISNUMBER($H40))),"Completar datos",IF($C40<$B40,"Revisar fechas",IF(AND($L40="Aplicado",NOT(ISNUMBER($M40))),"Falta fecha de aplicación",IF(AND($L40="Aplicado",NOT(ISNUMBER($N40))),"Falta importe final",IF(AND($L40<>"Aplicado",ISNUMBER($M40)),"Revisar fecha de aplicación",IF(AND($K40="Rechazado",$L40<>"Cancelado"),"Revisar estados",IF(AND($H40>=$Y$8,$K40="Pendiente"),"Revisar aprobación",IF(AND($P40<=$Z$8,$P40>=0,$L40="Pendiente"),"Salida próxima: comprobar",IF(AND($P40<0,$L40="Pendiente"),"Salida pasada: comprobar",""))))))))))) | R40: =IFERROR(INDEX('Parámetros'!$E$4:$E$8,33),"") | S40: =IFERROR(INDEX('Parámetros'!$F$4:$F$7,33),"") | T40: =IFERROR(INDEX('Parámetros'!$G$4:$G$6,33),"")
O41: =IF($A41="","",IF(AND(ISNUMBER($H41),ISNUMBER($N41)),$N41-$H41,"")) | P41: =IF(OR($A41="",NOT(ISNUMBER($C41))),"",$C41-TODAY()) | Q41: =IF($A41="","",IF(OR(NOT(ISNUMBER($B41)),NOT(ISNUMBER($C41))),"Completar fechas",IF(OR($D41="",$E41="",$F41="",$I41="",$J41="",$K41="",$L41="",NOT(ISNUMBER($G41)),NOT(ISNUMBER($H41))),"Completar datos",IF($C41<$B41,"Revisar fechas",IF(AND($L41="Aplicado",NOT(ISNUMBER($M41))),"Falta fecha de aplicación",IF(AND($L41="Aplicado",NOT(ISNUMBER($N41))),"Falta importe final",IF(AND($L41<>"Aplicado",ISNUMBER($M41)),"Revisar fecha de aplicación",IF(AND($K41="Rechazado",$L41<>"Cancelado"),"Revisar estados",IF(AND($H41>=$Y$8,$K41="Pendiente"),"Revisar aprobación",IF(AND($P41<=$Z$8,$P41>=0,$L41="Pendiente"),"Salida próxima: comprobar",IF(AND($P41<0,$L41="Pendiente"),"Salida pasada: comprobar",""))))))))))) | R41: =IFERROR(INDEX('Parámetros'!$E$4:$E$8,34),"") | S41: =IFERROR(INDEX('Parámetros'!$F$4:$F$7,34),"") | T41: =IFERROR(INDEX('Parámetros'!$G$4:$G$6,34),"")
O42: =IF($A42="","",IF(AND(ISNUMBER($H42),ISNUMBER($N42)),$N42-$H42,"")) | P42: =IF(OR($A42="",NOT(ISNUMBER($C42))),"",$C42-TODAY()) | Q42: =IF($A42="","",IF(OR(NOT(ISNUMBER($B42)),NOT(ISNUMBER($C42))),"Completar fechas",IF(OR($D42="",$E42="",$F42="",$I42="",$J42="",$K42="",$L42="",NOT(ISNUMBER($G42)),NOT(ISNUMBER($H42))),"Completar datos",IF($C42<$B42,"Revisar fechas",IF(AND($L42="Aplicado",NOT(ISNUMBER($M42))),"Falta fecha de aplicación",IF(AND($L42="Aplicado",NOT(ISNUMBER($N42))),"Falta importe final",IF(AND($L42<>"Aplicado",ISNUMBER($M42)),"Revisar fecha de aplicación",IF(AND($K42="Rechazado",$L42<>"Cancelado"),"Revisar estados",IF(AND($H42>=$Y$8,$K42="Pendiente"),"Revisar aprobación",IF(AND($P42<=$Z$8,$P42>=0,$L42="Pendiente"),"Salida próxima: comprobar",IF(AND($P42<0,$L42="Pendiente"),"Salida pasada: comprobar",""))))))))))) | R42: =IFERROR(INDEX('Parámetros'!$E$4:$E$8,35),"") | S42: =IFERROR(INDEX('Parámetros'!$F$4:$F$7,35),"") | T42: =IFERROR(INDEX('Parámetros'!$G$4:$G$6,35),"")
O43: =IF($A43="","",IF(AND(ISNUMBER($H43),ISNUMBER($N43)),$N43-$H43,"")) | P43: =IF(OR($A43="",NOT(ISNUMBER($C43))),"",$C43-TODAY()) | Q43: =IF($A43="","",IF(OR(NOT(ISNUMBER($B43)),NOT(ISNUMBER($C43))),"Completar fechas",IF(OR($D43="",$E43="",$F43="",$I43="",$J43="",$K43="",$L43="",NOT(ISNUMBER($G43)),NOT(ISNUMBER($H43))),"Completar datos",IF($C43<$B43,"Revisar fechas",IF(AND($L43="Aplicado",NOT(ISNUMBER($M43))),"Falta fecha de aplicación",IF(AND($L43="Aplicado",NOT(ISNUMBER($N43))),"Falta importe final",IF(AND($L43<>"Aplicado",ISNUMBER($M43)),"Revisar fecha de aplicación",IF(AND($K43="Rechazado",$L43<>"Cancelado"),"Revisar estados",IF(AND($H43>=$Y$8,$K43="Pendiente"),"Revisar aprobación",IF(AND($P43<=$Z$8,$P43>=0,$L43="Pendiente"),"Salida próxima: comprobar",IF(AND($P43<0,$L43="Pendiente"),"Salida pasada: comprobar",""))))))))))) | R43: =IFERROR(INDEX('Parámetros'!$E$4:$E$8,36),"") | S43: =IFERROR(INDEX('Parámetros'!$F$4:$F$7,36),"") | T43: =IFERROR(INDEX('Parámetros'!$G$4:$G$6,36),"")
O44: =IF($A44="","",IF(AND(ISNUMBER($H44),ISNUMBER($N44)),$N44-$H44,"")) | P44: =IF(OR($A44="",NOT(ISNUMBER($C44))),"",$C44-TODAY()) | Q44: =IF($A44="","",IF(OR(NOT(ISNUMBER($B44)),NOT(ISNUMBER($C44))),"Completar fechas",IF(OR($D44="",$E44="",$F44="",$I44="",$J44="",$K44="",$L44="",NOT(ISNUMBER($G44)),NOT(ISNUMBER($H44))),"Completar datos",IF($C44<$B44,"Revisar fechas",IF(AND($L44="Aplicado",NOT(ISNUMBER($M44))),"Falta fecha de aplicación",IF(AND($L44="Aplicado",NOT(ISNUMBER($N44))),"Falta importe final",IF(AND($L44<>"Aplicado",ISNUMBER($M44)),"Revisar fecha de aplicación",IF(AND($K44="Rechazado",$L44<>"Cancelado"),"Revisar estados",IF(AND($H44>=$Y$8,$K44="Pendiente"),"Revisar aprobación",IF(AND($P44<=$Z$8,$P44>=0,$L44="Pendiente"),"Salida próxima: comprobar",IF(AND($P44<0,$L44="Pendiente"),"Salida pasada: comprobar",""))))))))))) | R44: =IFERROR(INDEX('Parámetros'!$E$4:$E$8,37),"") | S44: =IFERROR(INDEX('Parámetros'!$F$4:$F$7,37),"") | T44: =IFERROR(INDEX('Parámetros'!$G$4:$G$6,37),"")
O45: =IF($A45="","",IF(AND(ISNUMBER($H45),ISNUMBER($N45)),$N45-$H45,"")) | P45: =IF(OR($A45="",NOT(ISNUMBER($C45))),"",$C45-TODAY()) | Q45: =IF($A45="","",IF(OR(NOT(ISNUMBER($B45)),NOT(ISNUMBER($C45))),"Completar fechas",IF(OR($D45="",$E45="",$F45="",$I45="",$J45="",$K45="",$L45="",NOT(ISNUMBER($G45)),NOT(ISNUMBER($H45))),"Completar datos",IF($C45<$B45,"Revisar fechas",IF(AND($L45="Aplicado",NOT(ISNUMBER($M45))),"Falta fecha de aplicación",IF(AND($L45="Aplicado",NOT(ISNUMBER($N45))),"Falta importe final",IF(AND($L45<>"Aplicado",ISNUMBER($M45)),"Revisar fecha de aplicación",IF(AND($K45="Rechazado",$L45<>"Cancelado"),"Revisar estados",IF(AND($H45>=$Y$8,$K45="Pendiente"),"Revisar aprobación",IF(AND($P45<=$Z$8,$P45>=0,$L45="Pendiente"),"Salida próxima: comprobar",IF(AND($P45<0,$L45="Pendiente"),"Salida pasada: comprobar",""))))))))))) | R45: =IFERROR(INDEX('Parámetros'!$E$4:$E$8,38),"") | S45: =IFERROR(INDEX('Parámetros'!$F$4:$F$7,38),"") | T45: =IFERROR(INDEX('Parámetros'!$G$4:$G$6,38),"")
O46: =IF($A46="","",IF(AND(ISNUMBER($H46),ISNUMBER($N46)),$N46-$H46,"")) | P46: =IF(OR($A46="",NOT(ISNUMBER($C46))),"",$C46-TODAY()) | Q46: =IF($A46="","",IF(OR(NOT(ISNUMBER($B46)),NOT(ISNUMBER($C46))),"Completar fechas",IF(OR($D46="",$E46="",$F46="",$I46="",$J46="",$K46="",$L46="",NOT(ISNUMBER($G46)),NOT(ISNUMBER($H46))),"Completar datos",IF($C46<$B46,"Revisar fechas",IF(AND($L46="Aplicado",NOT(ISNUMBER($M46))),"Falta fecha de aplicación",IF(AND($L46="Aplicado",NOT(ISNUMBER($N46))),"Falta importe final",IF(AND($L46<>"Aplicado",ISNUMBER($M46)),"Revisar fecha de aplicación",IF(AND($K46="Rechazado",$L46<>"Cancelado"),"Revisar estados",IF(AND($H46>=$Y$8,$K46="Pendiente"),"Revisar aprobación",IF(AND($P46<=$Z$8,$P46>=0,$L46="Pendiente"),"Salida próxima: comprobar",IF(AND($P46<0,$L46="Pendiente"),"Salida pasada: comprobar",""))))))))))) | R46: =IFERROR(INDEX('Parámetros'!$E$4:$E$8,39),"") | S46: =IFERROR(INDEX('Parámetros'!$F$4:$F$7,39),"") | T46: =IFERROR(INDEX('Parámetros'!$G$4:$G$6,39),"")
O47: =IF($A47="","",IF(AND(ISNUMBER($H47),ISNUMBER($N47)),$N47-$H47,"")) | P47: =IF(OR($A47="",NOT(ISNUMBER($C47))),"",$C47-TODAY()) | Q47: =IF($A47="","",IF(OR(NOT(ISNUMBER($B47)),NOT(ISNUMBER($C47))),"Completar fechas",IF(OR($D47="",$E47="",$F47="",$I47="",$J47="",$K47="",$L47="",NOT(ISNUMBER($G47)),NOT(ISNUMBER($H47))),"Completar datos",IF($C47<$B47,"Revisar fechas",IF(AND($L47="Aplicado",NOT(ISNUMBER($M47))),"Falta fecha de aplicación",IF(AND($L47="Aplicado",NOT(ISNUMBER($N47))),"Falta importe final",IF(AND($L47<>"Aplicado",ISNUMBER($M47)),"Revisar fecha de aplicación",IF(AND($K47="Rechazado",$L47<>"Cancelado"),"Revisar estados",IF(AND($H47>=$Y$8,$K47="Pendiente"),"Revisar aprobación",IF(AND($P47<=$Z$8,$P47>=0,$L47="Pendiente"),"Salida próxima: comprobar",IF(AND($P47<0,$L47="Pendiente"),"Salida pasada: comprobar",""))))))))))) | R47: =IFERROR(INDEX('Parámetros'!$E$4:$E$8,40),"") | S47: =IFERROR(INDEX('Parámetros'!$F$4:$F$7,40),"") | T47: =IFERROR(INDEX('Parámetros'!$G$4:$G$6,40),"")
O48: =IF($A48="","",IF(AND(ISNUMBER($H48),ISNUMBER($N48)),$N48-$H48,"")) | P48: =IF(OR($A48="",NOT(ISNUMBER($C48))),"",$C48-TODAY()) | Q48: =IF($A48="","",IF(OR(NOT(ISNUMBER($B48)),NOT(ISNUMBER($C48))),"Completar fechas",IF(OR($D48="",$E48="",$F48="",$I48="",$J48="",$K48="",$L48="",NOT(ISNUMBER($G48)),NOT(ISNUMBER($H48))),"Completar datos",IF($C48<$B48,"Revisar fechas",IF(AND($L48="Aplicado",NOT(ISNUMBER($M48))),"Falta fecha de aplicación",IF(AND($L48="Aplicado",NOT(ISNUMBER($N48))),"Falta importe final",IF(AND($L48<>"Aplicado",ISNUMBER($M48)),"Revisar fecha de aplicación",IF(AND($K48="Rechazado",$L48<>"Cancelado"),"Revisar estados",IF(AND($H48>=$Y$8,$K48="Pendiente"),"Revisar aprobación",IF(AND($P48<=$Z$8,$P48>=0,$L48="Pendiente"),"Salida próxima: comprobar",IF(AND($P48<0,$L48="Pendiente"),"Salida pasada: comprobar",""))))))))))) | R48: =IFERROR(INDEX('Parámetros'!$E$4:$E$8,41),"") | S48: =IFERROR(INDEX('Parámetros'!$F$4:$F$7,41),"") | T48: =IFERROR(INDEX('Parámetros'!$G$4:$G$6,41),"")
O49: =IF($A49="","",IF(AND(ISNUMBER($H49),ISNUMBER($N49)),$N49-$H49,"")) | P49: =IF(OR($A49="",NOT(ISNUMBER($C49))),"",$C49-TODAY()) | Q49: =IF($A49="","",IF(OR(NOT(ISNUMBER($B49)),NOT(ISNUMBER($C49))),"Completar fechas",IF(OR($D49="",$E49="",$F49="",$I49="",$J49="",$K49="",$L49="",NOT(ISNUMBER($G49)),NOT(ISNUMBER($H49))),"Completar datos",IF($C49<$B49,"Revisar fechas",IF(AND($L49="Aplicado",NOT(ISNUMBER($M49))),"Falta fecha de aplicación",IF(AND($L49="Aplicado",NOT(ISNUMBER($N49))),"Falta importe final",IF(AND($L49<>"Aplicado",ISNUMBER($M49)),"Revisar fecha de aplicación",IF(AND($K49="Rechazado",$L49<>"Cancelado"),"Revisar estados",IF(AND($H49>=$Y$8,$K49="Pendiente"),"Revisar aprobación",IF(AND($P49<=$Z$8,$P49>=0,$L49="Pendiente"),"Salida próxima: comprobar",IF(AND($P49<0,$L49="Pendiente"),"Salida pasada: comprobar",""))))))))))) | R49: =IFERROR(INDEX('Parámetros'!$E$4:$E$8,42),"") | S49: =IFERROR(INDEX('Parámetros'!$F$4:$F$7,42),"") | T49: =IFERROR(INDEX('Parámetros'!$G$4:$G$6,42),"")
O50: =IF($A50="","",IF(AND(ISNUMBER($H50),ISNUMBER($N50)),$N50-$H50,"")) | P50: =IF(OR($A50="",NOT(ISNUMBER($C50))),"",$C50-TODAY()) | Q50: =IF($A50="","",IF(OR(NOT(ISNUMBER($B50)),NOT(ISNUMBER($C50))),"Completar fechas",IF(OR($D50="",$E50="",$F50="",$I50="",$J50="",$K50="",$L50="",NOT(ISNUMBER($G50)),NOT(ISNUMBER($H50))),"Completar datos",IF($C50<$B50,"Revisar fechas",IF(AND($L50="Aplicado",NOT(ISNUMBER($M50))),"Falta fecha de aplicación",IF(AND($L50="Aplicado",NOT(ISNUMBER($N50))),"Falta importe final",IF(AND($L50<>"Aplicado",ISNUMBER($M50)),"Revisar fecha de aplicación",IF(AND($K50="Rechazado",$L50<>"Cancelado"),"Revisar estados",IF(AND($H50>=$Y$8,$K50="Pendiente"),"Revisar aprobación",IF(AND($P50<=$Z$8,$P50>=0,$L50="Pendiente"),"Salida próxima: comprobar",IF(AND($P50<0,$L50="Pendiente"),"Salida pasada: comprobar",""))))))))))) | R50: =IFERROR(INDEX('Parámetros'!$E$4:$E$8,43),"") | S50: =IFERROR(INDEX('Parámetros'!$F$4:$F$7,43),"") | T50: =IFERROR(INDEX('Parámetros'!$G$4:$G$6,43),"")
O51: =IF($A51="","",IF(AND(ISNUMBER($H51),ISNUMBER($N51)),$N51-$H51,"")) | P51: =IF(OR($A51="",NOT(ISNUMBER($C51))),"",$C51-TODAY()) | Q51: =IF($A51="","",IF(OR(NOT(ISNUMBER($B51)),NOT(ISNUMBER($C51))),"Completar fechas",IF(OR($D51="",$E51="",$F51="",$I51="",$J51="",$K51="",$L51="",NOT(ISNUMBER($G51)),NOT(ISNUMBER($H51))),"Completar datos",IF($C51<$B51,"Revisar fechas",IF(AND($L51="Aplicado",NOT(ISNUMBER($M51))),"Falta fecha de aplicación",IF(AND($L51="Aplicado",NOT(ISNUMBER($N51))),"Falta importe final",IF(AND($L51<>"Aplicado",ISNUMBER($M51)),"Revisar fecha de aplicación",IF(AND($K51="Rechazado",$L51<>"Cancelado"),"Revisar estados",IF(AND($H51>=$Y$8,$K51="Pendiente"),"Revisar aprobación",IF(AND($P51<=$Z$8,$P51>=0,$L51="Pendiente"),"Salida próxima: comprobar",IF(AND($P51<0,$L51="Pendiente"),"Salida pasada: comprobar",""))))))))))) | R51: =IFERROR(INDEX('Parámetros'!$E$4:$E$8,44),"") | S51: =IFERROR(INDEX('Parámetros'!$F$4:$F$7,44),"") | T51: =IFERROR(INDEX('Parámetros'!$G$4:$G$6,44),"")
O52: =IF($A52="","",IF(AND(ISNUMBER($H52),ISNUMBER($N52)),$N52-$H52,"")) | P52: =IF(OR($A52="",NOT(ISNUMBER($C52))),"",$C52-TODAY()) | Q52: =IF($A52="","",IF(OR(NOT(ISNUMBER($B52)),NOT(ISNUMBER($C52))),"Completar fechas",IF(OR($D52="",$E52="",$F52="",$I52="",$J52="",$K52="",$L52="",NOT(ISNUMBER($G52)),NOT(ISNUMBER($H52))),"Completar datos",IF($C52<$B52,"Revisar fechas",IF(AND($L52="Aplicado",NOT(ISNUMBER($M52))),"Falta fecha de aplicación",IF(AND($L52="Aplicado",NOT(ISNUMBER($N52))),"Falta importe final",IF(AND($L52<>"Aplicado",ISNUMBER($M52)),"Revisar fecha de aplicación",IF(AND($K52="Rechazado",$L52<>"Cancelado"),"Revisar estados",IF(AND($H52>=$Y$8,$K52="Pendiente"),"Revisar aprobación",IF(AND($P52<=$Z$8,$P52>=0,$L52="Pendiente"),"Salida próxima: comprobar",IF(AND($P52<0,$L52="Pendiente"),"Salida pasada: comprobar",""))))))))))) | R52: =IFERROR(INDEX('Parámetros'!$E$4:$E$8,45),"") | S52: =IFERROR(INDEX('Parámetros'!$F$4:$F$7,45),"") | T52: =IFERROR(INDEX('Parámetros'!$G$4:$G$6,45),"")
O53: =IF($A53="","",IF(AND(ISNUMBER($H53),ISNUMBER($N53)),$N53-$H53,"")) | P53: =IF(OR($A53="",NOT(ISNUMBER($C53))),"",$C53-TODAY()) | Q53: =IF($A53="","",IF(OR(NOT(ISNUMBER($B53)),NOT(ISNUMBER($C53))),"Completar fechas",IF(OR($D53="",$E53="",$F53="",$I53="",$J53="",$K53="",$L53="",NOT(ISNUMBER($G53)),NOT(ISNUMBER($H53))),"Completar datos",IF($C53<$B53,"Revisar fechas",IF(AND($L53="Aplicado",NOT(ISNUMBER($M53))),"Falta fecha de aplicación",IF(AND($L53="Aplicado",NOT(ISNUMBER($N53))),"Falta importe final",IF(AND($L53<>"Aplicado",ISNUMBER($M53)),"Revisar fecha de aplicación",IF(AND($K53="Rechazado",$L53<>"Cancelado"),"Revisar estados",IF(AND($H53>=$Y$8,$K53="Pendiente"),"Revisar aprobación",IF(AND($P53<=$Z$8,$P53>=0,$L53="Pendiente"),"Salida próxima: comprobar",IF(AND($P53<0,$L53="Pendiente"),"Salida pasada: comprobar",""))))))))))) | R53: =IFERROR(INDEX('Parámetros'!$E$4:$E$8,46),"") | S53: =IFERROR(INDEX('Parámetros'!$F$4:$F$7,46),"") | T53: =IFERROR(INDEX('Parámetros'!$G$4:$G$6,46),"")
O54: =IF($A54="","",IF(AND(ISNUMBER($H54),ISNUMBER($N54)),$N54-$H54,"")) | P54: =IF(OR($A54="",NOT(ISNUMBER($C54))),"",$C54-TODAY()) | Q54: =IF($A54="","",IF(OR(NOT(ISNUMBER($B54)),NOT(ISNUMBER($C54))),"Completar fechas",IF(OR($D54="",$E54="",$F54="",$I54="",$J54="",$K54="",$L54="",NOT(ISNUMBER($G54)),NOT(ISNUMBER($H54))),"Completar datos",IF($C54<$B54,"Revisar fechas",IF(AND($L54="Aplicado",NOT(ISNUMBER($M54))),"Falta fecha de aplicación",IF(AND($L54="Aplicado",NOT(ISNUMBER($N54))),"Falta importe final",IF(AND($L54<>"Aplicado",ISNUMBER($M54)),"Revisar fecha de aplicación",IF(AND($K54="Rechazado",$L54<>"Cancelado"),"Revisar estados",IF(AND($H54>=$Y$8,$K54="Pendiente"),"Revisar aprobación",IF(AND($P54<=$Z$8,$P54>=0,$L54="Pendiente"),"Salida próxima: comprobar",IF(AND($P54<0,$L54="Pendiente"),"Salida pasada: comprobar",""))))))))))) | R54: =IFERROR(INDEX('Parámetros'!$E$4:$E$8,47),"") | S54: =IFERROR(INDEX('Parámetros'!$F$4:$F$7,47),"") | T54: =IFERROR(INDEX('Parámetros'!$G$4:$G$6,47),"")
O55: =IF($A55="","",IF(AND(ISNUMBER($H55),ISNUMBER($N55)),$N55-$H55,"")) | P55: =IF(OR($A55="",NOT(ISNUMBER($C55))),"",$C55-TODAY()) | Q55: =IF($A55="","",IF(OR(NOT(ISNUMBER($B55)),NOT(ISNUMBER($C55))),"Completar fechas",IF(OR($D55="",$E55="",$F55="",$I55="",$J55="",$K55="",$L55="",NOT(ISNUMBER($G55)),NOT(ISNUMBER($H55))),"Completar datos",IF($C55<$B55,"Revisar fechas",IF(AND($L55="Aplicado",NOT(ISNUMBER($M55))),"Falta fecha de aplicación",IF(AND($L55="Aplicado",NOT(ISNUMBER($N55))),"Falta importe final",IF(AND($L55<>"Aplicado",ISNUMBER($M55)),"Revisar fecha de aplicación",IF(AND($K55="Rechazado",$L55<>"Cancelado"),"Revisar estados",IF(AND($H55>=$Y$8,$K55="Pendiente"),"Revisar aprobación",IF(AND($P55<=$Z$8,$P55>=0,$L55="Pendiente"),"Salida próxima: comprobar",IF(AND($P55<0,$L55="Pendiente"),"Salida pasada: comprobar",""))))))))))) | R55: =IFERROR(INDEX('Parámetros'!$E$4:$E$8,48),"") | S55: =IFERROR(INDEX('Parámetros'!$F$4:$F$7,48),"") | T55: =IFERROR(INDEX('Parámetros'!$G$4:$G$6,48),"")
O56: =IF($A56="","",IF(AND(ISNUMBER($H56),ISNUMBER($N56)),$N56-$H56,"")) | P56: =IF(OR($A56="",NOT(ISNUMBER($C56))),"",$C56-TODAY()) | Q56: =IF($A56="","",IF(OR(NOT(ISNUMBER($B56)),NOT(ISNUMBER($C56))),"Completar fechas",IF(OR($D56="",$E56="",$F56="",$I56="",$J56="",$K56="",$L56="",NOT(ISNUMBER($G56)),NOT(ISNUMBER($H56))),"Completar datos",IF($C56<$B56,"Revisar fechas",IF(AND($L56="Aplicado",NOT(ISNUMBER($M56))),"Falta fecha de aplicación",IF(AND($L56="Aplicado",NOT(ISNUMBER($N56))),"Falta importe final",IF(AND($L56<>"Aplicado",ISNUMBER($M56)),"Revisar fecha de aplicación",IF(AND($K56="Rechazado",$L56<>"Cancelado"),"Revisar estados",IF(AND($H56>=$Y$8,$K56="Pendiente"),"Revisar aprobación",IF(AND($P56<=$Z$8,$P56>=0,$L56="Pendiente"),"Salida próxima: comprobar",IF(AND($P56<0,$L56="Pendiente"),"Salida pasada: comprobar",""))))))))))) | R56: =IFERROR(INDEX('Parámetros'!$E$4:$E$8,49),"") | S56: =IFERROR(INDEX('Parámetros'!$F$4:$F$7,49),"") | T56: =IFERROR(INDEX('Parámetros'!$G$4:$G$6,49),"")
O57: =IF($A57="","",IF(AND(ISNUMBER($H57),ISNUMBER($N57)),$N57-$H57,"")) | P57: =IF(OR($A57="",NOT(ISNUMBER($C57))),"",$C57-TODAY()) | Q57: =IF($A57="","",IF(OR(NOT(ISNUMBER($B57)),NOT(ISNUMBER($C57))),"Completar fechas",IF(OR($D57="",$E57="",$F57="",$I57="",$J57="",$K57="",$L57="",NOT(ISNUMBER($G57)),NOT(ISNUMBER($H57))),"Completar datos",IF($C57<$B57,"Revisar fechas",IF(AND($L57="Aplicado",NOT(ISNUMBER($M57))),"Falta fecha de aplicación",IF(AND($L57="Aplicado",NOT(ISNUMBER($N57))),"Falta importe final",IF(AND($L57<>"Aplicado",ISNUMBER($M57)),"Revisar fecha de aplicación",IF(AND($K57="Rechazado",$L57<>"Cancelado"),"Revisar estados",IF(AND($H57>=$Y$8,$K57="Pendiente"),"Revisar aprobación",IF(AND($P57<=$Z$8,$P57>=0,$L57="Pendiente"),"Salida próxima: comprobar",IF(AND($P57<0,$L57="Pendiente"),"Salida pasada: comprobar",""))))))))))) | R57: =IFERROR(INDEX('Parámetros'!$E$4:$E$8,50),"") | S57: =IFERROR(INDEX('Parámetros'!$F$4:$F$7,50),"") | T57: =IFERROR(INDEX('Parámetros'!$G$4:$G$6,50),"")
O58: =IF($A58="","",IF(AND(ISNUMBER($H58),ISNUMBER($N58)),$N58-$H58,"")) | P58: =IF(OR($A58="",NOT(ISNUMBER($C58))),"",$C58-TODAY()) | Q58: =IF($A58="","",IF(OR(NOT(ISNUMBER($B58)),NOT(ISNUMBER($C58))),"Completar fechas",IF(OR($D58="",$E58="",$F58="",$I58="",$J58="",$K58="",$L58="",NOT(ISNUMBER($G58)),NOT(ISNUMBER($H58))),"Completar datos",IF($C58<$B58,"Revisar fechas",IF(AND($L58="Aplicado",NOT(ISNUMBER($M58))),"Falta fecha de aplicación",IF(AND($L58="Aplicado",NOT(ISNUMBER($N58))),"Falta importe final",IF(AND($L58<>"Aplicado",ISNUMBER($M58)),"Revisar fecha de aplicación",IF(AND($K58="Rechazado",$L58<>"Cancelado"),"Revisar estados",IF(AND($H58>=$Y$8,$K58="Pendiente"),"Revisar aprobación",IF(AND($P58<=$Z$8,$P58>=0,$L58="Pendiente"),"Salida próxima: comprobar",IF(AND($P58<0,$L58="Pendiente"),"Salida pasada: comprobar",""))))))))))) | R58: =IFERROR(INDEX('Parámetros'!$E$4:$E$8,51),"") | S58: =IFERROR(INDEX('Parámetros'!$F$4:$F$7,51),"") | T58: =IFERROR(INDEX('Parámetros'!$G$4:$G$6,51),"")
O59: =IF($A59="","",IF(AND(ISNUMBER($H59),ISNUMBER($N59)),$N59-$H59,"")) | P59: =IF(OR($A59="",NOT(ISNUMBER($C59))),"",$C59-TODAY()) | Q59: =IF($A59="","",IF(OR(NOT(ISNUMBER($B59)),NOT(ISNUMBER($C59))),"Completar fechas",IF(OR($D59="",$E59="",$F59="",$I59="",$J59="",$K59="",$L59="",NOT(ISNUMBER($G59)),NOT(ISNUMBER($H59))),"Completar datos",IF($C59<$B59,"Revisar fechas",IF(AND($L59="Aplicado",NOT(ISNUMBER($M59))),"Falta fecha de aplicación",IF(AND($L59="Aplicado",NOT(ISNUMBER($N59))),"Falta importe final",IF(AND($L59<>"Aplicado",ISNUMBER($M59)),"Revisar fecha de aplicación",IF(AND($K59="Rechazado",$L59<>"Cancelado"),"Revisar estados",IF(AND($H59>=$Y$8,$K59="Pendiente"),"Revisar aprobación",IF(AND($P59<=$Z$8,$P59>=0,$L59="Pendiente"),"Salida próxima: comprobar",IF(AND($P59<0,$L59="Pendiente"),"Salida pasada: comprobar",""))))))))))) | R59: =IFERROR(INDEX('Parámetros'!$E$4:$E$8,52),"") | S59: =IFERROR(INDEX('Parámetros'!$F$4:$F$7,52),"") | T59: =IFERROR(INDEX('Parámetros'!$G$4:$G$6,52),"")
O60: =IF($A60="","",IF(AND(ISNUMBER($H60),ISNUMBER($N60)),$N60-$H60,"")) | P60: =IF(OR($A60="",NOT(ISNUMBER($C60))),"",$C60-TODAY()) | Q60: =IF($A60="","",IF(OR(NOT(ISNUMBER($B60)),NOT(ISNUMBER($C60))),"Completar fechas",IF(OR($D60="",$E60="",$F60="",$I60="",$J60="",$K60="",$L60="",NOT(ISNUMBER($G60)),NOT(ISNUMBER($H60))),"Completar datos",IF($C60<$B60,"Revisar fechas",IF(AND($L60="Aplicado",NOT(ISNUMBER($M60))),"Falta fecha de aplicación",IF(AND($L60="Aplicado",NOT(ISNUMBER($N60))),"Falta importe final",IF(AND($L60<>"Aplicado",ISNUMBER($M60)),"Revisar fecha de aplicación",IF(AND($K60="Rechazado",$L60<>"Cancelado"),"Revisar estados",IF(AND($H60>=$Y$8,$K60="Pendiente"),"Revisar aprobación",IF(AND($P60<=$Z$8,$P60>=0,$L60="Pendiente"),"Salida próxima: comprobar",IF(AND($P60<0,$L60="Pendiente"),"Salida pasada: comprobar",""))))))))))) | R60: =IFERROR(INDEX('Parámetros'!$E$4:$E$8,53),"") | S60: =IFERROR(INDEX('Parámetros'!$F$4:$F$7,53),"") | T60: =IFERROR(INDEX('Parámetros'!$G$4:$G$6,53),"")
O61: =IF($A61="","",IF(AND(ISNUMBER($H61),ISNUMBER($N61)),$N61-$H61,"")) | P61: =IF(OR($A61="",NOT(ISNUMBER($C61))),"",$C61-TODAY()) | Q61: =IF($A61="","",IF(OR(NOT(ISNUMBER($B61)),NOT(ISNUMBER($C61))),"Completar fechas",IF(OR($D61="",$E61="",$F61="",$I61="",$J61="",$K61="",$L61="",NOT(ISNUMBER($G61)),NOT(ISNUMBER($H61))),"Completar datos",IF($C61<$B61,"Revisar fechas",IF(AND($L61="Aplicado",NOT(ISNUMBER($M61))),"Falta fecha de aplicación",IF(AND($L61="Aplicado",NOT(ISNUMBER($N61))),"Falta importe final",IF(AND($L61<>"Aplicado",ISNUMBER($M61)),"Revisar fecha de aplicación",IF(AND($K61="Rechazado",$L61<>"Cancelado"),"Revisar estados",IF(AND($H61>=$Y$8,$K61="Pendiente"),"Revisar aprobación",IF(AND($P61<=$Z$8,$P61>=0,$L61="Pendiente"),"Salida próxima: comprobar",IF(AND($P61<0,$L61="Pendiente"),"Salida pasada: comprobar",""))))))))))) | R61: =IFERROR(INDEX('Parámetros'!$E$4:$E$8,54),"") | S61: =IFERROR(INDEX('Parámetros'!$F$4:$F$7,54),"") | T61: =IFERROR(INDEX('Parámetros'!$G$4:$G$6,54),"")
O62: =IF($A62="","",IF(AND(ISNUMBER($H62),ISNUMBER($N62)),$N62-$H62,"")) | P62: =IF(OR($A62="",NOT(ISNUMBER($C62))),"",$C62-TODAY()) | Q62: =IF($A62="","",IF(OR(NOT(ISNUMBER($B62)),NOT(ISNUMBER($C62))),"Completar fechas",IF(OR($D62="",$E62="",$F62="",$I62="",$J62="",$K62="",$L62="",NOT(ISNUMBER($G62)),NOT(ISNUMBER($H62))),"Completar datos",IF($C62<$B62,"Revisar fechas",IF(AND($L62="Aplicado",NOT(ISNUMBER($M62))),"Falta fecha de aplicación",IF(AND($L62="Aplicado",NOT(ISNUMBER($N62))),"Falta importe final",IF(AND($L62<>"Aplicado",ISNUMBER($M62)),"Revisar fecha de aplicación",IF(AND($K62="Rechazado",$L62<>"Cancelado"),"Revisar estados",IF(AND($H62>=$Y$8,$K62="Pendiente"),"Revisar aprobación",IF(AND($P62<=$Z$8,$P62>=0,$L62="Pendiente"),"Salida próxima: comprobar",IF(AND($P62<0,$L62="Pendiente"),"Salida pasada: comprobar",""))))))))))) | R62: =IFERROR(INDEX('Parámetros'!$E$4:$E$8,55),"") | S62: =IFERROR(INDEX('Parámetros'!$F$4:$F$7,55),"") | T62: =IFERROR(INDEX('Parámetros'!$G$4:$G$6,55),"")
O63: =IF($A63="","",IF(AND(ISNUMBER($H63),ISNUMBER($N63)),$N63-$H63,"")) | P63: =IF(OR($A63="",NOT(ISNUMBER($C63))),"",$C63-TODAY()) | Q63: =IF($A63="","",IF(OR(NOT(ISNUMBER($B63)),NOT(ISNUMBER($C63))),"Completar fechas",IF(OR($D63="",$E63="",$F63="",$I63="",$J63="",$K63="",$L63="",NOT(ISNUMBER($G63)),NOT(ISNUMBER($H63))),"Completar datos",IF($C63<$B63,"Revisar fechas",IF(AND($L63="Aplicado",NOT(ISNUMBER($M63))),"Falta fecha de aplicación",IF(AND($L63="Aplicado",NOT(ISNUMBER($N63))),"Falta importe final",IF(AND($L63<>"Aplicado",ISNUMBER($M63)),"Revisar fecha de aplicación",IF(AND($K63="Rechazado",$L63<>"Cancelado"),"Revisar estados",IF(AND($H63>=$Y$8,$K63="Pendiente"),"Revisar aprobación",IF(AND($P63<=$Z$8,$P63>=0,$L63="Pendiente"),"Salida próxima: comprobar",IF(AND($P63<0,$L63="Pendiente"),"Salida pasada: comprobar",""))))))))))) | R63: =IFERROR(INDEX('Parámetros'!$E$4:$E$8,56),"") | S63: =IFERROR(INDEX('Parámetros'!$F$4:$F$7,56),"") | T63: =IFERROR(INDEX('Parámetros'!$G$4:$G$6,56),"")
O64: =IF($A64="","",IF(AND(ISNUMBER($H64),ISNUMBER($N64)),$N64-$H64,"")) | P64: =IF(OR($A64="",NOT(ISNUMBER($C64))),"",$C64-TODAY()) | Q64: =IF($A64="","",IF(OR(NOT(ISNUMBER($B64)),NOT(ISNUMBER($C64))),"Completar fechas",IF(OR($D64="",$E64="",$F64="",$I64="",$J64="",$K64="",$L64="",NOT(ISNUMBER($G64)),NOT(ISNUMBER($H64))),"Completar datos",IF($C64<$B64,"Revisar fechas",IF(AND($L64="Aplicado",NOT(ISNUMBER($M64))),"Falta fecha de aplicación",IF(AND($L64="Aplicado",NOT(ISNUMBER($N64))),"Falta importe final",IF(AND($L64<>"Aplicado",ISNUMBER($M64)),"Revisar fecha de aplicación",IF(AND($K64="Rechazado",$L64<>"Cancelado"),"Revisar estados",IF(AND($H64>=$Y$8,$K64="Pendiente"),"Revisar aprobación",IF(AND($P64<=$Z$8,$P64>=0,$L64="Pendiente"),"Salida próxima: comprobar",IF(AND($P64<0,$L64="Pendiente"),"Salida pasada: comprobar",""))))))))))) | R64: =IFERROR(INDEX('Parámetros'!$E$4:$E$8,57),"") | S64: =IFERROR(INDEX('Parámetros'!$F$4:$F$7,57),"") | T64: =IFERROR(INDEX('Parámetros'!$G$4:$G$6,57),"")
O65: =IF($A65="","",IF(AND(ISNUMBER($H65),ISNUMBER($N65)),$N65-$H65,"")) | P65: =IF(OR($A65="",NOT(ISNUMBER($C65))),"",$C65-TODAY()) | Q65: =IF($A65="","",IF(OR(NOT(ISNUMBER($B65)),NOT(ISNUMBER($C65))),"Completar fechas",IF(OR($D65="",$E65="",$F65="",$I65="",$J65="",$K65="",$L65="",NOT(ISNUMBER($G65)),NOT(ISNUMBER($H65))),"Completar datos",IF($C65<$B65,"Revisar fechas",IF(AND($L65="Aplicado",NOT(ISNUMBER($M65))),"Falta fecha de aplicación",IF(AND($L65="Aplicado",NOT(ISNUMBER($N65))),"Falta importe final",IF(AND($L65<>"Aplicado",ISNUMBER($M65)),"Revisar fecha de aplicación",IF(AND($K65="Rechazado",$L65<>"Cancelado"),"Revisar estados",IF(AND($H65>=$Y$8,$K65="Pendiente"),"Revisar aprobación",IF(AND($P65<=$Z$8,$P65>=0,$L65="Pendiente"),"Salida próxima: comprobar",IF(AND($P65<0,$L65="Pendiente"),"Salida pasada: comprobar",""))))))))))) | R65: =IFERROR(INDEX('Parámetros'!$E$4:$E$8,58),"") | S65: =IFERROR(INDEX('Parámetros'!$F$4:$F$7,58),"") | T65: =IFERROR(INDEX('Parámetros'!$G$4:$G$6,58),"")
O66: =IF($A66="","",IF(AND(ISNUMBER($H66),ISNUMBER($N66)),$N66-$H66,"")) | P66: =IF(OR($A66="",NOT(ISNUMBER($C66))),"",$C66-TODAY()) | Q66: =IF($A66="","",IF(OR(NOT(ISNUMBER($B66)),NOT(ISNUMBER($C66))),"Completar fechas",IF(OR($D66="",$E66="",$F66="",$I66="",$J66="",$K66="",$L66="",NOT(ISNUMBER($G66)),NOT(ISNUMBER($H66))),"Completar datos",IF($C66<$B66,"Revisar fechas",IF(AND($L66="Aplicado",NOT(ISNUMBER($M66))),"Falta fecha de aplicación",IF(AND($L66="Aplicado",NOT(ISNUMBER($N66))),"Falta importe final",IF(AND($L66<>"Aplicado",ISNUMBER($M66)),"Revisar fecha de aplicación",IF(AND($K66="Rechazado",$L66<>"Cancelado"),"Revisar estados",IF(AND($H66>=$Y$8,$K66="Pendiente"),"Revisar aprobación",IF(AND($P66<=$Z$8,$P66>=0,$L66="Pendiente"),"Salida próxima: comprobar",IF(AND($P66<0,$L66="Pendiente"),"Salida pasada: comprobar",""))))))))))) | R66: =IFERROR(INDEX('Parámetros'!$E$4:$E$8,59),"") | S66: =IFERROR(INDEX('Parámetros'!$F$4:$F$7,59),"") | T66: =IFERROR(INDEX('Parámetros'!$G$4:$G$6,59),"")
O67: =IF($A67="","",IF(AND(ISNUMBER($H67),ISNUMBER($N67)),$N67-$H67,"")) | P67: =IF(OR($A67="",NOT(ISNUMBER($C67))),"",$C67-TODAY()) | Q67: =IF($A67="","",IF(OR(NOT(ISNUMBER($B67)),NOT(ISNUMBER($C67))),"Completar fechas",IF(OR($D67="",$E67="",$F67="",$I67="",$J67="",$K67="",$L67="",NOT(ISNUMBER($G67)),NOT(ISNUMBER($H67))),"Completar datos",IF($C67<$B67,"Revisar fechas",IF(AND($L67="Aplicado",NOT(ISNUMBER($M67))),"Falta fecha de aplicación",IF(AND($L67="Aplicado",NOT(ISNUMBER($N67))),"Falta importe final",IF(AND($L67<>"Aplicado",ISNUMBER($M67)),"Revisar fecha de aplicación",IF(AND($K67="Rechazado",$L67<>"Cancelado"),"Revisar estados",IF(AND($H67>=$Y$8,$K67="Pendiente"),"Revisar aprobación",IF(AND($P67<=$Z$8,$P67>=0,$L67="Pendiente"),"Salida próxima: comprobar",IF(AND($P67<0,$L67="Pendiente"),"Salida pasada: comprobar",""))))))))))) | R67: =IFERROR(INDEX('Parámetros'!$E$4:$E$8,60),"") | S67: =IFERROR(INDEX('Parámetros'!$F$4:$F$7,60),"") | T67: =IFERROR(INDEX('Parámetros'!$G$4:$G$6,60),"")
O68: =IF($A68="","",IF(AND(ISNUMBER($H68),ISNUMBER($N68)),$N68-$H68,"")) | P68: =IF(OR($A68="",NOT(ISNUMBER($C68))),"",$C68-TODAY()) | Q68: =IF($A68="","",IF(OR(NOT(ISNUMBER($B68)),NOT(ISNUMBER($C68))),"Completar fechas",IF(OR($D68="",$E68="",$F68="",$I68="",$J68="",$K68="",$L68="",NOT(ISNUMBER($G68)),NOT(ISNUMBER($H68))),"Completar datos",IF($C68<$B68,"Revisar fechas",IF(AND($L68="Aplicado",NOT(ISNUMBER($M68))),"Falta fecha de aplicación",IF(AND($L68="Aplicado",NOT(ISNUMBER($N68))),"Falta importe final",IF(AND($L68<>"Aplicado",ISNUMBER($M68)),"Revisar fecha de aplicación",IF(AND($K68="Rechazado",$L68<>"Cancelado"),"Revisar estados",IF(AND($H68>=$Y$8,$K68="Pendiente"),"Revisar aprobación",IF(AND($P68<=$Z$8,$P68>=0,$L68="Pendiente"),"Salida próxima: comprobar",IF(AND($P68<0,$L68="Pendiente"),"Salida pasada: comprobar",""))))))))))) | R68: =IFERROR(INDEX('Parámetros'!$E$4:$E$8,61),"") | S68: =IFERROR(INDEX('Parámetros'!$F$4:$F$7,61),"") | T68: =IFERROR(INDEX('Parámetros'!$G$4:$G$6,61),"")
O69: =IF($A69="","",IF(AND(ISNUMBER($H69),ISNUMBER($N69)),$N69-$H69,"")) | P69: =IF(OR($A69="",NOT(ISNUMBER($C69))),"",$C69-TODAY()) | Q69: =IF($A69="","",IF(OR(NOT(ISNUMBER($B69)),NOT(ISNUMBER($C69))),"Completar fechas",IF(OR($D69="",$E69="",$F69="",$I69="",$J69="",$K69="",$L69="",NOT(ISNUMBER($G69)),NOT(ISNUMBER($H69))),"Completar datos",IF($C69<$B69,"Revisar fechas",IF(AND($L69="Aplicado",NOT(ISNUMBER($M69))),"Falta fecha de aplicación",IF(AND($L69="Aplicado",NOT(ISNUMBER($N69))),"Falta importe final",IF(AND($L69<>"Aplicado",ISNUMBER($M69)),"Revisar fecha de aplicación",IF(AND($K69="Rechazado",$L69<>"Cancelado"),"Revisar estados",IF(AND($H69>=$Y$8,$K69="Pendiente"),"Revisar aprobación",IF(AND($P69<=$Z$8,$P69>=0,$L69="Pendiente"),"Salida próxima: comprobar",IF(AND($P69<0,$L69="Pendiente"),"Salida pasada: comprobar",""))))))))))) | R69: =IFERROR(INDEX('Parámetros'!$E$4:$E$8,62),"") | S69: =IFERROR(INDEX('Parámetros'!$F$4:$F$7,62),"") | T69: =IFERROR(INDEX('Parámetros'!$G$4:$G$6,62),"")
O70: =IF($A70="","",IF(AND(ISNUMBER($H70),ISNUMBER($N70)),$N70-$H70,"")) | P70: =IF(OR($A70="",NOT(ISNUMBER($C70))),"",$C70-TODAY()) | Q70: =IF($A70="","",IF(OR(NOT(ISNUMBER($B70)),NOT(ISNUMBER($C70))),"Completar fechas",IF(OR($D70="",$E70="",$F70="",$I70="",$J70="",$K70="",$L70="",NOT(ISNUMBER($G70)),NOT(ISNUMBER($H70))),"Completar datos",IF($C70<$B70,"Revisar fechas",IF(AND($L70="Aplicado",NOT(ISNUMBER($M70))),"Falta fecha de aplicación",IF(AND($L70="Aplicado",NOT(ISNUMBER($N70))),"Falta importe final",IF(AND($L70<>"Aplicado",ISNUMBER($M70)),"Revisar fecha de aplicación",IF(AND($K70="Rechazado",$L70<>"Cancelado"),"Revisar estados",IF(AND($H70>=$Y$8,$K70="Pendiente"),"Revisar aprobación",IF(AND($P70<=$Z$8,$P70>=0,$L70="Pendiente"),"Salida próxima: comprobar",IF(AND($P70<0,$L70="Pendiente"),"Salida pasada: comprobar",""))))))))))) | R70: =IFERROR(INDEX('Parámetros'!$E$4:$E$8,63),"") | S70: =IFERROR(INDEX('Parámetros'!$F$4:$F$7,63),"") | T70: =IFERROR(INDEX('Parámetros'!$G$4:$G$6,63),"")
O71: =IF($A71="","",IF(AND(ISNUMBER($H71),ISNUMBER($N71)),$N71-$H71,"")) | P71: =IF(OR($A71="",NOT(ISNUMBER($C71))),"",$C71-TODAY()) | Q71: =IF($A71="","",IF(OR(NOT(ISNUMBER($B71)),NOT(ISNUMBER($C71))),"Completar fechas",IF(OR($D71="",$E71="",$F71="",$I71="",$J71="",$K71="",$L71="",NOT(ISNUMBER($G71)),NOT(ISNUMBER($H71))),"Completar datos",IF($C71<$B71,"Revisar fechas",IF(AND($L71="Aplicado",NOT(ISNUMBER($M71))),"Falta fecha de aplicación",IF(AND($L71="Aplicado",NOT(ISNUMBER($N71))),"Falta importe final",IF(AND($L71<>"Aplicado",ISNUMBER($M71)),"Revisar fecha de aplicación",IF(AND($K71="Rechazado",$L71<>"Cancelado"),"Revisar estados",IF(AND($H71>=$Y$8,$K71="Pendiente"),"Revisar aprobación",IF(AND($P71<=$Z$8,$P71>=0,$L71="Pendiente"),"Salida próxima: comprobar",IF(AND($P71<0,$L71="Pendiente"),"Salida pasada: comprobar",""))))))))))) | R71: =IFERROR(INDEX('Parámetros'!$E$4:$E$8,64),"") | S71: =IFERROR(INDEX('Parámetros'!$F$4:$F$7,64),"") | T71: =IFERROR(INDEX('Parámetros'!$G$4:$G$6,64),"")
O72: =IF($A72="","",IF(AND(ISNUMBER($H72),ISNUMBER($N72)),$N72-$H72,"")) | P72: =IF(OR($A72="",NOT(ISNUMBER($C72))),"",$C72-TODAY()) | Q72: =IF($A72="","",IF(OR(NOT(ISNUMBER($B72)),NOT(ISNUMBER($C72))),"Completar fechas",IF(OR($D72="",$E72="",$F72="",$I72="",$J72="",$K72="",$L72="",NOT(ISNUMBER($G72)),NOT(ISNUMBER($H72))),"Completar datos",IF($C72<$B72,"Revisar fechas",IF(AND($L72="Aplicado",NOT(ISNUMBER($M72))),"Falta fecha de aplicación",IF(AND($L72="Aplicado",NOT(ISNUMBER($N72))),"Falta importe final",IF(AND($L72<>"Aplicado",ISNUMBER($M72)),"Revisar fecha de aplicación",IF(AND($K72="Rechazado",$L72<>"Cancelado"),"Revisar estados",IF(AND($H72>=$Y$8,$K72="Pendiente"),"Revisar aprobación",IF(AND($P72<=$Z$8,$P72>=0,$L72="Pendiente"),"Salida próxima: comprobar",IF(AND($P72<0,$L72="Pendiente"),"Salida pasada: comprobar",""))))))))))) | R72: =IFERROR(INDEX('Parámetros'!$E$4:$E$8,65),"") | S72: =IFERROR(INDEX('Parámetros'!$F$4:$F$7,65),"") | T72: =IFERROR(INDEX('Parámetros'!$G$4:$G$6,65),"")
O73: =IF($A73="","",IF(AND(ISNUMBER($H73),ISNUMBER($N73)),$N73-$H73,"")) | P73: =IF(OR($A73="",NOT(ISNUMBER($C73))),"",$C73-TODAY()) | Q73: =IF($A73="","",IF(OR(NOT(ISNUMBER($B73)),NOT(ISNUMBER($C73))),"Completar fechas",IF(OR($D73="",$E73="",$F73="",$I73="",$J73="",$K73="",$L73="",NOT(ISNUMBER($G73)),NOT(ISNUMBER($H73))),"Completar datos",IF($C73<$B73,"Revisar fechas",IF(AND($L73="Aplicado",NOT(ISNUMBER($M73))),"Falta fecha de aplicación",IF(AND($L73="Aplicado",NOT(ISNUMBER($N73))),"Falta importe final",IF(AND($L73<>"Aplicado",ISNUMBER($M73)),"Revisar fecha de aplicación",IF(AND($K73="Rechazado",$L73<>"Cancelado"),"Revisar estados",IF(AND($H73>=$Y$8,$K73="Pendiente"),"Revisar aprobación",IF(AND($P73<=$Z$8,$P73>=0,$L73="Pendiente"),"Salida próxima: comprobar",IF(AND($P73<0,$L73="Pendiente"),"Salida pasada: comprobar",""))))))))))) | R73: =IFERROR(INDEX('Parámetros'!$E$4:$E$8,66),"") | S73: =IFERROR(INDEX('Parámetros'!$F$4:$F$7,66),"") | T73: =IFERROR(INDEX('Parámetros'!$G$4:$G$6,66),"")
O74: =IF($A74="","",IF(AND(ISNUMBER($H74),ISNUMBER($N74)),$N74-$H74,"")) | P74: =IF(OR($A74="",NOT(ISNUMBER($C74))),"",$C74-TODAY()) | Q74: =IF($A74="","",IF(OR(NOT(ISNUMBER($B74)),NOT(ISNUMBER($C74))),"Completar fechas",IF(OR($D74="",$E74="",$F74="",$I74="",$J74="",$K74="",$L74="",NOT(ISNUMBER($G74)),NOT(ISNUMBER($H74))),"Completar datos",IF($C74<$B74,"Revisar fechas",IF(AND($L74="Aplicado",NOT(ISNUMBER($M74))),"Falta fecha de aplicación",IF(AND($L74="Aplicado",NOT(ISNUMBER($N74))),"Falta importe final",IF(AND($L74<>"Aplicado",ISNUMBER($M74)),"Revisar fecha de aplicación",IF(AND($K74="Rechazado",$L74<>"Cancelado"),"Revisar estados",IF(AND($H74>=$Y$8,$K74="Pendiente"),"Revisar aprobación",IF(AND($P74<=$Z$8,$P74>=0,$L74="Pendiente"),"Salida próxima: comprobar",IF(AND($P74<0,$L74="Pendiente"),"Salida pasada: comprobar",""))))))))))) | R74: =IFERROR(INDEX('Parámetros'!$E$4:$E$8,67),"") | S74: =IFERROR(INDEX('Parámetros'!$F$4:$F$7,67),"") | T74: =IFERROR(INDEX('Parámetros'!$G$4:$G$6,67),"")
O75: =IF($A75="","",IF(AND(ISNUMBER($H75),ISNUMBER($N75)),$N75-$H75,"")) | P75: =IF(OR($A75="",NOT(ISNUMBER($C75))),"",$C75-TODAY()) | Q75: =IF($A75="","",IF(OR(NOT(ISNUMBER($B75)),NOT(ISNUMBER($C75))),"Completar fechas",IF(OR($D75="",$E75="",$F75="",$I75="",$J75="",$K75="",$L75="",NOT(ISNUMBER($G75)),NOT(ISNUMBER($H75))),"Completar datos",IF($C75<$B75,"Revisar fechas",IF(AND($L75="Aplicado",NOT(ISNUMBER($M75))),"Falta fecha de aplicación",IF(AND($L75="Aplicado",NOT(ISNUMBER($N75))),"Falta importe final",IF(AND($L75<>"Aplicado",ISNUMBER($M75)),"Revisar fecha de aplicación",IF(AND($K75="Rechazado",$L75<>"Cancelado"),"Revisar estados",IF(AND($H75>=$Y$8,$K75="Pendiente"),"Revisar aprobación",IF(AND($P75<=$Z$8,$P75>=0,$L75="Pendiente"),"Salida próxima: comprobar",IF(AND($P75<0,$L75="Pendiente"),"Salida pasada: comprobar",""))))))))))) | R75: =IFERROR(INDEX('Parámetros'!$E$4:$E$8,68),"") | S75: =IFERROR(INDEX('Parámetros'!$F$4:$F$7,68),"") | T75: =IFERROR(INDEX('Parámetros'!$G$4:$G$6,68),"")
O76: =IF($A76="","",IF(AND(ISNUMBER($H76),ISNUMBER($N76)),$N76-$H76,"")) | P76: =IF(OR($A76="",NOT(ISNUMBER($C76))),"",$C76-TODAY()) | Q76: =IF($A76="","",IF(OR(NOT(ISNUMBER($B76)),NOT(ISNUMBER($C76))),"Completar fechas",IF(OR($D76="",$E76="",$F76="",$I76="",$J76="",$K76="",$L76="",NOT(ISNUMBER($G76)),NOT(ISNUMBER($H76))),"Completar datos",IF($C76<$B76,"Revisar fechas",IF(AND($L76="Aplicado",NOT(ISNUMBER($M76))),"Falta fecha de aplicación",IF(AND($L76="Aplicado",NOT(ISNUMBER($N76))),"Falta importe final",IF(AND($L76<>"Aplicado",ISNUMBER($M76)),"Revisar fecha de aplicación",IF(AND($K76="Rechazado",$L76<>"Cancelado"),"Revisar estados",IF(AND($H76>=$Y$8,$K76="Pendiente"),"Revisar aprobación",IF(AND($P76<=$Z$8,$P76>=0,$L76="Pendiente"),"Salida próxima: comprobar",IF(AND($P76<0,$L76="Pendiente"),"Salida pasada: comprobar",""))))))))))) | R76: =IFERROR(INDEX('Parámetros'!$E$4:$E$8,69),"") | S76: =IFERROR(INDEX('Parámetros'!$F$4:$F$7,69),"") | T76: =IFERROR(INDEX('Parámetros'!$G$4:$G$6,69),"")
O77: =IF($A77="","",IF(AND(ISNUMBER($H77),ISNUMBER($N77)),$N77-$H77,"")) | P77: =IF(OR($A77="",NOT(ISNUMBER($C77))),"",$C77-TODAY()) | Q77: =IF($A77="","",IF(OR(NOT(ISNUMBER($B77)),NOT(ISNUMBER($C77))),"Completar fechas",IF(OR($D77="",$E77="",$F77="",$I77="",$J77="",$K77="",$L77="",NOT(ISNUMBER($G77)),NOT(ISNUMBER($H77))),"Completar datos",IF($C77<$B77,"Revisar fechas",IF(AND($L77="Aplicado",NOT(ISNUMBER($M77))),"Falta fecha de aplicación",IF(AND($L77="Aplicado",NOT(ISNUMBER($N77))),"Falta importe final",IF(AND($L77<>"Aplicado",ISNUMBER($M77)),"Revisar fecha de aplicación",IF(AND($K77="Rechazado",$L77<>"Cancelado"),"Revisar estados",IF(AND($H77>=$Y$8,$K77="Pendiente"),"Revisar aprobación",IF(AND($P77<=$Z$8,$P77>=0,$L77="Pendiente"),"Salida próxima: comprobar",IF(AND($P77<0,$L77="Pendiente"),"Salida pasada: comprobar",""))))))))))) | R77: =IFERROR(INDEX('Parámetros'!$E$4:$E$8,70),"") | S77: =IFERROR(INDEX('Parámetros'!$F$4:$F$7,70),"") | T77: =IFERROR(INDEX('Parámetros'!$G$4:$G$6,70),"")
O78: =IF($A78="","",IF(AND(ISNUMBER($H78),ISNUMBER($N78)),$N78-$H78,"")) | P78: =IF(OR($A78="",NOT(ISNUMBER($C78))),"",$C78-TODAY()) | Q78: =IF($A78="","",IF(OR(NOT(ISNUMBER($B78)),NOT(ISNUMBER($C78))),"Completar fechas",IF(OR($D78="",$E78="",$F78="",$I78="",$J78="",$K78="",$L78="",NOT(ISNUMBER($G78)),NOT(ISNUMBER($H78))),"Completar datos",IF($C78<$B78,"Revisar fechas",IF(AND($L78="Aplicado",NOT(ISNUMBER($M78))),"Falta fecha de aplicación",IF(AND($L78="Aplicado",NOT(ISNUMBER($N78))),"Falta importe final",IF(AND($L78<>"Aplicado",ISNUMBER($M78)),"Revisar fecha de aplicación",IF(AND($K78="Rechazado",$L78<>"Cancelado"),"Revisar estados",IF(AND($H78>=$Y$8,$K78="Pendiente"),"Revisar aprobación",IF(AND($P78<=$Z$8,$P78>=0,$L78="Pendiente"),"Salida próxima: comprobar",IF(AND($P78<0,$L78="Pendiente"),"Salida pasada: comprobar",""))))))))))) | R78: =IFERROR(INDEX('Parámetros'!$E$4:$E$8,71),"") | S78: =IFERROR(INDEX('Parámetros'!$F$4:$F$7,71),"") | T78: =IFERROR(INDEX('Parámetros'!$G$4:$G$6,71),"")
O79: =IF($A79="","",IF(AND(ISNUMBER($H79),ISNUMBER($N79)),$N79-$H79,"")) | P79: =IF(OR($A79="",NOT(ISNUMBER($C79))),"",$C79-TODAY()) | Q79: =IF($A79="","",IF(OR(NOT(ISNUMBER($B79)),NOT(ISNUMBER($C79))),"Completar fechas",IF(OR($D79="",$E79="",$F79="",$I79="",$J79="",$K79="",$L79="",NOT(ISNUMBER($G79)),NOT(ISNUMBER($H79))),"Completar datos",IF($C79<$B79,"Revisar fechas",IF(AND($L79="Aplicado",NOT(ISNUMBER($M79))),"Falta fecha de aplicación",IF(AND($L79="Aplicado",NOT(ISNUMBER($N79))),"Falta importe final",IF(AND($L79<>"Aplicado",ISNUMBER($M79)),"Revisar fecha de aplicación",IF(AND($K79="Rechazado",$L79<>"Cancelado"),"Revisar estados",IF(AND($H79>=$Y$8,$K79="Pendiente"),"Revisar aprobación",IF(AND($P79<=$Z$8,$P79>=0,$L79="Pendiente"),"Salida próxima: comprobar",IF(AND($P79<0,$L79="Pendiente"),"Salida pasada: comprobar",""))))))))))) | R79: =IFERROR(INDEX('Parámetros'!$E$4:$E$8,72),"") | S79: =IFERROR(INDEX('Parámetros'!$F$4:$F$7,72),"") | T79: =IFERROR(INDEX('Parámetros'!$G$4:$G$6,72),"")
O80: =IF($A80="","",IF(AND(ISNUMBER($H80),ISNUMBER($N80)),$N80-$H80,"")) | P80: =IF(OR($A80="",NOT(ISNUMBER($C80))),"",$C80-TODAY()) | Q80: =IF($A80="","",IF(OR(NOT(ISNUMBER($B80)),NOT(ISNUMBER($C80))),"Completar fechas",IF(OR($D80="",$E80="",$F80="",$I80="",$J80="",$K80="",$L80="",NOT(ISNUMBER($G80)),NOT(ISNUMBER($H80))),"Completar datos",IF($C80<$B80,"Revisar fechas",IF(AND($L80="Aplicado",NOT(ISNUMBER($M80))),"Falta fecha de aplicación",IF(AND($L80="Aplicado",NOT(ISNUMBER($N80))),"Falta importe final",IF(AND($L80<>"Aplicado",ISNUMBER($M80)),"Revisar fecha de aplicación",IF(AND($K80="Rechazado",$L80<>"Cancelado"),"Revisar estados",IF(AND($H80>=$Y$8,$K80="Pendiente"),"Revisar aprobación",IF(AND($P80<=$Z$8,$P80>=0,$L80="Pendiente"),"Salida próxima: comprobar",IF(AND($P80<0,$L80="Pendiente"),"Salida pasada: comprobar",""))))))))))) | R80: =IFERROR(INDEX('Parámetros'!$E$4:$E$8,73),"") | S80: =IFERROR(INDEX('Parámetros'!$F$4:$F$7,73),"") | T80: =IFERROR(INDEX('Parámetros'!$G$4:$G$6,73),"")
O81: =IF($A81="","",IF(AND(ISNUMBER($H81),ISNUMBER($N81)),$N81-$H81,"")) | P81: =IF(OR($A81="",NOT(ISNUMBER($C81))),"",$C81-TODAY()) | Q81: =IF($A81="","",IF(OR(NOT(ISNUMBER($B81)),NOT(ISNUMBER($C81))),"Completar fechas",IF(OR($D81="",$E81="",$F81="",$I81="",$J81="",$K81="",$L81="",NOT(ISNUMBER($G81)),NOT(ISNUMBER($H81))),"Completar datos",IF($C81<$B81,"Revisar fechas",IF(AND($L81="Aplicado",NOT(ISNUMBER($M81))),"Falta fecha de aplicación",IF(AND($L81="Aplicado",NOT(ISNUMBER($N81))),"Falta importe final",IF(AND($L81<>"Aplicado",ISNUMBER($M81)),"Revisar fecha de aplicación",IF(AND($K81="Rechazado",$L81<>"Cancelado"),"Revisar estados",IF(AND($H81>=$Y$8,$K81="Pendiente"),"Revisar aprobación",IF(AND($P81<=$Z$8,$P81>=0,$L81="Pendiente"),"Salida próxima: comprobar",IF(AND($P81<0,$L81="Pendiente"),"Salida pasada: comprobar",""))))))))))) | R81: =IFERROR(INDEX('Parámetros'!$E$4:$E$8,74),"") | S81: =IFERROR(INDEX('Parámetros'!$F$4:$F$7,74),"") | T81: =IFERROR(INDEX('Parámetros'!$G$4:$G$6,74),"")
O82: =IF($A82="","",IF(AND(ISNUMBER($H82),ISNUMBER($N82)),$N82-$H82,"")) | P82: =IF(OR($A82="",NOT(ISNUMBER($C82))),"",$C82-TODAY()) | Q82: =IF($A82="","",IF(OR(NOT(ISNUMBER($B82)),NOT(ISNUMBER($C82))),"Completar fechas",IF(OR($D82="",$E82="",$F82="",$I82="",$J82="",$K82="",$L82="",NOT(ISNUMBER($G82)),NOT(ISNUMBER($H82))),"Completar datos",IF($C82<$B82,"Revisar fechas",IF(AND($L82="Aplicado",NOT(ISNUMBER($M82))),"Falta fecha de aplicación",IF(AND($L82="Aplicado",NOT(ISNUMBER($N82))),"Falta importe final",IF(AND($L82<>"Aplicado",ISNUMBER($M82)),"Revisar fecha de aplicación",IF(AND($K82="Rechazado",$L82<>"Cancelado"),"Revisar estados",IF(AND($H82>=$Y$8,$K82="Pendiente"),"Revisar aprobación",IF(AND($P82<=$Z$8,$P82>=0,$L82="Pendiente"),"Salida próxima: comprobar",IF(AND($P82<0,$L82="Pendiente"),"Salida pasada: comprobar",""))))))))))) | R82: =IFERROR(INDEX('Parámetros'!$E$4:$E$8,75),"") | S82: =IFERROR(INDEX('Parámetros'!$F$4:$F$7,75),"") | T82: =IFERROR(INDEX('Parámetros'!$G$4:$G$6,75),"")
O83: =IF($A83="","",IF(AND(ISNUMBER($H83),ISNUMBER($N83)),$N83-$H83,"")) | P83: =IF(OR($A83="",NOT(ISNUMBER($C83))),"",$C83-TODAY()) | Q83: =IF($A83="","",IF(OR(NOT(ISNUMBER($B83)),NOT(ISNUMBER($C83))),"Completar fechas",IF(OR($D83="",$E83="",$F83="",$I83="",$J83="",$K83="",$L83="",NOT(ISNUMBER($G83)),NOT(ISNUMBER($H83))),"Completar datos",IF($C83<$B83,"Revisar fechas",IF(AND($L83="Aplicado",NOT(ISNUMBER($M83))),"Falta fecha de aplicación",IF(AND($L83="Aplicado",NOT(ISNUMBER($N83))),"Falta importe final",IF(AND($L83<>"Aplicado",ISNUMBER($M83)),"Revisar fecha de aplicación",IF(AND($K83="Rechazado",$L83<>"Cancelado"),"Revisar estados",IF(AND($H83>=$Y$8,$K83="Pendiente"),"Revisar aprobación",IF(AND($P83<=$Z$8,$P83>=0,$L83="Pendiente"),"Salida próxima: comprobar",IF(AND($P83<0,$L83="Pendiente"),"Salida pasada: comprobar",""))))))))))) | R83: =IFERROR(INDEX('Parámetros'!$E$4:$E$8,76),"") | S83: =IFERROR(INDEX('Parámetros'!$F$4:$F$7,76),"") | T83: =IFERROR(INDEX('Parámetros'!$G$4:$G$6,76),"")
O84: =IF($A84="","",IF(AND(ISNUMBER($H84),ISNUMBER($N84)),$N84-$H84,"")) | P84: =IF(OR($A84="",NOT(ISNUMBER($C84))),"",$C84-TODAY()) | Q84: =IF($A84="","",IF(OR(NOT(ISNUMBER($B84)),NOT(ISNUMBER($C84))),"Completar fechas",IF(OR($D84="",$E84="",$F84="",$I84="",$J84="",$K84="",$L84="",NOT(ISNUMBER($G84)),NOT(ISNUMBER($H84))),"Completar datos",IF($C84<$B84,"Revisar fechas",IF(AND($L84="Aplicado",NOT(ISNUMBER($M84))),"Falta fecha de aplicación",IF(AND($L84="Aplicado",NOT(ISNUMBER($N84))),"Falta importe final",IF(AND($L84<>"Aplicado",ISNUMBER($M84)),"Revisar fecha de aplicación",IF(AND($K84="Rechazado",$L84<>"Cancelado"),"Revisar estados",IF(AND($H84>=$Y$8,$K84="Pendiente"),"Revisar aprobación",IF(AND($P84<=$Z$8,$P84>=0,$L84="Pendiente"),"Salida próxima: comprobar",IF(AND($P84<0,$L84="Pendiente"),"Salida pasada: comprobar",""))))))))))) | R84: =IFERROR(INDEX('Parámetros'!$E$4:$E$8,77),"") | S84: =IFERROR(INDEX('Parámetros'!$F$4:$F$7,77),"") | T84: =IFERROR(INDEX('Parámetros'!$G$4:$G$6,77),"")
O85: =IF($A85="","",IF(AND(ISNUMBER($H85),ISNUMBER($N85)),$N85-$H85,"")) | P85: =IF(OR($A85="",NOT(ISNUMBER($C85))),"",$C85-TODAY()) | Q85: =IF($A85="","",IF(OR(NOT(ISNUMBER($B85)),NOT(ISNUMBER($C85))),"Completar fechas",IF(OR($D85="",$E85="",$F85="",$I85="",$J85="",$K85="",$L85="",NOT(ISNUMBER($G85)),NOT(ISNUMBER($H85))),"Completar datos",IF($C85<$B85,"Revisar fechas",IF(AND($L85="Aplicado",NOT(ISNUMBER($M85))),"Falta fecha de aplicación",IF(AND($L85="Aplicado",NOT(ISNUMBER($N85))),"Falta importe final",IF(AND($L85<>"Aplicado",ISNUMBER($M85)),"Revisar fecha de aplicación",IF(AND($K85="Rechazado",$L85<>"Cancelado"),"Revisar estados",IF(AND($H85>=$Y$8,$K85="Pendiente"),"Revisar aprobación",IF(AND($P85<=$Z$8,$P85>=0,$L85="Pendiente"),"Salida próxima: comprobar",IF(AND($P85<0,$L85="Pendiente"),"Salida pasada: comprobar",""))))))))))) | R85: =IFERROR(INDEX('Parámetros'!$E$4:$E$8,78),"") | S85: =IFERROR(INDEX('Parámetros'!$F$4:$F$7,78),"") | T85: =IFERROR(INDEX('Parámetros'!$G$4:$G$6,78),"")
O86: =IF($A86="","",IF(AND(ISNUMBER($H86),ISNUMBER($N86)),$N86-$H86,"")) | P86: =IF(OR($A86="",NOT(ISNUMBER($C86))),"",$C86-TODAY()) | Q86: =IF($A86="","",IF(OR(NOT(ISNUMBER($B86)),NOT(ISNUMBER($C86))),"Completar fechas",IF(OR($D86="",$E86="",$F86="",$I86="",$J86="",$K86="",$L86="",NOT(ISNUMBER($G86)),NOT(ISNUMBER($H86))),"Completar datos",IF($C86<$B86,"Revisar fechas",IF(AND($L86="Aplicado",NOT(ISNUMBER($M86))),"Falta fecha de aplicación",IF(AND($L86="Aplicado",NOT(ISNUMBER($N86))),"Falta importe final",IF(AND($L86<>"Aplicado",ISNUMBER($M86)),"Revisar fecha de aplicación",IF(AND($K86="Rechazado",$L86<>"Cancelado"),"Revisar estados",IF(AND($H86>=$Y$8,$K86="Pendiente"),"Revisar aprobación",IF(AND($P86<=$Z$8,$P86>=0,$L86="Pendiente"),"Salida próxima: comprobar",IF(AND($P86<0,$L86="Pendiente"),"Salida pasada: comprobar",""))))))))))) | R86: =IFERROR(INDEX('Parámetros'!$E$4:$E$8,79),"") | S86: =IFERROR(INDEX('Parámetros'!$F$4:$F$7,79),"") | T86: =IFERROR(INDEX('Parámetros'!$G$4:$G$6,79),"")
O87: =IF($A87="","",IF(AND(ISNUMBER($H87),ISNUMBER($N87)),$N87-$H87,"")) | P87: =IF(OR($A87="",NOT(ISNUMBER($C87))),"",$C87-TODAY()) | Q87: =IF($A87="","",IF(OR(NOT(ISNUMBER($B87)),NOT(ISNUMBER($C87))),"Completar fechas",IF(OR($D87="",$E87="",$F87="",$I87="",$J87="",$K87="",$L87="",NOT(ISNUMBER($G87)),NOT(ISNUMBER($H87))),"Completar datos",IF($C87<$B87,"Revisar fechas",IF(AND($L87="Aplicado",NOT(ISNUMBER($M87))),"Falta fecha de aplicación",IF(AND($L87="Aplicado",NOT(ISNUMBER($N87))),"Falta importe final",IF(AND($L87<>"Aplicado",ISNUMBER($M87)),"Revisar fecha de aplicación",IF(AND($K87="Rechazado",$L87<>"Cancelado"),"Revisar estados",IF(AND($H87>=$Y$8,$K87="Pendiente"),"Revisar aprobación",IF(AND($P87<=$Z$8,$P87>=0,$L87="Pendiente"),"Salida próxima: comprobar",IF(AND($P87<0,$L87="Pendiente"),"Salida pasada: comprobar",""))))))))))) | R87: =IFERROR(INDEX('Parámetros'!$E$4:$E$8,80),"") | S87: =IFERROR(INDEX('Parámetros'!$F$4:$F$7,80),"") | T87: =IFERROR(INDEX('Parámetros'!$G$4:$G$6,80),"")
O88: =IF($A88="","",IF(AND(ISNUMBER($H88),ISNUMBER($N88)),$N88-$H88,"")) | P88: =IF(OR($A88="",NOT(ISNUMBER($C88))),"",$C88-TODAY()) | Q88: =IF($A88="","",IF(OR(NOT(ISNUMBER($B88)),NOT(ISNUMBER($C88))),"Completar fechas",IF(OR($D88="",$E88="",$F88="",$I88="",$J88="",$K88="",$L88="",NOT(ISNUMBER($G88)),NOT(ISNUMBER($H88))),"Completar datos",IF($C88<$B88,"Revisar fechas",IF(AND($L88="Aplicado",NOT(ISNUMBER($M88))),"Falta fecha de aplicación",IF(AND($L88="Aplicado",NOT(ISNUMBER($N88))),"Falta importe final",IF(AND($L88<>"Aplicado",ISNUMBER($M88)),"Revisar fecha de aplicación",IF(AND($K88="Rechazado",$L88<>"Cancelado"),"Revisar estados",IF(AND($H88>=$Y$8,$K88="Pendiente"),"Revisar aprobación",IF(AND($P88<=$Z$8,$P88>=0,$L88="Pendiente"),"Salida próxima: comprobar",IF(AND($P88<0,$L88="Pendiente"),"Salida pasada: comprobar",""))))))))))) | R88: =IFERROR(INDEX('Parámetros'!$E$4:$E$8,81),"") | S88: =IFERROR(INDEX('Parámetros'!$F$4:$F$7,81),"") | T88: =IFERROR(INDEX('Parámetros'!$G$4:$G$6,81),"")
O89: =IF($A89="","",IF(AND(ISNUMBER($H89),ISNUMBER($N89)),$N89-$H89,"")) | P89: =IF(OR($A89="",NOT(ISNUMBER($C89))),"",$C89-TODAY()) | Q89: =IF($A89="","",IF(OR(NOT(ISNUMBER($B89)),NOT(ISNUMBER($C89))),"Completar fechas",IF(OR($D89="",$E89="",$F89="",$I89="",$J89="",$K89="",$L89="",NOT(ISNUMBER($G89)),NOT(ISNUMBER($H89))),"Completar datos",IF($C89<$B89,"Revisar fechas",IF(AND($L89="Aplicado",NOT(ISNUMBER($M89))),"Falta fecha de aplicación",IF(AND($L89="Aplicado",NOT(ISNUMBER($N89))),"Falta importe final",IF(AND($L89<>"Aplicado",ISNUMBER($M89)),"Revisar fecha de aplicación",IF(AND($K89="Rechazado",$L89<>"Cancelado"),"Revisar estados",IF(AND($H89>=$Y$8,$K89="Pendiente"),"Revisar aprobación",IF(AND($P89<=$Z$8,$P89>=0,$L89="Pendiente"),"Salida próxima: comprobar",IF(AND($P89<0,$L89="Pendiente"),"Salida pasada: comprobar",""))))))))))) | R89: =IFERROR(INDEX('Parámetros'!$E$4:$E$8,82),"") | S89: =IFERROR(INDEX('Parámetros'!$F$4:$F$7,82),"") | T89: =IFERROR(INDEX('Parámetros'!$G$4:$G$6,82),"")
O90: =IF($A90="","",IF(AND(ISNUMBER($H90),ISNUMBER($N90)),$N90-$H90,"")) | P90: =IF(OR($A90="",NOT(ISNUMBER($C90))),"",$C90-TODAY()) | Q90: =IF($A90="","",IF(OR(NOT(ISNUMBER($B90)),NOT(ISNUMBER($C90))),"Completar fechas",IF(OR($D90="",$E90="",$F90="",$I90="",$J90="",$K90="",$L90="",NOT(ISNUMBER($G90)),NOT(ISNUMBER($H90))),"Completar datos",IF($C90<$B90,"Revisar fechas",IF(AND($L90="Aplicado",NOT(ISNUMBER($M90))),"Falta fecha de aplicación",IF(AND($L90="Aplicado",NOT(ISNUMBER($N90))),"Falta importe final",IF(AND($L90<>"Aplicado",ISNUMBER($M90)),"Revisar fecha de aplicación",IF(AND($K90="Rechazado",$L90<>"Cancelado"),"Revisar estados",IF(AND($H90>=$Y$8,$K90="Pendiente"),"Revisar aprobación",IF(AND($P90<=$Z$8,$P90>=0,$L90="Pendiente"),"Salida próxima: comprobar",IF(AND($P90<0,$L90="Pendiente"),"Salida pasada: comprobar",""))))))))))) | R90: =IFERROR(INDEX('Parámetros'!$E$4:$E$8,83),"") | S90: =IFERROR(INDEX('Parámetros'!$F$4:$F$7,83),"") | T90: =IFERROR(INDEX('Parámetros'!$G$4:$G$6,83),"")
O91: =IF($A91="","",IF(AND(ISNUMBER($H91),ISNUMBER($N91)),$N91-$H91,"")) | P91: =IF(OR($A91="",NOT(ISNUMBER($C91))),"",$C91-TODAY()) | Q91: =IF($A91="","",IF(OR(NOT(ISNUMBER($B91)),NOT(ISNUMBER($C91))),"Completar fechas",IF(OR($D91="",$E91="",$F91="",$I91="",$J91="",$K91="",$L91="",NOT(ISNUMBER($G91)),NOT(ISNUMBER($H91))),"Completar datos",IF($C91<$B91,"Revisar fechas",IF(AND($L91="Aplicado",NOT(ISNUMBER($M91))),"Falta fecha de aplicación",IF(AND($L91="Aplicado",NOT(ISNUMBER($N91))),"Falta importe final",IF(AND($L91<>"Aplicado",ISNUMBER($M91)),"Revisar fecha de aplicación",IF(AND($K91="Rechazado",$L91<>"Cancelado"),"Revisar estados",IF(AND($H91>=$Y$8,$K91="Pendiente"),"Revisar aprobación",IF(AND($P91<=$Z$8,$P91>=0,$L91="Pendiente"),"Salida próxima: comprobar",IF(AND($P91<0,$L91="Pendiente"),"Salida pasada: comprobar",""))))))))))) | R91: =IFERROR(INDEX('Parámetros'!$E$4:$E$8,84),"") | S91: =IFERROR(INDEX('Parámetros'!$F$4:$F$7,84),"") | T91: =IFERROR(INDEX('Parámetros'!$G$4:$G$6,84),"")
O92: =IF($A92="","",IF(AND(ISNUMBER($H92),ISNUMBER($N92)),$N92-$H92,"")) | P92: =IF(OR($A92="",NOT(ISNUMBER($C92))),"",$C92-TODAY()) | Q92: =IF($A92="","",IF(OR(NOT(ISNUMBER($B92)),NOT(ISNUMBER($C92))),"Completar fechas",IF(OR($D92="",$E92="",$F92="",$I92="",$J92="",$K92="",$L92="",NOT(ISNUMBER($G92)),NOT(ISNUMBER($H92))),"Completar datos",IF($C92<$B92,"Revisar fechas",IF(AND($L92="Aplicado",NOT(ISNUMBER($M92))),"Falta fecha de aplicación",IF(AND($L92="Aplicado",NOT(ISNUMBER($N92))),"Falta importe final",IF(AND($L92<>"Aplicado",ISNUMBER($M92)),"Revisar fecha de aplicación",IF(AND($K92="Rechazado",$L92<>"Cancelado"),"Revisar estados",IF(AND($H92>=$Y$8,$K92="Pendiente"),"Revisar aprobación",IF(AND($P92<=$Z$8,$P92>=0,$L92="Pendiente"),"Salida próxima: comprobar",IF(AND($P92<0,$L92="Pendiente"),"Salida pasada: comprobar",""))))))))))) | R92: =IFERROR(INDEX('Parámetros'!$E$4:$E$8,85),"") | S92: =IFERROR(INDEX('Parámetros'!$F$4:$F$7,85),"") | T92: =IFERROR(INDEX('Parámetros'!$G$4:$G$6,85),"")
O93: =IF($A93="","",IF(AND(ISNUMBER($H93),ISNUMBER($N93)),$N93-$H93,"")) | P93: =IF(OR($A93="",NOT(ISNUMBER($C93))),"",$C93-TODAY()) | Q93: =IF($A93="","",IF(OR(NOT(ISNUMBER($B93)),NOT(ISNUMBER($C93))),"Completar fechas",IF(OR($D93="",$E93="",$F93="",$I93="",$J93="",$K93="",$L93="",NOT(ISNUMBER($G93)),NOT(ISNUMBER($H93))),"Completar datos",IF($C93<$B93,"Revisar fechas",IF(AND($L93="Aplicado",NOT(ISNUMBER($M93))),"Falta fecha de aplicación",IF(AND($L93="Aplicado",NOT(ISNUMBER($N93))),"Falta importe final",IF(AND($L93<>"Aplicado",ISNUMBER($M93)),"Revisar fecha de aplicación",IF(AND($K93="Rechazado",$L93<>"Cancelado"),"Revisar estados",IF(AND($H93>=$Y$8,$K93="Pendiente"),"Revisar aprobación",IF(AND($P93<=$Z$8,$P93>=0,$L93="Pendiente"),"Salida próxima: comprobar",IF(AND($P93<0,$L93="Pendiente"),"Salida pasada: comprobar",""))))))))))) | R93: =IFERROR(INDEX('Parámetros'!$E$4:$E$8,86),"") | S93: =IFERROR(INDEX('Parámetros'!$F$4:$F$7,86),"") | T93: =IFERROR(INDEX('Parámetros'!$G$4:$G$6,86),"")
O94: =IF($A94="","",IF(AND(ISNUMBER($H94),ISNUMBER($N94)),$N94-$H94,"")) | P94: =IF(OR($A94="",NOT(ISNUMBER($C94))),"",$C94-TODAY()) | Q94: =IF($A94="","",IF(OR(NOT(ISNUMBER($B94)),NOT(ISNUMBER($C94))),"Completar fechas",IF(OR($D94="",$E94="",$F94="",$I94="",$J94="",$K94="",$L94="",NOT(ISNUMBER($G94)),NOT(ISNUMBER($H94))),"Completar datos",IF($C94<$B94,"Revisar fechas",IF(AND($L94="Aplicado",NOT(ISNUMBER($M94))),"Falta fecha de aplicación",IF(AND($L94="Aplicado",NOT(ISNUMBER($N94))),"Falta importe final",IF(AND($L94<>"Aplicado",ISNUMBER($M94)),"Revisar fecha de aplicación",IF(AND($K94="Rechazado",$L94<>"Cancelado"),"Revisar estados",IF(AND($H94>=$Y$8,$K94="Pendiente"),"Revisar aprobación",IF(AND($P94<=$Z$8,$P94>=0,$L94="Pendiente"),"Salida próxima: comprobar",IF(AND($P94<0,$L94="Pendiente"),"Salida pasada: comprobar",""))))))))))) | R94: =IFERROR(INDEX('Parámetros'!$E$4:$E$8,87),"") | S94: =IFERROR(INDEX('Parámetros'!$F$4:$F$7,87),"") | T94: =IFERROR(INDEX('Parámetros'!$G$4:$G$6,87),"")
O95: =IF($A95="","",IF(AND(ISNUMBER($H95),ISNUMBER($N95)),$N95-$H95,"")) | P95: =IF(OR($A95="",NOT(ISNUMBER($C95))),"",$C95-TODAY()) | Q95: =IF($A95="","",IF(OR(NOT(ISNUMBER($B95)),NOT(ISNUMBER($C95))),"Completar fechas",IF(OR($D95="",$E95="",$F95="",$I95="",$J95="",$K95="",$L95="",NOT(ISNUMBER($G95)),NOT(ISNUMBER($H95))),"Completar datos",IF($C95<$B95,"Revisar fechas",IF(AND($L95="Aplicado",NOT(ISNUMBER($M95))),"Falta fecha de aplicación",IF(AND($L95="Aplicado",NOT(ISNUMBER($N95))),"Falta importe final",IF(AND($L95<>"Aplicado",ISNUMBER($M95)),"Revisar fecha de aplicación",IF(AND($K95="Rechazado",$L95<>"Cancelado"),"Revisar estados",IF(AND($H95>=$Y$8,$K95="Pendiente"),"Revisar aprobación",IF(AND($P95<=$Z$8,$P95>=0,$L95="Pendiente"),"Salida próxima: comprobar",IF(AND($P95<0,$L95="Pendiente"),"Salida pasada: comprobar",""))))))))))) | R95: =IFERROR(INDEX('Parámetros'!$E$4:$E$8,88),"") | S95: =IFERROR(INDEX('Parámetros'!$F$4:$F$7,88),"") | T95: =IFERROR(INDEX('Parámetros'!$G$4:$G$6,88),"")
O96: =IF($A96="","",IF(AND(ISNUMBER($H96),ISNUMBER($N96)),$N96-$H96,"")) | P96: =IF(OR($A96="",NOT(ISNUMBER($C96))),"",$C96-TODAY()) | Q96: =IF($A96="","",IF(OR(NOT(ISNUMBER($B96)),NOT(ISNUMBER($C96))),"Completar fechas",IF(OR($D96="",$E96="",$F96="",$I96="",$J96="",$K96="",$L96="",NOT(ISNUMBER($G96)),NOT(ISNUMBER($H96))),"Completar datos",IF($C96<$B96,"Revisar fechas",IF(AND($L96="Aplicado",NOT(ISNUMBER($M96))),"Falta fecha de aplicación",IF(AND($L96="Aplicado",NOT(ISNUMBER($N96))),"Falta importe final",IF(AND($L96<>"Aplicado",ISNUMBER($M96)),"Revisar fecha de aplicación",IF(AND($K96="Rechazado",$L96<>"Cancelado"),"Revisar estados",IF(AND($H96>=$Y$8,$K96="Pendiente"),"Revisar aprobación",IF(AND($P96<=$Z$8,$P96>=0,$L96="Pendiente"),"Salida próxima: comprobar",IF(AND($P96<0,$L96="Pendiente"),"Salida pasada: comprobar",""))))))))))) | R96: =IFERROR(INDEX('Parámetros'!$E$4:$E$8,89),"") | S96: =IFERROR(INDEX('Parámetros'!$F$4:$F$7,89),"") | T96: =IFERROR(INDEX('Parámetros'!$G$4:$G$6,89),"")
O97: =IF($A97="","",IF(AND(ISNUMBER($H97),ISNUMBER($N97)),$N97-$H97,"")) | P97: =IF(OR($A97="",NOT(ISNUMBER($C97))),"",$C97-TODAY()) | Q97: =IF($A97="","",IF(OR(NOT(ISNUMBER($B97)),NOT(ISNUMBER($C97))),"Completar fechas",IF(OR($D97="",$E97="",$F97="",$I97="",$J97="",$K97="",$L97="",NOT(ISNUMBER($G97)),NOT(ISNUMBER($H97))),"Completar datos",IF($C97<$B97,"Revisar fechas",IF(AND($L97="Aplicado",NOT(ISNUMBER($M97))),"Falta fecha de aplicación",IF(AND($L97="Aplicado",NOT(ISNUMBER($N97))),"Falta importe final",IF(AND($L97<>"Aplicado",ISNUMBER($M97)),"Revisar fecha de aplicación",IF(AND($K97="Rechazado",$L97<>"Cancelado"),"Revisar estados",IF(AND($H97>=$Y$8,$K97="Pendiente"),"Revisar aprobación",IF(AND($P97<=$Z$8,$P97>=0,$L97="Pendiente"),"Salida próxima: comprobar",IF(AND($P97<0,$L97="Pendiente"),"Salida pasada: comprobar",""))))))))))) | R97: =IFERROR(INDEX('Parámetros'!$E$4:$E$8,90),"") | S97: =IFERROR(INDEX('Parámetros'!$F$4:$F$7,90),"") | T97: =IFERROR(INDEX('Parámetros'!$G$4:$G$6,90),"")
O98: =IF($A98="","",IF(AND(ISNUMBER($H98),ISNUMBER($N98)),$N98-$H98,"")) | P98: =IF(OR($A98="",NOT(ISNUMBER($C98))),"",$C98-TODAY()) | Q98: =IF($A98="","",IF(OR(NOT(ISNUMBER($B98)),NOT(ISNUMBER($C98))),"Completar fechas",IF(OR($D98="",$E98="",$F98="",$I98="",$J98="",$K98="",$L98="",NOT(ISNUMBER($G98)),NOT(ISNUMBER($H98))),"Completar datos",IF($C98<$B98,"Revisar fechas",IF(AND($L98="Aplicado",NOT(ISNUMBER($M98))),"Falta fecha de aplicación",IF(AND($L98="Aplicado",NOT(ISNUMBER($N98))),"Falta importe final",IF(AND($L98<>"Aplicado",ISNUMBER($M98)),"Revisar fecha de aplicación",IF(AND($K98="Rechazado",$L98<>"Cancelado"),"Revisar estados",IF(AND($H98>=$Y$8,$K98="Pendiente"),"Revisar aprobación",IF(AND($P98<=$Z$8,$P98>=0,$L98="Pendiente"),"Salida próxima: comprobar",IF(AND($P98<0,$L98="Pendiente"),"Salida pasada: comprobar",""))))))))))) | R98: =IFERROR(INDEX('Parámetros'!$E$4:$E$8,91),"") | S98: =IFERROR(INDEX('Parámetros'!$F$4:$F$7,91),"") | T98: =IFERROR(INDEX('Parámetros'!$G$4:$G$6,91),"")
O99: =IF($A99="","",IF(AND(ISNUMBER($H99),ISNUMBER($N99)),$N99-$H99,"")) | P99: =IF(OR($A99="",NOT(ISNUMBER($C99))),"",$C99-TODAY()) | Q99: =IF($A99="","",IF(OR(NOT(ISNUMBER($B99)),NOT(ISNUMBER($C99))),"Completar fechas",IF(OR($D99="",$E99="",$F99="",$I99="",$J99="",$K99="",$L99="",NOT(ISNUMBER($G99)),NOT(ISNUMBER($H99))),"Completar datos",IF($C99<$B99,"Revisar fechas",IF(AND($L99="Aplicado",NOT(ISNUMBER($M99))),"Falta fecha de aplicación",IF(AND($L99="Aplicado",NOT(ISNUMBER($N99))),"Falta importe final",IF(AND($L99<>"Aplicado",ISNUMBER($M99)),"Revisar fecha de aplicación",IF(AND($K99="Rechazado",$L99<>"Cancelado"),"Revisar estados",IF(AND($H99>=$Y$8,$K99="Pendiente"),"Revisar aprobación",IF(AND($P99<=$Z$8,$P99>=0,$L99="Pendiente"),"Salida próxima: comprobar",IF(AND($P99<0,$L99="Pendiente"),"Salida pasada: comprobar",""))))))))))) | R99: =IFERROR(INDEX('Parámetros'!$E$4:$E$8,92),"") | S99: =IFERROR(INDEX('Parámetros'!$F$4:$F$7,92),"") | T99: =IFERROR(INDEX('Parámetros'!$G$4:$G$6,92),"")
O100: =IF($A100="","",IF(AND(ISNUMBER($H100),ISNUMBER($N100)),$N100-$H100,"")) | P100: =IF(OR($A100="",NOT(ISNUMBER($C100))),"",$C100-TODAY()) | Q100: =IF($A100="","",IF(OR(NOT(ISNUMBER($B100)),NOT(ISNUMBER($C100))),"Completar fechas",IF(OR($D100="",$E100="",$F100="",$I100="",$J100="",$K100="",$L100="",NOT(ISNUMBER($G100)),NOT(ISNUMBER($H100))),"Completar datos",IF($C100<$B100,"Revisar fechas",IF(AND($L100="Aplicado",NOT(ISNUMBER($M100))),"Falta fecha de aplicación",IF(AND($L100="Aplicado",NOT(ISNUMBER($N100))),"Falta importe final",IF(AND($L100<>"Aplicado",ISNUMBER($M100)),"Revisar fecha de aplicación",IF(AND($K100="Rechazado",$L100<>"Cancelado"),"Revisar estados",IF(AND($H100>=$Y$8,$K100="Pendiente"),"Revisar aprobación",IF(AND($P100<=$Z$8,$P100>=0,$L100="Pendiente"),"Salida próxima: comprobar",IF(AND($P100<0,$L100="Pendiente"),"Salida pasada: comprobar",""))))))))))) | R100: =IFERROR(INDEX('Parámetros'!$E$4:$E$8,93),"") | S100: =IFERROR(INDEX('Parámetros'!$F$4:$F$7,93),"") | T100: =IFERROR(INDEX('Parámetros'!$G$4:$G$6,93),"")
O101: =IF($A101="","",IF(AND(ISNUMBER($H101),ISNUMBER($N101)),$N101-$H101,"")) | P101: =IF(OR($A101="",NOT(ISNUMBER($C101))),"",$C101-TODAY()) | Q101: =IF($A101="","",IF(OR(NOT(ISNUMBER($B101)),NOT(ISNUMBER($C101))),"Completar fechas",IF(OR($D101="",$E101="",$F101="",$I101="",$J101="",$K101="",$L101="",NOT(ISNUMBER($G101)),NOT(ISNUMBER($H101))),"Completar datos",IF($C101<$B101,"Revisar fechas",IF(AND($L101="Aplicado",NOT(ISNUMBER($M101))),"Falta fecha de aplicación",IF(AND($L101="Aplicado",NOT(ISNUMBER($N101))),"Falta importe final",IF(AND($L101<>"Aplicado",ISNUMBER($M101)),"Revisar fecha de aplicación",IF(AND($K101="Rechazado",$L101<>"Cancelado"),"Revisar estados",IF(AND($H101>=$Y$8,$K101="Pendiente"),"Revisar aprobación",IF(AND($P101<=$Z$8,$P101>=0,$L101="Pendiente"),"Salida próxima: comprobar",IF(AND($P101<0,$L101="Pendiente"),"Salida pasada: comprobar",""))))))))))) | R101: =IFERROR(INDEX('Parámetros'!$E$4:$E$8,94),"") | S101: =IFERROR(INDEX('Parámetros'!$F$4:$F$7,94),"") | T101: =IFERROR(INDEX('Parámetros'!$G$4:$G$6,94),"")
O102: =IF($A102="","",IF(AND(ISNUMBER($H102),ISNUMBER($N102)),$N102-$H102,"")) | P102: =IF(OR($A102="",NOT(ISNUMBER($C102))),"",$C102-TODAY()) | Q102: =IF($A102="","",IF(OR(NOT(ISNUMBER($B102)),NOT(ISNUMBER($C102))),"Completar fechas",IF(OR($D102="",$E102="",$F102="",$I102="",$J102="",$K102="",$L102="",NOT(ISNUMBER($G102)),NOT(ISNUMBER($H102))),"Completar datos",IF($C102<$B102,"Revisar fechas",IF(AND($L102="Aplicado",NOT(ISNUMBER($M102))),"Falta fecha de aplicación",IF(AND($L102="Aplicado",NOT(ISNUMBER($N102))),"Falta importe final",IF(AND($L102<>"Aplicado",ISNUMBER($M102)),"Revisar fecha de aplicación",IF(AND($K102="Rechazado",$L102<>"Cancelado"),"Revisar estados",IF(AND($H102>=$Y$8,$K102="Pendiente"),"Revisar aprobación",IF(AND($P102<=$Z$8,$P102>=0,$L102="Pendiente"),"Salida próxima: comprobar",IF(AND($P102<0,$L102="Pendiente"),"Salida pasada: comprobar",""))))))))))) | R102: =IFERROR(INDEX('Parámetros'!$E$4:$E$8,95),"") | S102: =IFERROR(INDEX('Parámetros'!$F$4:$F$7,95),"") | T102: =IFERROR(INDEX('Parámetros'!$G$4:$G$6,95),"")
O103: =IF($A103="","",IF(AND(ISNUMBER($H103),ISNUMBER($N103)),$N103-$H103,"")) | P103: =IF(OR($A103="",NOT(ISNUMBER($C103))),"",$C103-TODAY()) | Q103: =IF($A103="","",IF(OR(NOT(ISNUMBER($B103)),NOT(ISNUMBER($C103))),"Completar fechas",IF(OR($D103="",$E103="",$F103="",$I103="",$J103="",$K103="",$L103="",NOT(ISNUMBER($G103)),NOT(ISNUMBER($H103))),"Completar datos",IF($C103<$B103,"Revisar fechas",IF(AND($L103="Aplicado",NOT(ISNUMBER($M103))),"Falta fecha de aplicación",IF(AND($L103="Aplicado",NOT(ISNUMBER($N103))),"Falta importe final",IF(AND($L103<>"Aplicado",ISNUMBER($M103)),"Revisar fecha de aplicación",IF(AND($K103="Rechazado",$L103<>"Cancelado"),"Revisar estados",IF(AND($H103>=$Y$8,$K103="Pendiente"),"Revisar aprobación",IF(AND($P103<=$Z$8,$P103>=0,$L103="Pendiente"),"Salida próxima: comprobar",IF(AND($P103<0,$L103="Pendiente"),"Salida pasada: comprobar",""))))))))))) | R103: =IFERROR(INDEX('Parámetros'!$E$4:$E$8,96),"") | S103: =IFERROR(INDEX('Parámetros'!$F$4:$F$7,96),"") | T103: =IFERROR(INDEX('Parámetros'!$G$4:$G$6,96),"")
...

Sheet Parámetros
A1: Parámetros editables del registro de cambios
A3: Supuesto editable | B3: Valor | C3: Uso operativo | E3: Servicios | F3: Aprobación | G3: Aplicación
A4: Umbral de importe previsto para revisión | B4: 300 | C4: €; criterio interno editable para comprobación humana | E4: Alojamiento | F4: Pendiente | G4: Pendiente
A5: Antelación para aviso de salida | B5: 7 | C5: días; criterio interno editable | E5: Transporte | F5: Aprobado | G5: Aplicado
A6: Cantidad máxima por cambio | B6: 20 | C6: personas, noches, plazas, trayectos o servicios | E6: Traslado | F6: Rechazado | G6: Cancelado
A7: Importe máximo admisible por registro | B7: 10000 | C7: €; límite interno editable, no tarifa garantizada | E7: Actividad | F7: No requerida
A8: Fecha mínima admisible | B8: 45911 | C8: límite editable para las fechas del registro | E8: Seguro
A9: Fecha máxima admisible | B9: 47006 | C9: límite editable para las fechas del registro
A11: Las listas y los límites son supuestos internos editables. Cualquier aviso requiere comprobación humana.
