Workbook

Sheet Resumen
A1: Resumen del planificador de conexiones
A3: Indicador | B3: Valor | C3: Unidad o criterio
A4: Conexiones registradas | B4: =COUNTIF(Conexiones!$A$4:$A$103,"<>") | C4: registros
A5: Conexiones aptas | B5: =COUNTIF(Conexiones!$Q$4:$Q$103,"APTA") | C5: comprobación calculada
A6: Conexiones para revisar | B6: =COUNTIF(Conexiones!$Q$4:$Q$103,"REVISAR*") | C6: comprobación humana
A7: Conexiones incompletas | B7: =COUNTIF(Conexiones!$Q$4:$Q$103,"INCOMPLETA") | C7: registros
A8: Conexiones que no aplican | B8: =COUNTIF(Conexiones!$Q$4:$Q$103,"NO APLICA") | C8: canceladas
A9: Personas en registros | B9: =SUM(Conexiones!$J$4:$J$103) | C9: personas
A10: Importe total introducido | B10: =SUM(Conexiones!$K$4:$K$103) | C10: euros
A11: Margen medio de conexiones aptas | B11: =IFERROR(AVERAGEIF(Conexiones!$Q$4:$Q$103,"APTA",Conexiones!$O$4:$O$103),"") | C11: minutos
A12: Proporción de conexiones aptas | B12: =IFERROR(B5/SUM(B5:B7),"") | C12: sobre registros comprobables
A13: Primera llegada registrada | B13: =IF(COUNT(Conexiones!$F$4:$F$103)=0,"",MIN(Conexiones!$F$4:INDEX(Conexiones!$F:$F,103))) | C13: fecha y hora
A14: Última salida registrada | B14: =IF(COUNT(Conexiones!$I$4:$I$103)=0,"",MAX(Conexiones!$I$4:INDEX(Conexiones!$I:$I,103))) | C14: fecha y hora

Sheet Conexiones
A1: Planificador de conexiones de transporte
A2: Crema = entrada editable | F2: Fecha y hora local introducida | O2: Resultado para comprobación humana
A3: Expediente | B3: Punto de conexión / salida | C3: Viajero o grupo | D3: Servicio de llegada | E3: Tipo llegada | F3: Fecha/hora llegada | G3: Servicio de salida | H3: Tipo salida | I3: Fecha/hora salida | J3: Cantidad | K3: Importe | L3: Proveedor | M3: Responsable | N3: Estado | O3: Margen disponible | P3: Mínimo requerido | Q3: Comprobación
A4: EXP-FIC-001 | B4: Nodo ficticio Ámbar | C4: Grupo ficticio Azafrán | D4: Vuelo ficticio VF-101 | E4: Vuelo | F4: 46283.361 | G4: Tren ficticio TF-201 | H4: Tren | I4: 46283.42 | J4: 2 | K4: 128.5 | L4: Ferrocarril Ficticio Carril | M4: Equipo ficticio Alba | N4: Confirmada | O4: =IF(OR(NOT(ISNUMBER(F4)),NOT(ISNUMBER(I4))),"",IFERROR(ROUND((I4-F4)*1440,0),"")) | P4: =IF(OR(E4="",H4=""),"",IFERROR(VLOOKUP(E4&">"&H4,'Parámetros'!$A$4:$B$19,2,FALSE),"")) | Q4: =IF(A4="","",IF(N4="Cancelada","NO APLICA",IF(OR(B4="",C4="",D4="",E4="",F4="",G4="",H4="",I4="",J4="",K4="",L4="",M4="",N4=""),"INCOMPLETA",IF(OR(NOT(ISNUMBER(J4)),NOT(ISNUMBER(K4)),NOT(ISNUMBER(O4)),NOT(ISNUMBER(P4))),"INCOMPLETA",IF(O4<0,"REVISAR: orden",IF(O4<P4,"REVISAR: margen","APTA"))))))
A5: EXP-FIC-002 | B5: Nodo ficticio Bronce | C5: Grupo ficticio Brisa | D5: Tren ficticio TF-202 | E5: Tren | F5: 46284.431 | G5: Ferri ficticio FF-302 | H5: Ferri | I5: 46284.483 | J5: 4 | K5: 346.8 | L5: Ferri Ficticio Marea | M5: Equipo ficticio Boreal | N5: En revisión | O5: =IF(OR(NOT(ISNUMBER(F5)),NOT(ISNUMBER(I5))),"",IFERROR(ROUND((I5-F5)*1440,0),"")) | P5: =IF(OR(E5="",H5=""),"",IFERROR(VLOOKUP(E5&">"&H5,'Parámetros'!$A$4:$B$19,2,FALSE),"")) | Q5: =IF(A5="","",IF(N5="Cancelada","NO APLICA",IF(OR(B5="",C5="",D5="",E5="",F5="",G5="",H5="",I5="",J5="",K5="",L5="",M5="",N5=""),"INCOMPLETA",IF(OR(NOT(ISNUMBER(J5)),NOT(ISNUMBER(K5)),NOT(ISNUMBER(O5)),NOT(ISNUMBER(P5))),"INCOMPLETA",IF(O5<0,"REVISAR: orden",IF(O5<P5,"REVISAR: margen","APTA"))))))
A6: EXP-FIC-003 | B6: Nodo ficticio Coral | C6: Grupo ficticio Canela | D6: Ferri ficticio FF-303 | E6: Ferri | F6: 46285.757 | G6: Traslado ficticio TR-403 | H6: Traslado | I6: 46285.788 | J6: 3 | K6: 92.4 | L6: Traslados Ficticios Rueda | M6: Equipo ficticio Cobalto | N6: Confirmada | O6: =IF(OR(NOT(ISNUMBER(F6)),NOT(ISNUMBER(I6))),"",IFERROR(ROUND((I6-F6)*1440,0),"")) | P6: =IF(OR(E6="",H6=""),"",IFERROR(VLOOKUP(E6&">"&H6,'Parámetros'!$A$4:$B$19,2,FALSE),"")) | Q6: =IF(A6="","",IF(N6="Cancelada","NO APLICA",IF(OR(B6="",C6="",D6="",E6="",F6="",G6="",H6="",I6="",J6="",K6="",L6="",M6="",N6=""),"INCOMPLETA",IF(OR(NOT(ISNUMBER(J6)),NOT(ISNUMBER(K6)),NOT(ISNUMBER(O6)),NOT(ISNUMBER(P6))),"INCOMPLETA",IF(O6<0,"REVISAR: orden",IF(O6<P6,"REVISAR: margen","APTA"))))))
A7: EXP-FIC-004 | B7: Nodo ficticio Duna | C7: Grupo ficticio Dalia | D7: Traslado ficticio TR-404 | E7: Traslado | F7: 46286.271 | G7: Vuelo ficticio VF-104 | H7: Vuelo | I7: 46286.354 | J7: 1 | K7: 74 | L7: Aerolínea Ficticia Nimbo | M7: Equipo ficticio Delta | N7: Pendiente | O7: =IF(OR(NOT(ISNUMBER(F7)),NOT(ISNUMBER(I7))),"",IFERROR(ROUND((I7-F7)*1440,0),"")) | P7: =IF(OR(E7="",H7=""),"",IFERROR(VLOOKUP(E7&">"&H7,'Parámetros'!$A$4:$B$19,2,FALSE),"")) | Q7: =IF(A7="","",IF(N7="Cancelada","NO APLICA",IF(OR(B7="",C7="",D7="",E7="",F7="",G7="",H7="",I7="",J7="",K7="",L7="",M7="",N7=""),"INCOMPLETA",IF(OR(NOT(ISNUMBER(J7)),NOT(ISNUMBER(K7)),NOT(ISNUMBER(O7)),NOT(ISNUMBER(P7))),"INCOMPLETA",IF(O7<0,"REVISAR: orden",IF(O7<P7,"REVISAR: margen","APTA"))))))
A8: EXP-FIC-005 | B8: Nodo ficticio Estela | C8: Grupo ficticio Especias | D8: Vuelo ficticio VF-105 | E8: Vuelo | F8: 46287.948 | G8: Vuelo ficticio VF-205 | H8: Vuelo | I8: 46288.003 | J8: 1 | K8: 215.75 | L8: Aerolínea Ficticia Nimbo | M8: Equipo ficticio Estrella | N8: En revisión | O8: =IF(OR(NOT(ISNUMBER(F8)),NOT(ISNUMBER(I8))),"",IFERROR(ROUND((I8-F8)*1440,0),"")) | P8: =IF(OR(E8="",H8=""),"",IFERROR(VLOOKUP(E8&">"&H8,'Parámetros'!$A$4:$B$19,2,FALSE),"")) | Q8: =IF(A8="","",IF(N8="Cancelada","NO APLICA",IF(OR(B8="",C8="",D8="",E8="",F8="",G8="",H8="",I8="",J8="",K8="",L8="",M8="",N8=""),"INCOMPLETA",IF(OR(NOT(ISNUMBER(J8)),NOT(ISNUMBER(K8)),NOT(ISNUMBER(O8)),NOT(ISNUMBER(P8))),"INCOMPLETA",IF(O8<0,"REVISAR: orden",IF(O8<P8,"REVISAR: margen","APTA"))))))
A9: EXP-FIC-006 | B9: Nodo ficticio Faro | C9: Grupo ficticio Fábula | D9: Tren ficticio TF-106 | E9: Tren | F9: 46289.583 | G9: Tren ficticio TF-206 | H9: Tren | I9: 46289.604 | J9: 6 | K9: 483 | L9: Ferrocarril Ficticio Carril | M9: Equipo ficticio Faro | N9: Confirmada | O9: =IF(OR(NOT(ISNUMBER(F9)),NOT(ISNUMBER(I9))),"",IFERROR(ROUND((I9-F9)*1440,0),"")) | P9: =IF(OR(E9="",H9=""),"",IFERROR(VLOOKUP(E9&">"&H9,'Parámetros'!$A$4:$B$19,2,FALSE),"")) | Q9: =IF(A9="","",IF(N9="Cancelada","NO APLICA",IF(OR(B9="",C9="",D9="",E9="",F9="",G9="",H9="",I9="",J9="",K9="",L9="",M9="",N9=""),"INCOMPLETA",IF(OR(NOT(ISNUMBER(J9)),NOT(ISNUMBER(K9)),NOT(ISNUMBER(O9)),NOT(ISNUMBER(P9))),"INCOMPLETA",IF(O9<0,"REVISAR: orden",IF(O9<P9,"REVISAR: margen","APTA"))))))
A10: EXP-FIC-007 | B10: Nodo ficticio Granate | C10: Grupo ficticio Girasol | D10: Ferri ficticio FF-107 | E10: Ferri | F10: 46290.302 | G10: Vuelo ficticio VF-207 | H10: Vuelo | I10: 46290.389 | J10: 2 | K10: 398.2 | L10: Aerolínea Ficticia Nimbo | M10: Equipo ficticio Guía | N10: En revisión | O10: =IF(OR(NOT(ISNUMBER(F10)),NOT(ISNUMBER(I10))),"",IFERROR(ROUND((I10-F10)*1440,0),"")) | P10: =IF(OR(E10="",H10=""),"",IFERROR(VLOOKUP(E10&">"&H10,'Parámetros'!$A$4:$B$19,2,FALSE),"")) | Q10: =IF(A10="","",IF(N10="Cancelada","NO APLICA",IF(OR(B10="",C10="",D10="",E10="",F10="",G10="",H10="",I10="",J10="",K10="",L10="",M10="",N10=""),"INCOMPLETA",IF(OR(NOT(ISNUMBER(J10)),NOT(ISNUMBER(K10)),NOT(ISNUMBER(O10)),NOT(ISNUMBER(P10))),"INCOMPLETA",IF(O10<0,"REVISAR: orden",IF(O10<P10,"REVISAR: margen","APTA"))))))
A11: EXP-FIC-008 | B11: Nodo ficticio Hiedra | C11: Grupo ficticio Horizonte | D11: Traslado ficticio TR-108 | E11: Traslado | F11: 46291.5 | G11: Tren ficticio TF-208 | H11: Tren | I11: 46291.535 | J11: 5 | K11: 167.25 | L11: Ferrocarril Ficticio Carril | M11: Equipo ficticio Hiedra | N11: Cancelada | O11: =IF(OR(NOT(ISNUMBER(F11)),NOT(ISNUMBER(I11))),"",IFERROR(ROUND((I11-F11)*1440,0),"")) | P11: =IF(OR(E11="",H11=""),"",IFERROR(VLOOKUP(E11&">"&H11,'Parámetros'!$A$4:$B$19,2,FALSE),"")) | Q11: =IF(A11="","",IF(N11="Cancelada","NO APLICA",IF(OR(B11="",C11="",D11="",E11="",F11="",G11="",H11="",I11="",J11="",K11="",L11="",M11="",N11=""),"INCOMPLETA",IF(OR(NOT(ISNUMBER(J11)),NOT(ISNUMBER(K11)),NOT(ISNUMBER(O11)),NOT(ISNUMBER(P11))),"INCOMPLETA",IF(O11<0,"REVISAR: orden",IF(O11<P11,"REVISAR: margen","APTA"))))))
A12: EXP-FIC-009 | B12: Nodo ficticio Índigo | C12: Grupo ficticio Iris | D12: Vuelo ficticio VF-109 | E12: Vuelo | F12: 46292.382 | G12: Ferri ficticio FF-209 | H12: Ferri | J12: 1 | K12: 156 | L12: Ferri Ficticio Marea | M12: Equipo ficticio Índigo | N12: Pendiente | O12: =IF(OR(NOT(ISNUMBER(F12)),NOT(ISNUMBER(I12))),"",IFERROR(ROUND((I12-F12)*1440,0),"")) | P12: =IF(OR(E12="",H12=""),"",IFERROR(VLOOKUP(E12&">"&H12,'Parámetros'!$A$4:$B$19,2,FALSE),"")) | Q12: =IF(A12="","",IF(N12="Cancelada","NO APLICA",IF(OR(B12="",C12="",D12="",E12="",F12="",G12="",H12="",I12="",J12="",K12="",L12="",M12="",N12=""),"INCOMPLETA",IF(OR(NOT(ISNUMBER(J12)),NOT(ISNUMBER(K12)),NOT(ISNUMBER(O12)),NOT(ISNUMBER(P12))),"INCOMPLETA",IF(O12<0,"REVISAR: orden",IF(O12<P12,"REVISAR: margen","APTA"))))))
A13: EXP-FIC-010 | B13: Nodo ficticio Jade | C13: Grupo ficticio Jengibre | D13: Tren ficticio TF-110 | E13: Tren | F13: 46293.674 | G13: Traslado ficticio TR-210 | H13: Traslado | I13: 46293.663 | J13: 99 | K13: 100000 | L13: Traslados Ficticios Rueda | M13: Equipo ficticio Jade | N13: Confirmada | O13: =IF(OR(NOT(ISNUMBER(F13)),NOT(ISNUMBER(I13))),"",IFERROR(ROUND((I13-F13)*1440,0),"")) | P13: =IF(OR(E13="",H13=""),"",IFERROR(VLOOKUP(E13&">"&H13,'Parámetros'!$A$4:$B$19,2,FALSE),"")) | Q13: =IF(A13="","",IF(N13="Cancelada","NO APLICA",IF(OR(B13="",C13="",D13="",E13="",F13="",G13="",H13="",I13="",J13="",K13="",L13="",M13="",N13=""),"INCOMPLETA",IF(OR(NOT(ISNUMBER(J13)),NOT(ISNUMBER(K13)),NOT(ISNUMBER(O13)),NOT(ISNUMBER(P13))),"INCOMPLETA",IF(O13<0,"REVISAR: orden",IF(O13<P13,"REVISAR: margen","APTA"))))))
O14: =IF(OR(NOT(ISNUMBER(F14)),NOT(ISNUMBER(I14))),"",IFERROR(ROUND((I14-F14)*1440,0),"")) | P14: =IF(OR(E14="",H14=""),"",IFERROR(VLOOKUP(E14&">"&H14,'Parámetros'!$A$4:$B$19,2,FALSE),"")) | Q14: =IF(A14="","",IF(N14="Cancelada","NO APLICA",IF(OR(B14="",C14="",D14="",E14="",F14="",G14="",H14="",I14="",J14="",K14="",L14="",M14="",N14=""),"INCOMPLETA",IF(OR(NOT(ISNUMBER(J14)),NOT(ISNUMBER(K14)),NOT(ISNUMBER(O14)),NOT(ISNUMBER(P14))),"INCOMPLETA",IF(O14<0,"REVISAR: orden",IF(O14<P14,"REVISAR: margen","APTA"))))))
O15: =IF(OR(NOT(ISNUMBER(F15)),NOT(ISNUMBER(I15))),"",IFERROR(ROUND((I15-F15)*1440,0),"")) | P15: =IF(OR(E15="",H15=""),"",IFERROR(VLOOKUP(E15&">"&H15,'Parámetros'!$A$4:$B$19,2,FALSE),"")) | Q15: =IF(A15="","",IF(N15="Cancelada","NO APLICA",IF(OR(B15="",C15="",D15="",E15="",F15="",G15="",H15="",I15="",J15="",K15="",L15="",M15="",N15=""),"INCOMPLETA",IF(OR(NOT(ISNUMBER(J15)),NOT(ISNUMBER(K15)),NOT(ISNUMBER(O15)),NOT(ISNUMBER(P15))),"INCOMPLETA",IF(O15<0,"REVISAR: orden",IF(O15<P15,"REVISAR: margen","APTA"))))))
O16: =IF(OR(NOT(ISNUMBER(F16)),NOT(ISNUMBER(I16))),"",IFERROR(ROUND((I16-F16)*1440,0),"")) | P16: =IF(OR(E16="",H16=""),"",IFERROR(VLOOKUP(E16&">"&H16,'Parámetros'!$A$4:$B$19,2,FALSE),"")) | Q16: =IF(A16="","",IF(N16="Cancelada","NO APLICA",IF(OR(B16="",C16="",D16="",E16="",F16="",G16="",H16="",I16="",J16="",K16="",L16="",M16="",N16=""),"INCOMPLETA",IF(OR(NOT(ISNUMBER(J16)),NOT(ISNUMBER(K16)),NOT(ISNUMBER(O16)),NOT(ISNUMBER(P16))),"INCOMPLETA",IF(O16<0,"REVISAR: orden",IF(O16<P16,"REVISAR: margen","APTA"))))))
O17: =IF(OR(NOT(ISNUMBER(F17)),NOT(ISNUMBER(I17))),"",IFERROR(ROUND((I17-F17)*1440,0),"")) | P17: =IF(OR(E17="",H17=""),"",IFERROR(VLOOKUP(E17&">"&H17,'Parámetros'!$A$4:$B$19,2,FALSE),"")) | Q17: =IF(A17="","",IF(N17="Cancelada","NO APLICA",IF(OR(B17="",C17="",D17="",E17="",F17="",G17="",H17="",I17="",J17="",K17="",L17="",M17="",N17=""),"INCOMPLETA",IF(OR(NOT(ISNUMBER(J17)),NOT(ISNUMBER(K17)),NOT(ISNUMBER(O17)),NOT(ISNUMBER(P17))),"INCOMPLETA",IF(O17<0,"REVISAR: orden",IF(O17<P17,"REVISAR: margen","APTA"))))))
O18: =IF(OR(NOT(ISNUMBER(F18)),NOT(ISNUMBER(I18))),"",IFERROR(ROUND((I18-F18)*1440,0),"")) | P18: =IF(OR(E18="",H18=""),"",IFERROR(VLOOKUP(E18&">"&H18,'Parámetros'!$A$4:$B$19,2,FALSE),"")) | Q18: =IF(A18="","",IF(N18="Cancelada","NO APLICA",IF(OR(B18="",C18="",D18="",E18="",F18="",G18="",H18="",I18="",J18="",K18="",L18="",M18="",N18=""),"INCOMPLETA",IF(OR(NOT(ISNUMBER(J18)),NOT(ISNUMBER(K18)),NOT(ISNUMBER(O18)),NOT(ISNUMBER(P18))),"INCOMPLETA",IF(O18<0,"REVISAR: orden",IF(O18<P18,"REVISAR: margen","APTA"))))))
O19: =IF(OR(NOT(ISNUMBER(F19)),NOT(ISNUMBER(I19))),"",IFERROR(ROUND((I19-F19)*1440,0),"")) | P19: =IF(OR(E19="",H19=""),"",IFERROR(VLOOKUP(E19&">"&H19,'Parámetros'!$A$4:$B$19,2,FALSE),"")) | Q19: =IF(A19="","",IF(N19="Cancelada","NO APLICA",IF(OR(B19="",C19="",D19="",E19="",F19="",G19="",H19="",I19="",J19="",K19="",L19="",M19="",N19=""),"INCOMPLETA",IF(OR(NOT(ISNUMBER(J19)),NOT(ISNUMBER(K19)),NOT(ISNUMBER(O19)),NOT(ISNUMBER(P19))),"INCOMPLETA",IF(O19<0,"REVISAR: orden",IF(O19<P19,"REVISAR: margen","APTA"))))))
O20: =IF(OR(NOT(ISNUMBER(F20)),NOT(ISNUMBER(I20))),"",IFERROR(ROUND((I20-F20)*1440,0),"")) | P20: =IF(OR(E20="",H20=""),"",IFERROR(VLOOKUP(E20&">"&H20,'Parámetros'!$A$4:$B$19,2,FALSE),"")) | Q20: =IF(A20="","",IF(N20="Cancelada","NO APLICA",IF(OR(B20="",C20="",D20="",E20="",F20="",G20="",H20="",I20="",J20="",K20="",L20="",M20="",N20=""),"INCOMPLETA",IF(OR(NOT(ISNUMBER(J20)),NOT(ISNUMBER(K20)),NOT(ISNUMBER(O20)),NOT(ISNUMBER(P20))),"INCOMPLETA",IF(O20<0,"REVISAR: orden",IF(O20<P20,"REVISAR: margen","APTA"))))))
O21: =IF(OR(NOT(ISNUMBER(F21)),NOT(ISNUMBER(I21))),"",IFERROR(ROUND((I21-F21)*1440,0),"")) | P21: =IF(OR(E21="",H21=""),"",IFERROR(VLOOKUP(E21&">"&H21,'Parámetros'!$A$4:$B$19,2,FALSE),"")) | Q21: =IF(A21="","",IF(N21="Cancelada","NO APLICA",IF(OR(B21="",C21="",D21="",E21="",F21="",G21="",H21="",I21="",J21="",K21="",L21="",M21="",N21=""),"INCOMPLETA",IF(OR(NOT(ISNUMBER(J21)),NOT(ISNUMBER(K21)),NOT(ISNUMBER(O21)),NOT(ISNUMBER(P21))),"INCOMPLETA",IF(O21<0,"REVISAR: orden",IF(O21<P21,"REVISAR: margen","APTA"))))))
O22: =IF(OR(NOT(ISNUMBER(F22)),NOT(ISNUMBER(I22))),"",IFERROR(ROUND((I22-F22)*1440,0),"")) | P22: =IF(OR(E22="",H22=""),"",IFERROR(VLOOKUP(E22&">"&H22,'Parámetros'!$A$4:$B$19,2,FALSE),"")) | Q22: =IF(A22="","",IF(N22="Cancelada","NO APLICA",IF(OR(B22="",C22="",D22="",E22="",F22="",G22="",H22="",I22="",J22="",K22="",L22="",M22="",N22=""),"INCOMPLETA",IF(OR(NOT(ISNUMBER(J22)),NOT(ISNUMBER(K22)),NOT(ISNUMBER(O22)),NOT(ISNUMBER(P22))),"INCOMPLETA",IF(O22<0,"REVISAR: orden",IF(O22<P22,"REVISAR: margen","APTA"))))))
O23: =IF(OR(NOT(ISNUMBER(F23)),NOT(ISNUMBER(I23))),"",IFERROR(ROUND((I23-F23)*1440,0),"")) | P23: =IF(OR(E23="",H23=""),"",IFERROR(VLOOKUP(E23&">"&H23,'Parámetros'!$A$4:$B$19,2,FALSE),"")) | Q23: =IF(A23="","",IF(N23="Cancelada","NO APLICA",IF(OR(B23="",C23="",D23="",E23="",F23="",G23="",H23="",I23="",J23="",K23="",L23="",M23="",N23=""),"INCOMPLETA",IF(OR(NOT(ISNUMBER(J23)),NOT(ISNUMBER(K23)),NOT(ISNUMBER(O23)),NOT(ISNUMBER(P23))),"INCOMPLETA",IF(O23<0,"REVISAR: orden",IF(O23<P23,"REVISAR: margen","APTA"))))))
O24: =IF(OR(NOT(ISNUMBER(F24)),NOT(ISNUMBER(I24))),"",IFERROR(ROUND((I24-F24)*1440,0),"")) | P24: =IF(OR(E24="",H24=""),"",IFERROR(VLOOKUP(E24&">"&H24,'Parámetros'!$A$4:$B$19,2,FALSE),"")) | Q24: =IF(A24="","",IF(N24="Cancelada","NO APLICA",IF(OR(B24="",C24="",D24="",E24="",F24="",G24="",H24="",I24="",J24="",K24="",L24="",M24="",N24=""),"INCOMPLETA",IF(OR(NOT(ISNUMBER(J24)),NOT(ISNUMBER(K24)),NOT(ISNUMBER(O24)),NOT(ISNUMBER(P24))),"INCOMPLETA",IF(O24<0,"REVISAR: orden",IF(O24<P24,"REVISAR: margen","APTA"))))))
O25: =IF(OR(NOT(ISNUMBER(F25)),NOT(ISNUMBER(I25))),"",IFERROR(ROUND((I25-F25)*1440,0),"")) | P25: =IF(OR(E25="",H25=""),"",IFERROR(VLOOKUP(E25&">"&H25,'Parámetros'!$A$4:$B$19,2,FALSE),"")) | Q25: =IF(A25="","",IF(N25="Cancelada","NO APLICA",IF(OR(B25="",C25="",D25="",E25="",F25="",G25="",H25="",I25="",J25="",K25="",L25="",M25="",N25=""),"INCOMPLETA",IF(OR(NOT(ISNUMBER(J25)),NOT(ISNUMBER(K25)),NOT(ISNUMBER(O25)),NOT(ISNUMBER(P25))),"INCOMPLETA",IF(O25<0,"REVISAR: orden",IF(O25<P25,"REVISAR: margen","APTA"))))))
... O103: =IF(OR(NOT(ISNUMBER(F103)),NOT(ISNUMBER(I103))),"",IFERROR(ROUND((I103-F103)*1440,0),"")) | P103: =IF(OR(E103="",H103=""),"",IFERROR(VLOOKUP(E103&">"&H103,'Parámetros'!$A$4:$B$19,2,FALSE),"")) | Q103: =IF(A103="","",IF(N103="Cancelada","NO APLICA",IF(OR(B103="",C103="",D103="",E103="",F103="",G103="",H103="",I103="",J103="",K103="",L103="",M103="",N103=""),"INCOMPLETA",IF(OR(NOT(ISNUMBER(J103)),NOT(ISNUMBER(K103)),NOT(ISNUMBER(O103)),NOT(ISNUMBER(P103))),"INCOMPLETA",IF(O103<0,"REVISAR: orden",IF(O103<P103,"REVISAR: margen","APTA"))))))

Sheet Parámetros
A1: Parámetros editables para la comprobación de conexiones
A2: Los mínimos son supuestos operativos editables y requieren revisión humana. | H2: Fechas, capacidades e importes máximos editables.
A3: Combinación de servicios | B3: Mínimo (min) | D3: Tipos estables | F3: Estados estables | H3: Supuesto de validación | I3: Valor editable
A4: Vuelo>Vuelo | B4: 90 | D4: Vuelo | F4: Pendiente | H4: Fecha mínima de servicio | I4: 46246
A5: Vuelo>Tren | B5: 75 | D5: Tren | F5: Confirmada | H5: Fecha máxima de servicio | I5: 47371
A6: Vuelo>Ferri | B6: 120 | D6: Ferri | F6: En revisión | H6: Máximo de personas por registro | I6: 99
A7: Vuelo>Traslado | B7: 45 | D7: Traslado | F7: Cancelada | H7: Importe máximo por registro (€) | I7: 100000
A8: Tren>Vuelo | B8: 120
A9: Tren>Tren | B9: 30
A10: Tren>Ferri | B10: 90
A11: Tren>Traslado | B11: 30
A12: Ferri>Vuelo | B12: 150
A13: Ferri>Tren | B13: 90
A14: Ferri>Ferri | B14: 60
A15: Ferri>Traslado | B15: 45
A16: Traslado>Vuelo | B16: 120
A17: Traslado>Tren | B17: 45
A18: Traslado>Ferri | B18: 60
A19: Traslado>Traslado | B19: 20
