Workbook

Sheet Resumen
A1: Resumen calculado del plan de contingencia
A3: Indicador | B3: Valor | D3: Estado | E3: Registros
A4: Registros de contingencia | B4: =COUNTIF(Contingencias!$A$5:$A$114,"<>") | D4: ='Parámetros'!A13 | E4: =IF(OR($B$4=0,D4=""),"",COUNTIF(Contingencias!$O$5:$O$114,D4))
A5: Personas afectadas | B5: =IF(B4=0,"",SUM(Contingencias!$F$5:$F$114)) | D5: ='Parámetros'!A14 | E5: =IF(OR($B$4=0,D5=""),"",COUNTIF(Contingencias!$O$5:$O$114,D5))
A6: Importe previsto | B6: =IF(B4=0,"",SUM(Contingencias!$G$5:$G$114)) | D6: ='Parámetros'!A15 | E6: =IF(OR($B$4=0,D6=""),"",COUNTIF(Contingencias!$O$5:$O$114,D6))
A7: Importe alternativo informado | B7: =IF(COUNT(Contingencias!$L$5:$L$114)=0,"",SUM(Contingencias!$L$5:$L$114)) | D7: ='Parámetros'!A16 | E7: =IF(OR($B$4=0,D7=""),"",COUNTIF(Contingencias!$O$5:$O$114,D7))
A8: Diferencia estimada | B8: =IF(COUNT(Contingencias!$P$5:$P$114)=0,"",SUM(Contingencias!$P$5:$P$114)) | D8: ='Parámetros'!A17 | E8: =IF(OR($B$4=0,D8=""),"",COUNTIF(Contingencias!$O$5:$O$114,D8))
A9: Alternativas informadas | B9: =IF(B4=0,"",COUNTIF(Contingencias!$J$5:$J$114,"<>"))
A10: Decisiones pendientes | B10: =IF(B4=0,"",COUNTIF(Contingencias!$O$5:$O$114,"Decisión pendiente"))
A11: Avisos para revisión humana | B11: =IF(B4=0,"",COUNTIFS(Contingencias!$A$5:$A$114,"<>",Contingencias!$R$5:$R$114,"<>",Contingencias!$R$5:$R$114,"<>Sin aviso"))

Sheet Contingencias
A1: Plan de contingencia de itinerario turístico
A2: Uso operativo | B2: Registre una fila por servicio afectado. Los avisos requieren comprobación humana. | D2: Datos y entidades de ejemplo inequívocamente ficticios.
A4: Expediente | B4: Salida | C4: Viajero o grupo | D4: Servicio previsto | E4: Fecha del servicio | F4: Cantidad (personas) | G4: Importe previsto (€) | H4: Proveedor previsto | I4: Causa | J4: Servicio alternativo | K4: Proveedor alternativo | L4: Importe alternativo (€) | M4: Fecha límite de decisión | N4: Responsable | O4: Estado | P4: Diferencia (€) | Q4: Variación (%) | R4: Aviso para revisión
A5: EXP-FIC-2026-001 | B5: Salida ficticia Bruma 01 | C5: Grupo ficticio Azahar A | D5: Traslado colectivo simulado | E5: 46280 | F5: 24 | G5: 1800 | H5: Autocares Ficticios Bruma, S.L. | I5: Interrupción de transporte | J5: Traslado alternativo por carretera | K5: Movilidad Ficticia Nébula, S.L. | L5: 2000 | M5: 46277 | N5: Equipo ficticio Operaciones Norte | O5: Decisión pendiente | P5: =IF(A5="","",IF(OR(G5="",L5=""),"",IFERROR(L5-G5,""))) | Q5: =IF(A5="","",IF(OR(G5="",L5="",G5=0),"",IFERROR((L5-G5)/G5,""))) | R5: =IF(A5="","",IF(O5="","Falta estado",IF(N5="","Falta responsable",IF(B5="","Falta salida",IF(C5="","Falta viajero o grupo",IF(D5="","Falta servicio previsto",IF(NOT(ISNUMBER(E5)),"Revisar fecha del servicio",IF(E5="","Falta fecha del servicio",IF(F5="","Falta cantidad",IF(G5="","Falta importe previsto",IF(H5="","Falta proveedor previsto",IF(I5="","Falta causa",IF(OR(O5="Confirmada",O5="Descartada"),"Sin aviso",IF(J5="","Falta alternativa",IF(K5="","Falta proveedor alternativo",IF(L5="","Falta importe alternativo",IF(M5="","Falta fecha límite",IF(NOT(ISNUMBER(M5)),"Revisar fecha límite",IF(M5<TODAY(),"Revisión vencida",IF(M5<=TODAY()+'Parámetros'!$B$5,"Revisar decisión",IF(IFERROR(Q5>'Parámetros'!$B$6,FALSE),"Revisar incremento","Sin aviso")))))))))))))))))))))
A6: EXP-FIC-2026-002 | B6: Salida ficticia Duna 02 | C6: Grupo ficticio Jacaranda B | D6: Excursión exterior de prueba | E6: 46283 | F6: 18 | G6: 1200 | H6: Experiencias Ficticias Duna, S.L. | I6: Previsión meteorológica adversa | J6: Actividad cubierta de sustitución | K6: Espacios Ficticios Niebla, S.L. | L6: 1500 | M6: 46279 | N6: Equipo ficticio Operaciones Centro | O6: Alternativa propuesta | P6: =IF(A6="","",IF(OR(G6="",L6=""),"",IFERROR(L6-G6,""))) | Q6: =IF(A6="","",IF(OR(G6="",L6="",G6=0),"",IFERROR((L6-G6)/G6,""))) | R6: =IF(A6="","",IF(O6="","Falta estado",IF(N6="","Falta responsable",IF(B6="","Falta salida",IF(C6="","Falta viajero o grupo",IF(D6="","Falta servicio previsto",IF(NOT(ISNUMBER(E6)),"Revisar fecha del servicio",IF(E6="","Falta fecha del servicio",IF(F6="","Falta cantidad",IF(G6="","Falta importe previsto",IF(H6="","Falta proveedor previsto",IF(I6="","Falta causa",IF(OR(O6="Confirmada",O6="Descartada"),"Sin aviso",IF(J6="","Falta alternativa",IF(K6="","Falta proveedor alternativo",IF(L6="","Falta importe alternativo",IF(M6="","Falta fecha límite",IF(NOT(ISNUMBER(M6)),"Revisar fecha límite",IF(M6<TODAY(),"Revisión vencida",IF(M6<=TODAY()+'Parámetros'!$B$5,"Revisar decisión",IF(IFERROR(Q6>'Parámetros'!$B$6,FALSE),"Revisar incremento","Sin aviso")))))))))))))))))))))
A7: EXP-FIC-2026-003 | B7: Salida ficticia Marisma 03 | C7: Grupo ficticio Lavanda C | D7: Alojamiento simulado | E7: 46288 | F7: 32 | G7: 3200 | H7: Hospedaje Ficticio Faro, S.L. | I7: Cierre comunicado por proveedor | J7: Alojamiento alternativo simulado | K7: Estancias Ficticias Horizonte, S.L. | L7: 3500 | M7: 46281 | N7: Equipo ficticio Operaciones Sur | O7: Confirmada | P7: =IF(A7="","",IF(OR(G7="",L7=""),"",IFERROR(L7-G7,""))) | Q7: =IF(A7="","",IF(OR(G7="",L7="",G7=0),"",IFERROR((L7-G7)/G7,""))) | R7: =IF(A7="","",IF(O7="","Falta estado",IF(N7="","Falta responsable",IF(B7="","Falta salida",IF(C7="","Falta viajero o grupo",IF(D7="","Falta servicio previsto",IF(NOT(ISNUMBER(E7)),"Revisar fecha del servicio",IF(E7="","Falta fecha del servicio",IF(F7="","Falta cantidad",IF(G7="","Falta importe previsto",IF(H7="","Falta proveedor previsto",IF(I7="","Falta causa",IF(OR(O7="Confirmada",O7="Descartada"),"Sin aviso",IF(J7="","Falta alternativa",IF(K7="","Falta proveedor alternativo",IF(L7="","Falta importe alternativo",IF(M7="","Falta fecha límite",IF(NOT(ISNUMBER(M7)),"Revisar fecha límite",IF(M7<TODAY(),"Revisión vencida",IF(M7<=TODAY()+'Parámetros'!$B$5,"Revisar decisión",IF(IFERROR(Q7>'Parámetros'!$B$6,FALSE),"Revisar incremento","Sin aviso")))))))))))))))))))))
A8: EXP-FIC-2026-004 | B8: Salida ficticia Niebla 04 | C8: Grupo ficticio Mirto D | D8: Visita guiada de prueba | E8: 46294 | F8: 40 | G8: 2100 | H8: Guías Ficticios Niebla, S.L. | I8: Capacidad insuficiente | M8: 46286 | N8: Equipo ficticio Operaciones Este | O8: Pendiente de alternativa | P8: =IF(A8="","",IF(OR(G8="",L8=""),"",IFERROR(L8-G8,""))) | Q8: =IF(A8="","",IF(OR(G8="",L8="",G8=0),"",IFERROR((L8-G8)/G8,""))) | R8: =IF(A8="","",IF(O8="","Falta estado",IF(N8="","Falta responsable",IF(B8="","Falta salida",IF(C8="","Falta viajero o grupo",IF(D8="","Falta servicio previsto",IF(NOT(ISNUMBER(E8)),"Revisar fecha del servicio",IF(E8="","Falta fecha del servicio",IF(F8="","Falta cantidad",IF(G8="","Falta importe previsto",IF(H8="","Falta proveedor previsto",IF(I8="","Falta causa",IF(OR(O8="Confirmada",O8="Descartada"),"Sin aviso",IF(J8="","Falta alternativa",IF(K8="","Falta proveedor alternativo",IF(L8="","Falta importe alternativo",IF(M8="","Falta fecha límite",IF(NOT(ISNUMBER(M8)),"Revisar fecha límite",IF(M8<TODAY(),"Revisión vencida",IF(M8<=TODAY()+'Parámetros'!$B$5,"Revisar decisión",IF(IFERROR(Q8>'Parámetros'!$B$6,FALSE),"Revisar incremento","Sin aviso")))))))))))))))))))))
A9: EXP-FIC-2026-005 | B9: Salida ficticia Estela 05 | C9: Grupo ficticio Retama E | D9: Actividad recreativa simulada | E9: 46277 | F9: 12 | G9: 600 | H9: Ocio Ficticio Estela, S.L. | I9: Cambio operativo interno | J9: Recorrido libre autoguiado ficticio | K9: Gestión interna ficticia | L9: 0 | M9: 46276 | N9: Equipo ficticio Operaciones Oeste | O9: Confirmada | P9: =IF(A9="","",IF(OR(G9="",L9=""),"",IFERROR(L9-G9,""))) | Q9: =IF(A9="","",IF(OR(G9="",L9="",G9=0),"",IFERROR((L9-G9)/G9,""))) | R9: =IF(A9="","",IF(O9="","Falta estado",IF(N9="","Falta responsable",IF(B9="","Falta salida",IF(C9="","Falta viajero o grupo",IF(D9="","Falta servicio previsto",IF(NOT(ISNUMBER(E9)),"Revisar fecha del servicio",IF(E9="","Falta fecha del servicio",IF(F9="","Falta cantidad",IF(G9="","Falta importe previsto",IF(H9="","Falta proveedor previsto",IF(I9="","Falta causa",IF(OR(O9="Confirmada",O9="Descartada"),"Sin aviso",IF(J9="","Falta alternativa",IF(K9="","Falta proveedor alternativo",IF(L9="","Falta importe alternativo",IF(M9="","Falta fecha límite",IF(NOT(ISNUMBER(M9)),"Revisar fecha límite",IF(M9<TODAY(),"Revisión vencida",IF(M9<=TODAY()+'Parámetros'!$B$5,"Revisar decisión",IF(IFERROR(Q9>'Parámetros'!$B$6,FALSE),"Revisar incremento","Sin aviso")))))))))))))))))))))
A10: EXP-FIC-2026-006 | B10: Salida ficticia Cierzo 06 | C10: Grupo ficticio Aliso F | D10: Conexión de transporte simulada | E10: 46246 | F10: 9 | G10: 900 | H10: Conexiones Ficticias Cierzo, S.L. | I10: Interrupción de transporte | J10: Reprogramación ficticia descartada | K10: Enlace Ficticio Boreal, S.L. | L10: 950 | M10: 46246 | N10: Equipo ficticio Operaciones Norte | O10: Descartada | P10: =IF(A10="","",IF(OR(G10="",L10=""),"",IFERROR(L10-G10,""))) | Q10: =IF(A10="","",IF(OR(G10="",L10="",G10=0),"",IFERROR((L10-G10)/G10,""))) | R10: =IF(A10="","",IF(O10="","Falta estado",IF(N10="","Falta responsable",IF(B10="","Falta salida",IF(C10="","Falta viajero o grupo",IF(D10="","Falta servicio previsto",IF(NOT(ISNUMBER(E10)),"Revisar fecha del servicio",IF(E10="","Falta fecha del servicio",IF(F10="","Falta cantidad",IF(G10="","Falta importe previsto",IF(H10="","Falta proveedor previsto",IF(I10="","Falta causa",IF(OR(O10="Confirmada",O10="Descartada"),"Sin aviso",IF(J10="","Falta alternativa",IF(K10="","Falta proveedor alternativo",IF(L10="","Falta importe alternativo",IF(M10="","Falta fecha límite",IF(NOT(ISNUMBER(M10)),"Revisar fecha límite",IF(M10<TODAY(),"Revisión vencida",IF(M10<=TODAY()+'Parámetros'!$B$5,"Revisar decisión",IF(IFERROR(Q10>'Parámetros'!$B$6,FALSE),"Revisar incremento","Sin aviso")))))))))))))))))))))
A11: EXP-FIC-2026-007 | B11: Salida ficticia Umbría 07 | C11: Grupo ficticio Brezo G | D11: Ruta exterior simulada | E11: 46278 | F11: 16 | G11: 800 | H11: Rutas Ficticias Umbría, S.L. | I11: Previsión meteorológica adversa | J11: Taller cubierto de prueba | K11: Talleres Ficticios Arcilla, S.L. | L11: 880 | M11: 46276 | N11: Equipo ficticio Operaciones Centro | O11: Decisión pendiente | P11: =IF(A11="","",IF(OR(G11="",L11=""),"",IFERROR(L11-G11,""))) | Q11: =IF(A11="","",IF(OR(G11="",L11="",G11=0),"",IFERROR((L11-G11)/G11,""))) | R11: =IF(A11="","",IF(O11="","Falta estado",IF(N11="","Falta responsable",IF(B11="","Falta salida",IF(C11="","Falta viajero o grupo",IF(D11="","Falta servicio previsto",IF(NOT(ISNUMBER(E11)),"Revisar fecha del servicio",IF(E11="","Falta fecha del servicio",IF(F11="","Falta cantidad",IF(G11="","Falta importe previsto",IF(H11="","Falta proveedor previsto",IF(I11="","Falta causa",IF(OR(O11="Confirmada",O11="Descartada"),"Sin aviso",IF(J11="","Falta alternativa",IF(K11="","Falta proveedor alternativo",IF(L11="","Falta importe alternativo",IF(M11="","Falta fecha límite",IF(NOT(ISNUMBER(M11)),"Revisar fecha límite",IF(M11<TODAY(),"Revisión vencida",IF(M11<=TODAY()+'Parámetros'!$B$5,"Revisar decisión",IF(IFERROR(Q11>'Parámetros'!$B$6,FALSE),"Revisar incremento","Sin aviso")))))))))))))))))))))
A12: EXP-FIC-2026-008 | B12: Salida ficticia Celaje 08 | C12: Grupo ficticio Enebro H | D12: Servicio de restauración simulado | E12: 46301 | F12: 36 | G12: 5000 | H12: Restauración Ficticia Celaje, S.L. | I12: Cierre comunicado por proveedor | J12: Restauración alternativa simulada | K12: Banquetes Ficticios Poniente, S.L. | L12: 5200 | M12: 46284 | N12: Equipo ficticio Operaciones Sur | O12: Alternativa propuesta | P12: =IF(A12="","",IF(OR(G12="",L12=""),"",IFERROR(L12-G12,""))) | Q12: =IF(A12="","",IF(OR(G12="",L12="",G12=0),"",IFERROR((L12-G12)/G12,""))) | R12: =IF(A12="","",IF(O12="","Falta estado",IF(N12="","Falta responsable",IF(B12="","Falta salida",IF(C12="","Falta viajero o grupo",IF(D12="","Falta servicio previsto",IF(NOT(ISNUMBER(E12)),"Revisar fecha del servicio",IF(E12="","Falta fecha del servicio",IF(F12="","Falta cantidad",IF(G12="","Falta importe previsto",IF(H12="","Falta proveedor previsto",IF(I12="","Falta causa",IF(OR(O12="Confirmada",O12="Descartada"),"Sin aviso",IF(J12="","Falta alternativa",IF(K12="","Falta proveedor alternativo",IF(L12="","Falta importe alternativo",IF(M12="","Falta fecha límite",IF(NOT(ISNUMBER(M12)),"Revisar fecha límite",IF(M12<TODAY(),"Revisión vencida",IF(M12<=TODAY()+'Parámetros'!$B$5,"Revisar decisión",IF(IFERROR(Q12>'Parámetros'!$B$6,FALSE),"Revisar incremento","Sin aviso")))))))))))))))))))))
A13: EXP-FIC-2026-009 | B13: Salida ficticia Mistral 09 | C13: Grupo ficticio Tomillo I | D13: Traslado especial simulado | E13: 46306 | F13: 1 | G13: 150 | H13: Traslados Ficticios Mistral, S.L. | I13: Capacidad insuficiente | J13: Vehículo alternativo de prueba | K13: Movilidad Ficticia Lucero, S.L. | L13: 175 | N13: Equipo ficticio Operaciones Este | O13: Alternativa propuesta | P13: =IF(A13="","",IF(OR(G13="",L13=""),"",IFERROR(L13-G13,""))) | Q13: =IF(A13="","",IF(OR(G13="",L13="",G13=0),"",IFERROR((L13-G13)/G13,""))) | R13: =IF(A13="","",IF(O13="","Falta estado",IF(N13="","Falta responsable",IF(B13="","Falta salida",IF(C13="","Falta viajero o grupo",IF(D13="","Falta servicio previsto",IF(NOT(ISNUMBER(E13)),"Revisar fecha del servicio",IF(E13="","Falta fecha del servicio",IF(F13="","Falta cantidad",IF(G13="","Falta importe previsto",IF(H13="","Falta proveedor previsto",IF(I13="","Falta causa",IF(OR(O13="Confirmada",O13="Descartada"),"Sin aviso",IF(J13="","Falta alternativa",IF(K13="","Falta proveedor alternativo",IF(L13="","Falta importe alternativo",IF(M13="","Falta fecha límite",IF(NOT(ISNUMBER(M13)),"Revisar fecha límite",IF(M13<TODAY(),"Revisión vencida",IF(M13<=TODAY()+'Parámetros'!$B$5,"Revisar decisión",IF(IFERROR(Q13>'Parámetros'!$B$6,FALSE),"Revisar incremento","Sin aviso")))))))))))))))))))))
A14: EXP-FIC-2026-010 | B14: Salida ficticia Albor 10 | C14: Grupo ficticio Lentisco J | D14: Transporte colectivo simulado | E14: 46336 | F14: 60 | G14: 6000 | H14: Transportes Ficticios Albor, S.L. | I14: Interrupción de transporte | J14: Transporte sustitutorio simulado | K14: Autocares Ficticios Horizonte, S.L. | L14: 6000 | M14: 46306 | N14: Equipo ficticio Operaciones Oeste | O14: Confirmada | P14: =IF(A14="","",IF(OR(G14="",L14=""),"",IFERROR(L14-G14,""))) | Q14: =IF(A14="","",IF(OR(G14="",L14="",G14=0),"",IFERROR((L14-G14)/G14,""))) | R14: =IF(A14="","",IF(O14="","Falta estado",IF(N14="","Falta responsable",IF(B14="","Falta salida",IF(C14="","Falta viajero o grupo",IF(D14="","Falta servicio previsto",IF(NOT(ISNUMBER(E14)),"Revisar fecha del servicio",IF(E14="","Falta fecha del servicio",IF(F14="","Falta cantidad",IF(G14="","Falta importe previsto",IF(H14="","Falta proveedor previsto",IF(I14="","Falta causa",IF(OR(O14="Confirmada",O14="Descartada"),"Sin aviso",IF(J14="","Falta alternativa",IF(K14="","Falta proveedor alternativo",IF(L14="","Falta importe alternativo",IF(M14="","Falta fecha límite",IF(NOT(ISNUMBER(M14)),"Revisar fecha límite",IF(M14<TODAY(),"Revisión vencida",IF(M14<=TODAY()+'Parámetros'!$B$5,"Revisar decisión",IF(IFERROR(Q14>'Parámetros'!$B$6,FALSE),"Revisar incremento","Sin aviso")))))))))))))))))))))
P15: =IF(A15="","",IF(OR(G15="",L15=""),"",IFERROR(L15-G15,""))) | Q15: =IF(A15="","",IF(OR(G15="",L15="",G15=0),"",IFERROR((L15-G15)/G15,""))) | R15: =IF(A15="","",IF(O15="","Falta estado",IF(N15="","Falta responsable",IF(B15="","Falta salida",IF(C15="","Falta viajero o grupo",IF(D15="","Falta servicio previsto",IF(NOT(ISNUMBER(E15)),"Revisar fecha del servicio",IF(E15="","Falta fecha del servicio",IF(F15="","Falta cantidad",IF(G15="","Falta importe previsto",IF(H15="","Falta proveedor previsto",IF(I15="","Falta causa",IF(OR(O15="Confirmada",O15="Descartada"),"Sin aviso",IF(J15="","Falta alternativa",IF(K15="","Falta proveedor alternativo",IF(L15="","Falta importe alternativo",IF(M15="","Falta fecha límite",IF(NOT(ISNUMBER(M15)),"Revisar fecha límite",IF(M15<TODAY(),"Revisión vencida",IF(M15<=TODAY()+'Parámetros'!$B$5,"Revisar decisión",IF(IFERROR(Q15>'Parámetros'!$B$6,FALSE),"Revisar incremento","Sin aviso")))))))))))))))))))))
P16: =IF(A16="","",IF(OR(G16="",L16=""),"",IFERROR(L16-G16,""))) | Q16: =IF(A16="","",IF(OR(G16="",L16="",G16=0),"",IFERROR((L16-G16)/G16,""))) | R16: =IF(A16="","",IF(O16="","Falta estado",IF(N16="","Falta responsable",IF(B16="","Falta salida",IF(C16="","Falta viajero o grupo",IF(D16="","Falta servicio previsto",IF(NOT(ISNUMBER(E16)),"Revisar fecha del servicio",IF(E16="","Falta fecha del servicio",IF(F16="","Falta cantidad",IF(G16="","Falta importe previsto",IF(H16="","Falta proveedor previsto",IF(I16="","Falta causa",IF(OR(O16="Confirmada",O16="Descartada"),"Sin aviso",IF(J16="","Falta alternativa",IF(K16="","Falta proveedor alternativo",IF(L16="","Falta importe alternativo",IF(M16="","Falta fecha límite",IF(NOT(ISNUMBER(M16)),"Revisar fecha límite",IF(M16<TODAY(),"Revisión vencida",IF(M16<=TODAY()+'Parámetros'!$B$5,"Revisar decisión",IF(IFERROR(Q16>'Parámetros'!$B$6,FALSE),"Revisar incremento","Sin aviso")))))))))))))))))))))
P17: =IF(A17="","",IF(OR(G17="",L17=""),"",IFERROR(L17-G17,""))) | Q17: =IF(A17="","",IF(OR(G17="",L17="",G17=0),"",IFERROR((L17-G17)/G17,""))) | R17: =IF(A17="","",IF(O17="","Falta estado",IF(N17="","Falta responsable",IF(B17="","Falta salida",IF(C17="","Falta viajero o grupo",IF(D17="","Falta servicio previsto",IF(NOT(ISNUMBER(E17)),"Revisar fecha del servicio",IF(E17="","Falta fecha del servicio",IF(F17="","Falta cantidad",IF(G17="","Falta importe previsto",IF(H17="","Falta proveedor previsto",IF(I17="","Falta causa",IF(OR(O17="Confirmada",O17="Descartada"),"Sin aviso",IF(J17="","Falta alternativa",IF(K17="","Falta proveedor alternativo",IF(L17="","Falta importe alternativo",IF(M17="","Falta fecha límite",IF(NOT(ISNUMBER(M17)),"Revisar fecha límite",IF(M17<TODAY(),"Revisión vencida",IF(M17<=TODAY()+'Parámetros'!$B$5,"Revisar decisión",IF(IFERROR(Q17>'Parámetros'!$B$6,FALSE),"Revisar incremento","Sin aviso")))))))))))))))))))))
P18: =IF(A18="","",IF(OR(G18="",L18=""),"",IFERROR(L18-G18,""))) | Q18: =IF(A18="","",IF(OR(G18="",L18="",G18=0),"",IFERROR((L18-G18)/G18,""))) | R18: =IF(A18="","",IF(O18="","Falta estado",IF(N18="","Falta responsable",IF(B18="","Falta salida",IF(C18="","Falta viajero o grupo",IF(D18="","Falta servicio previsto",IF(NOT(ISNUMBER(E18)),"Revisar fecha del servicio",IF(E18="","Falta fecha del servicio",IF(F18="","Falta cantidad",IF(G18="","Falta importe previsto",IF(H18="","Falta proveedor previsto",IF(I18="","Falta causa",IF(OR(O18="Confirmada",O18="Descartada"),"Sin aviso",IF(J18="","Falta alternativa",IF(K18="","Falta proveedor alternativo",IF(L18="","Falta importe alternativo",IF(M18="","Falta fecha límite",IF(NOT(ISNUMBER(M18)),"Revisar fecha límite",IF(M18<TODAY(),"Revisión vencida",IF(M18<=TODAY()+'Parámetros'!$B$5,"Revisar decisión",IF(IFERROR(Q18>'Parámetros'!$B$6,FALSE),"Revisar incremento","Sin aviso")))))))))))))))))))))
P19: =IF(A19="","",IF(OR(G19="",L19=""),"",IFERROR(L19-G19,""))) | Q19: =IF(A19="","",IF(OR(G19="",L19="",G19=0),"",IFERROR((L19-G19)/G19,""))) | R19: =IF(A19="","",IF(O19="","Falta estado",IF(N19="","Falta responsable",IF(B19="","Falta salida",IF(C19="","Falta viajero o grupo",IF(D19="","Falta servicio previsto",IF(NOT(ISNUMBER(E19)),"Revisar fecha del servicio",IF(E19="","Falta fecha del servicio",IF(F19="","Falta cantidad",IF(G19="","Falta importe previsto",IF(H19="","Falta proveedor previsto",IF(I19="","Falta causa",IF(OR(O19="Confirmada",O19="Descartada"),"Sin aviso",IF(J19="","Falta alternativa",IF(K19="","Falta proveedor alternativo",IF(L19="","Falta importe alternativo",IF(M19="","Falta fecha límite",IF(NOT(ISNUMBER(M19)),"Revisar fecha límite",IF(M19<TODAY(),"Revisión vencida",IF(M19<=TODAY()+'Parámetros'!$B$5,"Revisar decisión",IF(IFERROR(Q19>'Parámetros'!$B$6,FALSE),"Revisar incremento","Sin aviso")))))))))))))))))))))
P20: =IF(A20="","",IF(OR(G20="",L20=""),"",IFERROR(L20-G20,""))) | Q20: =IF(A20="","",IF(OR(G20="",L20="",G20=0),"",IFERROR((L20-G20)/G20,""))) | R20: =IF(A20="","",IF(O20="","Falta estado",IF(N20="","Falta responsable",IF(B20="","Falta salida",IF(C20="","Falta viajero o grupo",IF(D20="","Falta servicio previsto",IF(NOT(ISNUMBER(E20)),"Revisar fecha del servicio",IF(E20="","Falta fecha del servicio",IF(F20="","Falta cantidad",IF(G20="","Falta importe previsto",IF(H20="","Falta proveedor previsto",IF(I20="","Falta causa",IF(OR(O20="Confirmada",O20="Descartada"),"Sin aviso",IF(J20="","Falta alternativa",IF(K20="","Falta proveedor alternativo",IF(L20="","Falta importe alternativo",IF(M20="","Falta fecha límite",IF(NOT(ISNUMBER(M20)),"Revisar fecha límite",IF(M20<TODAY(),"Revisión vencida",IF(M20<=TODAY()+'Parámetros'!$B$5,"Revisar decisión",IF(IFERROR(Q20>'Parámetros'!$B$6,FALSE),"Revisar incremento","Sin aviso")))))))))))))))))))))
P21: =IF(A21="","",IF(OR(G21="",L21=""),"",IFERROR(L21-G21,""))) | Q21: =IF(A21="","",IF(OR(G21="",L21="",G21=0),"",IFERROR((L21-G21)/G21,""))) | R21: =IF(A21="","",IF(O21="","Falta estado",IF(N21="","Falta responsable",IF(B21="","Falta salida",IF(C21="","Falta viajero o grupo",IF(D21="","Falta servicio previsto",IF(NOT(ISNUMBER(E21)),"Revisar fecha del servicio",IF(E21="","Falta fecha del servicio",IF(F21="","Falta cantidad",IF(G21="","Falta importe previsto",IF(H21="","Falta proveedor previsto",IF(I21="","Falta causa",IF(OR(O21="Confirmada",O21="Descartada"),"Sin aviso",IF(J21="","Falta alternativa",IF(K21="","Falta proveedor alternativo",IF(L21="","Falta importe alternativo",IF(M21="","Falta fecha límite",IF(NOT(ISNUMBER(M21)),"Revisar fecha límite",IF(M21<TODAY(),"Revisión vencida",IF(M21<=TODAY()+'Parámetros'!$B$5,"Revisar decisión",IF(IFERROR(Q21>'Parámetros'!$B$6,FALSE),"Revisar incremento","Sin aviso")))))))))))))))))))))
P22: =IF(A22="","",IF(OR(G22="",L22=""),"",IFERROR(L22-G22,""))) | Q22: =IF(A22="","",IF(OR(G22="",L22="",G22=0),"",IFERROR((L22-G22)/G22,""))) | R22: =IF(A22="","",IF(O22="","Falta estado",IF(N22="","Falta responsable",IF(B22="","Falta salida",IF(C22="","Falta viajero o grupo",IF(D22="","Falta servicio previsto",IF(NOT(ISNUMBER(E22)),"Revisar fecha del servicio",IF(E22="","Falta fecha del servicio",IF(F22="","Falta cantidad",IF(G22="","Falta importe previsto",IF(H22="","Falta proveedor previsto",IF(I22="","Falta causa",IF(OR(O22="Confirmada",O22="Descartada"),"Sin aviso",IF(J22="","Falta alternativa",IF(K22="","Falta proveedor alternativo",IF(L22="","Falta importe alternativo",IF(M22="","Falta fecha límite",IF(NOT(ISNUMBER(M22)),"Revisar fecha límite",IF(M22<TODAY(),"Revisión vencida",IF(M22<=TODAY()+'Parámetros'!$B$5,"Revisar decisión",IF(IFERROR(Q22>'Parámetros'!$B$6,FALSE),"Revisar incremento","Sin aviso")))))))))))))))))))))
P23: =IF(A23="","",IF(OR(G23="",L23=""),"",IFERROR(L23-G23,""))) | Q23: =IF(A23="","",IF(OR(G23="",L23="",G23=0),"",IFERROR((L23-G23)/G23,""))) | R23: =IF(A23="","",IF(O23="","Falta estado",IF(N23="","Falta responsable",IF(B23="","Falta salida",IF(C23="","Falta viajero o grupo",IF(D23="","Falta servicio previsto",IF(NOT(ISNUMBER(E23)),"Revisar fecha del servicio",IF(E23="","Falta fecha del servicio",IF(F23="","Falta cantidad",IF(G23="","Falta importe previsto",IF(H23="","Falta proveedor previsto",IF(I23="","Falta causa",IF(OR(O23="Confirmada",O23="Descartada"),"Sin aviso",IF(J23="","Falta alternativa",IF(K23="","Falta proveedor alternativo",IF(L23="","Falta importe alternativo",IF(M23="","Falta fecha límite",IF(NOT(ISNUMBER(M23)),"Revisar fecha límite",IF(M23<TODAY(),"Revisión vencida",IF(M23<=TODAY()+'Parámetros'!$B$5,"Revisar decisión",IF(IFERROR(Q23>'Parámetros'!$B$6,FALSE),"Revisar incremento","Sin aviso")))))))))))))))))))))
P24: =IF(A24="","",IF(OR(G24="",L24=""),"",IFERROR(L24-G24,""))) | Q24: =IF(A24="","",IF(OR(G24="",L24="",G24=0),"",IFERROR((L24-G24)/G24,""))) | R24: =IF(A24="","",IF(O24="","Falta estado",IF(N24="","Falta responsable",IF(B24="","Falta salida",IF(C24="","Falta viajero o grupo",IF(D24="","Falta servicio previsto",IF(NOT(ISNUMBER(E24)),"Revisar fecha del servicio",IF(E24="","Falta fecha del servicio",IF(F24="","Falta cantidad",IF(G24="","Falta importe previsto",IF(H24="","Falta proveedor previsto",IF(I24="","Falta causa",IF(OR(O24="Confirmada",O24="Descartada"),"Sin aviso",IF(J24="","Falta alternativa",IF(K24="","Falta proveedor alternativo",IF(L24="","Falta importe alternativo",IF(M24="","Falta fecha límite",IF(NOT(ISNUMBER(M24)),"Revisar fecha límite",IF(M24<TODAY(),"Revisión vencida",IF(M24<=TODAY()+'Parámetros'!$B$5,"Revisar decisión",IF(IFERROR(Q24>'Parámetros'!$B$6,FALSE),"Revisar incremento","Sin aviso")))))))))))))))))))))
P25: =IF(A25="","",IF(OR(G25="",L25=""),"",IFERROR(L25-G25,""))) | Q25: =IF(A25="","",IF(OR(G25="",L25="",G25=0),"",IFERROR((L25-G25)/G25,""))) | R25: =IF(A25="","",IF(O25="","Falta estado",IF(N25="","Falta responsable",IF(B25="","Falta salida",IF(C25="","Falta viajero o grupo",IF(D25="","Falta servicio previsto",IF(NOT(ISNUMBER(E25)),"Revisar fecha del servicio",IF(E25="","Falta fecha del servicio",IF(F25="","Falta cantidad",IF(G25="","Falta importe previsto",IF(H25="","Falta proveedor previsto",IF(I25="","Falta causa",IF(OR(O25="Confirmada",O25="Descartada"),"Sin aviso",IF(J25="","Falta alternativa",IF(K25="","Falta proveedor alternativo",IF(L25="","Falta importe alternativo",IF(M25="","Falta fecha límite",IF(NOT(ISNUMBER(M25)),"Revisar fecha límite",IF(M25<TODAY(),"Revisión vencida",IF(M25<=TODAY()+'Parámetros'!$B$5,"Revisar decisión",IF(IFERROR(Q25>'Parámetros'!$B$6,FALSE),"Revisar incremento","Sin aviso")))))))))))))))))))))
P26: =IF(A26="","",IF(OR(G26="",L26=""),"",IFERROR(L26-G26,""))) | Q26: =IF(A26="","",IF(OR(G26="",L26="",G26=0),"",IFERROR((L26-G26)/G26,""))) | R26: =IF(A26="","",IF(O26="","Falta estado",IF(N26="","Falta responsable",IF(B26="","Falta salida",IF(C26="","Falta viajero o grupo",IF(D26="","Falta servicio previsto",IF(NOT(ISNUMBER(E26)),"Revisar fecha del servicio",IF(E26="","Falta fecha del servicio",IF(F26="","Falta cantidad",IF(G26="","Falta importe previsto",IF(H26="","Falta proveedor previsto",IF(I26="","Falta causa",IF(OR(O26="Confirmada",O26="Descartada"),"Sin aviso",IF(J26="","Falta alternativa",IF(K26="","Falta proveedor alternativo",IF(L26="","Falta importe alternativo",IF(M26="","Falta fecha límite",IF(NOT(ISNUMBER(M26)),"Revisar fecha límite",IF(M26<TODAY(),"Revisión vencida",IF(M26<=TODAY()+'Parámetros'!$B$5,"Revisar decisión",IF(IFERROR(Q26>'Parámetros'!$B$6,FALSE),"Revisar incremento","Sin aviso")))))))))))))))))))))
... P114: =IF(A114="","",IF(OR(G114="",L114=""),"",IFERROR(L114-G114,""))) | Q114: =IF(A114="","",IF(OR(G114="",L114="",G114=0),"",IFERROR((L114-G114)/G114,""))) | R114: =IF(A114="","",IF(O114="","Falta estado",IF(N114="","Falta responsable",IF(B114="","Falta salida",IF(C114="","Falta viajero o grupo",IF(D114="","Falta servicio previsto",IF(NOT(ISNUMBER(E114)),"Revisar fecha del servicio",IF(E114="","Falta fecha del servicio",IF(F114="","Falta cantidad",IF(G114="","Falta importe previsto",IF(H114="","Falta proveedor previsto",IF(I114="","Falta causa",IF(OR(O114="Confirmada",O114="Descartada"),"Sin aviso",IF(J114="","Falta alternativa",IF(K114="","Falta proveedor alternativo",IF(L114="","Falta importe alternativo",IF(M114="","Falta fecha límite",IF(NOT(ISNUMBER(M114)),"Revisar fecha límite",IF(M114<TODAY(),"Revisión vencida",IF(M114<=TODAY()+'Parámetros'!$B$5,"Revisar decisión",IF(IFERROR(Q114>'Parámetros'!$B$6,FALSE),"Revisar incremento","Sin aviso")))))))))))))))))))))

Sheet Parámetros
A1: Parámetros editables del plan de contingencia
A2: Uso operativo | B2: Revise estos supuestos antes de utilizar los avisos; son criterios internos editables.
A4: Parámetro | B4: Valor | C4: Aplicación
A5: Horizonte de decisión | B5: 3 | C5: Días naturales para solicitar revisión humana
A6: Incremento máximo orientativo | B6: 0.2 | C6: Umbral de revisión; no implica aprobación
A7: Máximo de personas por registro | B7: 60 | C7: Límite de validación de la cantidad
A8: Fecha mínima admitida | B8: 46246 | C8: Inicio del intervalo permitido
A9: Fecha máxima admitida | B9: 47006 | C9: Fin del intervalo permitido
A10: Importe máximo por servicio | B10: 100000 | C10: Límite de validación en euros
A12: Estados disponibles | C12: Causas disponibles
A13: Pendiente de alternativa | C13: Interrupción de transporte
A14: Alternativa propuesta | C14: Previsión meteorológica adversa
A15: Decisión pendiente | C15: Cierre comunicado por proveedor
A16: Confirmada | C16: Capacidad insuficiente
A17: Descartada | C17: Cambio operativo interno
