Workbook

Sheet Resumen
A1: Control de servicios extra de reserva · resumen calculado
A2: Indicador | B2: Valor | D2: Servicio | E2: Registros | F2: Importe (€) | H2: Estado | I2: Registros
A3: Registros con expediente | B3: =COUNTIF(Servicios!$A$3:$A$102,"<>") | D3: ='Parámetros'!D3 | E3: =IF(D3="","",COUNTIF(Servicios!$D$3:$D$102,D3)) | F3: =IF(E3=0,"",SUMIF(Servicios!$D$3:$D$102,D3,Servicios!$G$3:$G$102)) | H3: ='Parámetros'!J3 | I3: =IF(H3="","",COUNTIF(Servicios!$J$3:$J$102,H3))
A4: Cantidad total | B4: =IF(COUNT(Servicios!$F$3:$F$102)=0,"",SUM(Servicios!$F$3:$F$102)) | D4: ='Parámetros'!D4 | E4: =IF(D4="","",COUNTIF(Servicios!$D$3:$D$102,D4)) | F4: =IF(E4=0,"",SUMIF(Servicios!$D$3:$D$102,D4,Servicios!$G$3:$G$102)) | H4: ='Parámetros'!J4 | I4: =IF(H4="","",COUNTIF(Servicios!$J$3:$J$102,H4))
A5: Importe total | B5: =IF(COUNT(Servicios!$G$3:$G$102)=0,"",SUM(Servicios!$G$3:$G$102)) | D5: ='Parámetros'!D5 | E5: =IF(D5="","",COUNTIF(Servicios!$D$3:$D$102,D5)) | F5: =IF(E5=0,"",SUMIF(Servicios!$D$3:$D$102,D5,Servicios!$G$3:$G$102)) | H5: ='Parámetros'!J5 | I5: =IF(H5="","",COUNTIF(Servicios!$J$3:$J$102,H5))
A6: Importe medio por registro con importe | B6: =IFERROR(SUM(Servicios!$G$3:$G$102)/COUNT(Servicios!$G$3:$G$102),"") | D6: ='Parámetros'!D6 | E6: =IF(D6="","",COUNTIF(Servicios!$D$3:$D$102,D6)) | F6: =IF(E6=0,"",SUMIF(Servicios!$D$3:$D$102,D6,Servicios!$G$3:$G$102)) | H6: ='Parámetros'!J6 | I6: =IF(H6="","",COUNTIF(Servicios!$J$3:$J$102,H6))
A7: Importe confirmado | B7: =IF(COUNTIF(Servicios!$J$3:$J$102,"Confirmado")=0,"",SUMIF(Servicios!$J$3:$J$102,"Confirmado",Servicios!$G$3:$G$102)) | D7: ='Parámetros'!D7 | E7: =IF(D7="","",COUNTIF(Servicios!$D$3:$D$102,D7)) | F7: =IF(E7=0,"",SUMIF(Servicios!$D$3:$D$102,D7,Servicios!$G$3:$G$102)) | H7: ='Parámetros'!J7 | I7: =IF(H7="","",COUNTIF(Servicios!$J$3:$J$102,H7))
A8: Servicios por confirmar | B8: =COUNTIF(Servicios!$J$3:$J$102,"Solicitado")+COUNTIF(Servicios!$J$3:$J$102,"Pendiente") | D8: ='Parámetros'!D8 | E8: =IF(D8="","",COUNTIF(Servicios!$D$3:$D$102,D8)) | F8: =IF(E8=0,"",SUMIF(Servicios!$D$3:$D$102,D8,Servicios!$G$3:$G$102))
A9: Comprobación humana: salidas próximas | B9: =COUNTIFS(Servicios!$B$3:$B$102,">="&TODAY(),Servicios!$B$3:$B$102,"<="&TODAY()+'Parámetros'!$B$9,Servicios!$J$3:$J$102,"Solicitado")+COUNTIFS(Servicios!$B$3:$B$102,">="&TODAY(),Servicios!$B$3:$B$102,"<="&TODAY()+'Parámetros'!$B$9,Servicios!$J$3:$J$102,"Pendiente")
A10: Primera salida registrada | B10: =IF(COUNT(Servicios!$B$3:$B$102)=0,"",MIN(Servicios!$B$3:$B$102))
A11: Última salida registrada | B11: =IF(COUNT(Servicios!$B$3:$B$102)=0,"",MAX(Servicios!$B$3:$B$102))

Sheet Servicios
A1: Control de servicios extra de reserva · registros y ejemplos ficticios
A2: Expediente | B2: Salida | C2: Viajero | D2: Servicio | E2: Fecha del servicio | F2: Cantidad | G2: Importe (€) | H2: Proveedor | I2: Responsable | J2: Estado
A3: EXP-FICT-26001 | B3: 46286 | C3: Viajero Ficticio 01 | D3: Equipaje adicional | E3: 46286 | F3: 1 | G3: 65 | H3: Proveedor Ficticio de Equipajes SL | I3: Responsable Ficticio A | J3: Confirmado
A4: EXP-FICT-26002 | B4: 46291 | C4: Viajero Ficticio 02 | D4: Comida especial | E4: 46291 | F4: 2 | G4: 0 | H4: Proveedor Ficticio de Sabores SL | I4: Responsable Ficticio B | J4: Pendiente
A5: EXP-FICT-26003 | B5: 46298 | C5: Viajero Ficticio 03 | D5: Excursión | E5: 46300 | F5: 2 | G5: 180 | H5: Proveedor Ficticio de Rutas SL | I5: Responsable Ficticio C | J5: Solicitado
A6: EXP-FICT-26004 | B6: 46311 | C6: Viajero Ficticio 04 | D6: Traslado | E6: 46311 | F6: 4 | G6: 145 | H6: Proveedor Ficticio de Traslados SL | I6: Responsable Ficticio D | J6: Confirmado
A7: EXP-FICT-26005 | B7: 46318 | C7: Viajero Ficticio 05 | D7: Selección de asiento | E7: 46318 | F7: 1 | G7: 28 | H7: Proveedor Ficticio de Cabina SL | I7: Responsable Ficticio A | J7: Rechazado
A8: EXP-FICT-26006 | B8: 46326 | C8: Viajero Ficticio 06 | D8: Acceso a sala | E8: 46326 | F8: 2 | G8: 72 | H8: Proveedor Ficticio de Salas SL | I8: Responsable Ficticio B | J8: Confirmado
A9: EXP-FICT-26007 | B9: 46334 | C9: Viajero Ficticio 07 | D9: Equipaje adicional | E9: 46334 | F9: 3 | G9: 195 | H9: Proveedor Ficticio de Equipajes SL | I9: Responsable Ficticio C | J9: Pendiente
A10: EXP-FICT-26008 | B10: 46343 | C10: Viajero Ficticio 08 | D10: Excursión | E10: 46345 | F10: 20 | G10: 5000 | H10: Proveedor Ficticio de Rutas SL | I10: Responsable Ficticio D | J10: Cancelado
A11: EXP-FICT-26009 | B11: 46351 | C11: Viajero Ficticio 09 | D11: Traslado | E11: 46351 | F11: 1 | G11: 48 | H11: Proveedor Ficticio de Traslados SL | I11: Responsable Ficticio A | J11: Confirmado
A12: EXP-FICT-26010 | B12: 46366 | C12: Viajero Ficticio 10 | D12: Comida especial | E12: 46366 | F12: 1 | G12: 22.5 | H12: Proveedor Ficticio de Sabores SL | I12: Responsable Ficticio B | J12: Solicitado

Sheet Parámetros
A1: Parámetros editables · entidades y datos inequívocamente ficticios
A2: Supuesto | B2: Valor | D2: Servicios | F2: Proveedores ficticios | H2: Responsables ficticios | J2: Estados
A3: Fecha mínima admitida | B3: 45911 | D3: Equipaje adicional | F3: Proveedor Ficticio de Equipajes SL | H3: Responsable Ficticio A | J3: Solicitado
A4: Fecha máxima admitida | B4: 47006 | D4: Comida especial | F4: Proveedor Ficticio de Sabores SL | H4: Responsable Ficticio B | J4: Pendiente
A5: Cantidad mínima por registro | B5: 1 | D5: Excursión | F5: Proveedor Ficticio de Rutas SL | H5: Responsable Ficticio C | J5: Confirmado
A6: Cantidad máxima por registro | B6: 20 | D6: Traslado | F6: Proveedor Ficticio de Traslados SL | H6: Responsable Ficticio D | J6: Rechazado
A7: Importe mínimo por registro | B7: 0 | D7: Selección de asiento | F7: Proveedor Ficticio de Cabina SL | J7: Cancelado
A8: Importe máximo por registro | B8: 5000 | D8: Acceso a sala | F8: Proveedor Ficticio de Salas SL
A9: Días para revisar salidas próximas | B9: 30
