Workbook

Sheet Resumen
A1: Comparador de equipaje por transportista — resumen
A4: Indicador | B4: Valor | C4: Unidad | E4: Proveedor | F4: Servicio | G4: Comparaciones | H4: Cantidad prevista | I4: Exceso estimado | J4: Importe estimado
A5: Registros con expediente | B5: =IF(COUNTA(Comparador!$A$5:$A$104)=0,"",COUNTA(Comparador!$A$5:$A$104)) | C5: registros | E5: =IF(OR('Parámetros'!$B5="",'Parámetros'!$C5=""),"",'Parámetros'!$B5) | F5: =IF($E5="","",'Parámetros'!$C5) | G5: =IF($E5="","",COUNTIFS(Comparador!$G$5:$G$104,$E5,Comparador!$D$5:$D$104,$F5)) | H5: =IF($E5="","",SUMIFS(Comparador!$F$5:$F$104,Comparador!$G$5:$G$104,$E5,Comparador!$D$5:$D$104,$F5)) | I5: =IF($E5="","",SUMIFS(Comparador!$K$5:$K$104,Comparador!$G$5:$G$104,$E5,Comparador!$D$5:$D$104,$F5)) | J5: =IF($E5="","",SUMIFS(Comparador!$M$5:$M$104,Comparador!$G$5:$G$104,$E5,Comparador!$D$5:$D$104,$F5))
A6: Viajeros introducidos | B6: =IF(COUNTA(Comparador!$A$5:$A$104)=0,"",COUNTA(Comparador!$C$5:$C$104)) | C6: personas | E6: =IF(OR('Parámetros'!$B6="",'Parámetros'!$C6=""),"",'Parámetros'!$B6) | F6: =IF($E6="","",'Parámetros'!$C6) | G6: =IF($E6="","",COUNTIFS(Comparador!$G$5:$G$104,$E6,Comparador!$D$5:$D$104,$F6)) | H6: =IF($E6="","",SUMIFS(Comparador!$F$5:$F$104,Comparador!$G$5:$G$104,$E6,Comparador!$D$5:$D$104,$F6)) | I6: =IF($E6="","",SUMIFS(Comparador!$K$5:$K$104,Comparador!$G$5:$G$104,$E6,Comparador!$D$5:$D$104,$F6)) | J6: =IF($E6="","",SUMIFS(Comparador!$M$5:$M$104,Comparador!$G$5:$G$104,$E6,Comparador!$D$5:$D$104,$F6))
A7: Proveedores utilizados | B7: =IF(COUNTA(Comparador!$A$5:$A$104)=0,"",IFERROR(SUMPRODUCT((Comparador!$G$5:$G$104<>"")/COUNTIF(Comparador!$G$5:$G$104,Comparador!$G$5:$G$104&"")),0)) | C7: proveedores | E7: =IF(OR('Parámetros'!$B7="",'Parámetros'!$C7=""),"",'Parámetros'!$B7) | F7: =IF($E7="","",'Parámetros'!$C7) | G7: =IF($E7="","",COUNTIFS(Comparador!$G$5:$G$104,$E7,Comparador!$D$5:$D$104,$F7)) | H7: =IF($E7="","",SUMIFS(Comparador!$F$5:$F$104,Comparador!$G$5:$G$104,$E7,Comparador!$D$5:$D$104,$F7)) | I7: =IF($E7="","",SUMIFS(Comparador!$K$5:$K$104,Comparador!$G$5:$G$104,$E7,Comparador!$D$5:$D$104,$F7)) | J7: =IF($E7="","",SUMIFS(Comparador!$M$5:$M$104,Comparador!$G$5:$G$104,$E7,Comparador!$D$5:$D$104,$F7))
A8: Comparaciones calculadas | B8: =IF(COUNTA(Comparador!$A$5:$A$104)=0,"",COUNT(Comparador!$M$5:$M$104)) | C8: comparaciones | E8: =IF(OR('Parámetros'!$B8="",'Parámetros'!$C8=""),"",'Parámetros'!$B8) | F8: =IF($E8="","",'Parámetros'!$C8) | G8: =IF($E8="","",COUNTIFS(Comparador!$G$5:$G$104,$E8,Comparador!$D$5:$D$104,$F8)) | H8: =IF($E8="","",SUMIFS(Comparador!$F$5:$F$104,Comparador!$G$5:$G$104,$E8,Comparador!$D$5:$D$104,$F8)) | I8: =IF($E8="","",SUMIFS(Comparador!$K$5:$K$104,Comparador!$G$5:$G$104,$E8,Comparador!$D$5:$D$104,$F8)) | J8: =IF($E8="","",SUMIFS(Comparador!$M$5:$M$104,Comparador!$G$5:$G$104,$E8,Comparador!$D$5:$D$104,$F8))
A9: Dentro del límite introducido | B9: =IF(COUNTA(Comparador!$A$5:$A$104)=0,"",COUNTIFS(Comparador!$A$5:$A$104,"<>",Comparador!$M$5:$M$104,"<>",Comparador!$K$5:$K$104,0)) | C9: comparaciones | E9: =IF(OR('Parámetros'!$B9="",'Parámetros'!$C9=""),"",'Parámetros'!$B9) | F9: =IF($E9="","",'Parámetros'!$C9) | G9: =IF($E9="","",COUNTIFS(Comparador!$G$5:$G$104,$E9,Comparador!$D$5:$D$104,$F9)) | H9: =IF($E9="","",SUMIFS(Comparador!$F$5:$F$104,Comparador!$G$5:$G$104,$E9,Comparador!$D$5:$D$104,$F9)) | I9: =IF($E9="","",SUMIFS(Comparador!$K$5:$K$104,Comparador!$G$5:$G$104,$E9,Comparador!$D$5:$D$104,$F9)) | J9: =IF($E9="","",SUMIFS(Comparador!$M$5:$M$104,Comparador!$G$5:$G$104,$E9,Comparador!$D$5:$D$104,$F9))
A10: Con exceso previsto | B10: =IF(COUNTA(Comparador!$A$5:$A$104)=0,"",COUNTIF(Comparador!$K$5:$K$104,">0")) | C10: comparaciones | E10: =IF(OR('Parámetros'!$B10="",'Parámetros'!$C10=""),"",'Parámetros'!$B10) | F10: =IF($E10="","",'Parámetros'!$C10) | G10: =IF($E10="","",COUNTIFS(Comparador!$G$5:$G$104,$E10,Comparador!$D$5:$D$104,$F10)) | H10: =IF($E10="","",SUMIFS(Comparador!$F$5:$F$104,Comparador!$G$5:$G$104,$E10,Comparador!$D$5:$D$104,$F10)) | I10: =IF($E10="","",SUMIFS(Comparador!$K$5:$K$104,Comparador!$G$5:$G$104,$E10,Comparador!$D$5:$D$104,$F10)) | J10: =IF($E10="","",SUMIFS(Comparador!$M$5:$M$104,Comparador!$G$5:$G$104,$E10,Comparador!$D$5:$D$104,$F10))
A11: Cantidad prevista total | B11: =IF(COUNTA(Comparador!$A$5:$A$104)=0,"",SUM(Comparador!$F$5:$F$104)) | C11: kg | E11: =IF(OR('Parámetros'!$B11="",'Parámetros'!$C11=""),"",'Parámetros'!$B11) | F11: =IF($E11="","",'Parámetros'!$C11) | G11: =IF($E11="","",COUNTIFS(Comparador!$G$5:$G$104,$E11,Comparador!$D$5:$D$104,$F11)) | H11: =IF($E11="","",SUMIFS(Comparador!$F$5:$F$104,Comparador!$G$5:$G$104,$E11,Comparador!$D$5:$D$104,$F11)) | I11: =IF($E11="","",SUMIFS(Comparador!$K$5:$K$104,Comparador!$G$5:$G$104,$E11,Comparador!$D$5:$D$104,$F11)) | J11: =IF($E11="","",SUMIFS(Comparador!$M$5:$M$104,Comparador!$G$5:$G$104,$E11,Comparador!$D$5:$D$104,$F11))
A12: Exceso previsto total | B12: =IF(COUNTA(Comparador!$A$5:$A$104)=0,"",SUM(Comparador!$K$5:$K$104)) | C12: kg | E12: =IF(OR('Parámetros'!$B12="",'Parámetros'!$C12=""),"",'Parámetros'!$B12) | F12: =IF($E12="","",'Parámetros'!$C12) | G12: =IF($E12="","",COUNTIFS(Comparador!$G$5:$G$104,$E12,Comparador!$D$5:$D$104,$F12)) | H12: =IF($E12="","",SUMIFS(Comparador!$F$5:$F$104,Comparador!$G$5:$G$104,$E12,Comparador!$D$5:$D$104,$F12)) | I12: =IF($E12="","",SUMIFS(Comparador!$K$5:$K$104,Comparador!$G$5:$G$104,$E12,Comparador!$D$5:$D$104,$F12)) | J12: =IF($E12="","",SUMIFS(Comparador!$M$5:$M$104,Comparador!$G$5:$G$104,$E12,Comparador!$D$5:$D$104,$F12))
A13: Importe estimado total | B13: =IF(COUNTA(Comparador!$A$5:$A$104)=0,"",SUM(Comparador!$M$5:$M$104)) | C13: €
A14: Importe medio estimado | B14: =IF(COUNTA(Comparador!$A$5:$A$104)=0,"",IFERROR(SUM(Comparador!$M$5:$M$104)/COUNT(Comparador!$M$5:$M$104),"")) | C14: €
A15: Salidas desde hoy | B15: =IF(COUNTA(Comparador!$A$5:$A$104)=0,"",COUNTIFS(Comparador!$A$5:$A$104,"<>",Comparador!$E$5:$E$104,">="&TODAY())) | C15: salidas

Sheet Comparador
A1: Comparador de equipaje por transportista
A2: Celdas crema: entradas editables. Los límites e importes son supuestos introducidos; compruebe manualmente las condiciones aplicables antes de tomar una decisión.
A4: Expediente | B4: Salida | C4: Viajero | D4: Servicio | E4: Fecha | F4: Cantidad prevista (kg/persona) | G4: Proveedor | H4: Responsable | I4: Estado interno | J4: Cantidad incluida (kg/persona) | K4: Exceso estimado (kg/persona) | L4: Importe unitario exceso (€/kg) | M4: Importe estimado (€) | N4: Aviso de comprobación
A5: EXP-FIC-2601 | B5: Origen Ficticio A–Destino Ficticio A | C5: Viajero Ficticio 01 | D5: Tarifa Brisa Ficticia | E5: 46292 | F5: 18 | G5: Transportista Nébula Ficticio | H5: Responsable Ficticio A | I5: Comparado | J5: =IF(OR($G5="",$D5=""),"",IFERROR(VLOOKUP($G5&"|"&$D5,'Parámetros'!$A$5:$G$104,4,FALSE),"")) | K5: =IF(OR($F5="",$J5=""),"",MAX(0,$F5-$J5)) | L5: =IF(OR($G5="",$D5=""),"",IFERROR(VLOOKUP($G5&"|"&$D5,'Parámetros'!$A$5:$G$104,5,FALSE),"")) | M5: =IF(OR($K5="",$L5=""),"",IFERROR($K5*$L5,"")) | N5: =IF($A5="","",IF(OR($G5="",$D5="",$F5="",$E5=""),"Completar entradas",IF($J5="","Revisar proveedor y servicio",IF(IFERROR(VLOOKUP($G5&"|"&$D5,'Parámetros'!$A$5:$G$104,7,FALSE),"")<>"Introducido","Comprobar el supuesto del proveedor",IF($K5>0,"Comprobar cargo con el proveedor","Dentro del límite introducido")))))
A6: EXP-FIC-2602 | B6: Origen Ficticio B–Destino Ficticio B | C6: Viajero Ficticio 02 | D6: Tarifa Brisa Ficticia | E6: 46305 | F6: 28 | G6: Transportista Nébula Ficticio | H6: Responsable Ficticio B | I6: En revisión | J6: =IF(OR($G6="",$D6=""),"",IFERROR(VLOOKUP($G6&"|"&$D6,'Parámetros'!$A$5:$G$104,4,FALSE),"")) | K6: =IF(OR($F6="",$J6=""),"",MAX(0,$F6-$J6)) | L6: =IF(OR($G6="",$D6=""),"",IFERROR(VLOOKUP($G6&"|"&$D6,'Parámetros'!$A$5:$G$104,5,FALSE),"")) | M6: =IF(OR($K6="",$L6=""),"",IFERROR($K6*$L6,"")) | N6: =IF($A6="","",IF(OR($G6="",$D6="",$F6="",$E6=""),"Completar entradas",IF($J6="","Revisar proveedor y servicio",IF(IFERROR(VLOOKUP($G6&"|"&$D6,'Parámetros'!$A$5:$G$104,7,FALSE),"")<>"Introducido","Comprobar el supuesto del proveedor",IF($K6>0,"Comprobar cargo con el proveedor","Dentro del límite introducido")))))
A7: EXP-FIC-2603 | B7: Origen Ficticio C–Destino Ficticio C | C7: Viajero Ficticio 03 | D7: Tarifa Sal Ficticia | E7: 46319 | F7: 20 | G7: Líneas Cobalto Ficticias | H7: Responsable Ficticio A | I7: Pendiente | J7: =IF(OR($G7="",$D7=""),"",IFERROR(VLOOKUP($G7&"|"&$D7,'Parámetros'!$A$5:$G$104,4,FALSE),"")) | K7: =IF(OR($F7="",$J7=""),"",MAX(0,$F7-$J7)) | L7: =IF(OR($G7="",$D7=""),"",IFERROR(VLOOKUP($G7&"|"&$D7,'Parámetros'!$A$5:$G$104,5,FALSE),"")) | M7: =IF(OR($K7="",$L7=""),"",IFERROR($K7*$L7,"")) | N7: =IF($A7="","",IF(OR($G7="",$D7="",$F7="",$E7=""),"Completar entradas",IF($J7="","Revisar proveedor y servicio",IF(IFERROR(VLOOKUP($G7&"|"&$D7,'Parámetros'!$A$5:$G$104,7,FALSE),"")<>"Introducido","Comprobar el supuesto del proveedor",IF($K7>0,"Comprobar cargo con el proveedor","Dentro del límite introducido")))))
A8: EXP-FIC-2604 | B8: Origen Ficticio D–Destino Ficticio D | C8: Viajero Ficticio 04 | D8: Tarifa Sal Ficticia | E8: 46337 | F8: 15 | G8: Líneas Cobalto Ficticias | H8: Responsable Ficticio C | I8: Comparado | J8: =IF(OR($G8="",$D8=""),"",IFERROR(VLOOKUP($G8&"|"&$D8,'Parámetros'!$A$5:$G$104,4,FALSE),"")) | K8: =IF(OR($F8="",$J8=""),"",MAX(0,$F8-$J8)) | L8: =IF(OR($G8="",$D8=""),"",IFERROR(VLOOKUP($G8&"|"&$D8,'Parámetros'!$A$5:$G$104,5,FALSE),"")) | M8: =IF(OR($K8="",$L8=""),"",IFERROR($K8*$L8,"")) | N8: =IF($A8="","",IF(OR($G8="",$D8="",$F8="",$E8=""),"Completar entradas",IF($J8="","Revisar proveedor y servicio",IF(IFERROR(VLOOKUP($G8&"|"&$D8,'Parámetros'!$A$5:$G$104,7,FALSE),"")<>"Introducido","Comprobar el supuesto del proveedor",IF($K8>0,"Comprobar cargo con el proveedor","Dentro del límite introducido")))))
A9: EXP-FIC-2605 | B9: Origen Ficticio E–Destino Ficticio E | C9: Viajero Ficticio 05 | D9: Tarifa Nieve Ficticia | E9: 46352 | F9: 0 | G9: Ala Boreal Ficticia | H9: Responsable Ficticio B | I9: En revisión | J9: =IF(OR($G9="",$D9=""),"",IFERROR(VLOOKUP($G9&"|"&$D9,'Parámetros'!$A$5:$G$104,4,FALSE),"")) | K9: =IF(OR($F9="",$J9=""),"",MAX(0,$F9-$J9)) | L9: =IF(OR($G9="",$D9=""),"",IFERROR(VLOOKUP($G9&"|"&$D9,'Parámetros'!$A$5:$G$104,5,FALSE),"")) | M9: =IF(OR($K9="",$L9=""),"",IFERROR($K9*$L9,"")) | N9: =IF($A9="","",IF(OR($G9="",$D9="",$F9="",$E9=""),"Completar entradas",IF($J9="","Revisar proveedor y servicio",IF(IFERROR(VLOOKUP($G9&"|"&$D9,'Parámetros'!$A$5:$G$104,7,FALSE),"")<>"Introducido","Comprobar el supuesto del proveedor",IF($K9>0,"Comprobar cargo con el proveedor","Dentro del límite introducido")))))
A10: EXP-FIC-2606 | B10: Origen Ficticio F–Destino Ficticio F | C10: Viajero Ficticio 06 | D10: Cabina Costa Ficticia | E10: 46387 | F10: 80 | G10: Ferri Estela Ficticio | H10: Responsable Ficticio D | I10: Pendiente | J10: =IF(OR($G10="",$D10=""),"",IFERROR(VLOOKUP($G10&"|"&$D10,'Parámetros'!$A$5:$G$104,4,FALSE),"")) | K10: =IF(OR($F10="",$J10=""),"",MAX(0,$F10-$J10)) | L10: =IF(OR($G10="",$D10=""),"",IFERROR(VLOOKUP($G10&"|"&$D10,'Parámetros'!$A$5:$G$104,5,FALSE),"")) | M10: =IF(OR($K10="",$L10=""),"",IFERROR($K10*$L10,"")) | N10: =IF($A10="","",IF(OR($G10="",$D10="",$F10="",$E10=""),"Completar entradas",IF($J10="","Revisar proveedor y servicio",IF(IFERROR(VLOOKUP($G10&"|"&$D10,'Parámetros'!$A$5:$G$104,7,FALSE),"")<>"Introducido","Comprobar el supuesto del proveedor",IF($K10>0,"Comprobar cargo con el proveedor","Dentro del límite introducido")))))
A11: EXP-FIC-2607 | B11: Origen Ficticio G–Destino Ficticio G | C11: Viajero Ficticio 07 | D11: Billete Ruta Ficticio | E11: 46412 | F11: 26 | G11: Tren Horizonte Ficticio | H11: Responsable Ficticio A | I11: Comparado | J11: =IF(OR($G11="",$D11=""),"",IFERROR(VLOOKUP($G11&"|"&$D11,'Parámetros'!$A$5:$G$104,4,FALSE),"")) | K11: =IF(OR($F11="",$J11=""),"",MAX(0,$F11-$J11)) | L11: =IF(OR($G11="",$D11=""),"",IFERROR(VLOOKUP($G11&"|"&$D11,'Parámetros'!$A$5:$G$104,5,FALSE),"")) | M11: =IF(OR($K11="",$L11=""),"",IFERROR($K11*$L11,"")) | N11: =IF($A11="","",IF(OR($G11="",$D11="",$F11="",$E11=""),"Completar entradas",IF($J11="","Revisar proveedor y servicio",IF(IFERROR(VLOOKUP($G11&"|"&$D11,'Parámetros'!$A$5:$G$104,7,FALSE),"")<>"Introducido","Comprobar el supuesto del proveedor",IF($K11>0,"Comprobar cargo con el proveedor","Dentro del límite introducido")))))
A12: EXP-FIC-2608 | B12: Origen Ficticio H–Destino Ficticio H | C12: Viajero Ficticio 08 | D12: Plaza Flexible Ficticia | E12: 46457 | F12: 22 | G12: Autocar Lumen Ficticio | H12: Responsable Ficticio C | I12: En revisión | J12: =IF(OR($G12="",$D12=""),"",IFERROR(VLOOKUP($G12&"|"&$D12,'Parámetros'!$A$5:$G$104,4,FALSE),"")) | K12: =IF(OR($F12="",$J12=""),"",MAX(0,$F12-$J12)) | L12: =IF(OR($G12="",$D12=""),"",IFERROR(VLOOKUP($G12&"|"&$D12,'Parámetros'!$A$5:$G$104,5,FALSE),"")) | M12: =IF(OR($K12="",$L12=""),"",IFERROR($K12*$L12,"")) | N12: =IF($A12="","",IF(OR($G12="",$D12="",$F12="",$E12=""),"Completar entradas",IF($J12="","Revisar proveedor y servicio",IF(IFERROR(VLOOKUP($G12&"|"&$D12,'Parámetros'!$A$5:$G$104,7,FALSE),"")<>"Introducido","Comprobar el supuesto del proveedor",IF($K12>0,"Comprobar cargo con el proveedor","Dentro del límite introducido")))))
A13: EXP-FIC-2609 | B13: Origen Ficticio I–Destino Ficticio I | C13: Viajero Ficticio 09 | D13: Tarifa Cielo Ficticia | E13: 46527 | F13: 35 | G13: Aerolínea Prisma Ficticia | H13: Responsable Ficticio D | I13: Comparado | J13: =IF(OR($G13="",$D13=""),"",IFERROR(VLOOKUP($G13&"|"&$D13,'Parámetros'!$A$5:$G$104,4,FALSE),"")) | K13: =IF(OR($F13="",$J13=""),"",MAX(0,$F13-$J13)) | L13: =IF(OR($G13="",$D13=""),"",IFERROR(VLOOKUP($G13&"|"&$D13,'Parámetros'!$A$5:$G$104,5,FALSE),"")) | M13: =IF(OR($K13="",$L13=""),"",IFERROR($K13*$L13,"")) | N13: =IF($A13="","",IF(OR($G13="",$D13="",$F13="",$E13=""),"Completar entradas",IF($J13="","Revisar proveedor y servicio",IF(IFERROR(VLOOKUP($G13&"|"&$D13,'Parámetros'!$A$5:$G$104,7,FALSE),"")<>"Introducido","Comprobar el supuesto del proveedor",IF($K13>0,"Comprobar cargo con el proveedor","Dentro del límite introducido")))))
A14: EXP-FIC-2610 | B14: Origen Ficticio J–Destino Ficticio J | C14: Viajero Ficticio 10 | D14: Pasaje Marea Ficticio | E14: 47007 | F14: 40 | G14: Naviera Órbita Ficticia | H14: Responsable Ficticio B | I14: Pendiente | J14: =IF(OR($G14="",$D14=""),"",IFERROR(VLOOKUP($G14&"|"&$D14,'Parámetros'!$A$5:$G$104,4,FALSE),"")) | K14: =IF(OR($F14="",$J14=""),"",MAX(0,$F14-$J14)) | L14: =IF(OR($G14="",$D14=""),"",IFERROR(VLOOKUP($G14&"|"&$D14,'Parámetros'!$A$5:$G$104,5,FALSE),"")) | M14: =IF(OR($K14="",$L14=""),"",IFERROR($K14*$L14,"")) | N14: =IF($A14="","",IF(OR($G14="",$D14="",$F14="",$E14=""),"Completar entradas",IF($J14="","Revisar proveedor y servicio",IF(IFERROR(VLOOKUP($G14&"|"&$D14,'Parámetros'!$A$5:$G$104,7,FALSE),"")<>"Introducido","Comprobar el supuesto del proveedor",IF($K14>0,"Comprobar cargo con el proveedor","Dentro del límite introducido")))))
J15: =IF(OR($G15="",$D15=""),"",IFERROR(VLOOKUP($G15&"|"&$D15,'Parámetros'!$A$5:$G$104,4,FALSE),"")) | K15: =IF(OR($F15="",$J15=""),"",MAX(0,$F15-$J15)) | L15: =IF(OR($G15="",$D15=""),"",IFERROR(VLOOKUP($G15&"|"&$D15,'Parámetros'!$A$5:$G$104,5,FALSE),"")) | M15: =IF(OR($K15="",$L15=""),"",IFERROR($K15*$L15,"")) | N15: =IF($A15="","",IF(OR($G15="",$D15="",$F15="",$E15=""),"Completar entradas",IF($J15="","Revisar proveedor y servicio",IF(IFERROR(VLOOKUP($G15&"|"&$D15,'Parámetros'!$A$5:$G$104,7,FALSE),"")<>"Introducido","Comprobar el supuesto del proveedor",IF($K15>0,"Comprobar cargo con el proveedor","Dentro del límite introducido")))))
J16: =IF(OR($G16="",$D16=""),"",IFERROR(VLOOKUP($G16&"|"&$D16,'Parámetros'!$A$5:$G$104,4,FALSE),"")) | K16: =IF(OR($F16="",$J16=""),"",MAX(0,$F16-$J16)) | L16: =IF(OR($G16="",$D16=""),"",IFERROR(VLOOKUP($G16&"|"&$D16,'Parámetros'!$A$5:$G$104,5,FALSE),"")) | M16: =IF(OR($K16="",$L16=""),"",IFERROR($K16*$L16,"")) | N16: =IF($A16="","",IF(OR($G16="",$D16="",$F16="",$E16=""),"Completar entradas",IF($J16="","Revisar proveedor y servicio",IF(IFERROR(VLOOKUP($G16&"|"&$D16,'Parámetros'!$A$5:$G$104,7,FALSE),"")<>"Introducido","Comprobar el supuesto del proveedor",IF($K16>0,"Comprobar cargo con el proveedor","Dentro del límite introducido")))))
J17: =IF(OR($G17="",$D17=""),"",IFERROR(VLOOKUP($G17&"|"&$D17,'Parámetros'!$A$5:$G$104,4,FALSE),"")) | K17: =IF(OR($F17="",$J17=""),"",MAX(0,$F17-$J17)) | L17: =IF(OR($G17="",$D17=""),"",IFERROR(VLOOKUP($G17&"|"&$D17,'Parámetros'!$A$5:$G$104,5,FALSE),"")) | M17: =IF(OR($K17="",$L17=""),"",IFERROR($K17*$L17,"")) | N17: =IF($A17="","",IF(OR($G17="",$D17="",$F17="",$E17=""),"Completar entradas",IF($J17="","Revisar proveedor y servicio",IF(IFERROR(VLOOKUP($G17&"|"&$D17,'Parámetros'!$A$5:$G$104,7,FALSE),"")<>"Introducido","Comprobar el supuesto del proveedor",IF($K17>0,"Comprobar cargo con el proveedor","Dentro del límite introducido")))))
J18: =IF(OR($G18="",$D18=""),"",IFERROR(VLOOKUP($G18&"|"&$D18,'Parámetros'!$A$5:$G$104,4,FALSE),"")) | K18: =IF(OR($F18="",$J18=""),"",MAX(0,$F18-$J18)) | L18: =IF(OR($G18="",$D18=""),"",IFERROR(VLOOKUP($G18&"|"&$D18,'Parámetros'!$A$5:$G$104,5,FALSE),"")) | M18: =IF(OR($K18="",$L18=""),"",IFERROR($K18*$L18,"")) | N18: =IF($A18="","",IF(OR($G18="",$D18="",$F18="",$E18=""),"Completar entradas",IF($J18="","Revisar proveedor y servicio",IF(IFERROR(VLOOKUP($G18&"|"&$D18,'Parámetros'!$A$5:$G$104,7,FALSE),"")<>"Introducido","Comprobar el supuesto del proveedor",IF($K18>0,"Comprobar cargo con el proveedor","Dentro del límite introducido")))))
J19: =IF(OR($G19="",$D19=""),"",IFERROR(VLOOKUP($G19&"|"&$D19,'Parámetros'!$A$5:$G$104,4,FALSE),"")) | K19: =IF(OR($F19="",$J19=""),"",MAX(0,$F19-$J19)) | L19: =IF(OR($G19="",$D19=""),"",IFERROR(VLOOKUP($G19&"|"&$D19,'Parámetros'!$A$5:$G$104,5,FALSE),"")) | M19: =IF(OR($K19="",$L19=""),"",IFERROR($K19*$L19,"")) | N19: =IF($A19="","",IF(OR($G19="",$D19="",$F19="",$E19=""),"Completar entradas",IF($J19="","Revisar proveedor y servicio",IF(IFERROR(VLOOKUP($G19&"|"&$D19,'Parámetros'!$A$5:$G$104,7,FALSE),"")<>"Introducido","Comprobar el supuesto del proveedor",IF($K19>0,"Comprobar cargo con el proveedor","Dentro del límite introducido")))))
J20: =IF(OR($G20="",$D20=""),"",IFERROR(VLOOKUP($G20&"|"&$D20,'Parámetros'!$A$5:$G$104,4,FALSE),"")) | K20: =IF(OR($F20="",$J20=""),"",MAX(0,$F20-$J20)) | L20: =IF(OR($G20="",$D20=""),"",IFERROR(VLOOKUP($G20&"|"&$D20,'Parámetros'!$A$5:$G$104,5,FALSE),"")) | M20: =IF(OR($K20="",$L20=""),"",IFERROR($K20*$L20,"")) | N20: =IF($A20="","",IF(OR($G20="",$D20="",$F20="",$E20=""),"Completar entradas",IF($J20="","Revisar proveedor y servicio",IF(IFERROR(VLOOKUP($G20&"|"&$D20,'Parámetros'!$A$5:$G$104,7,FALSE),"")<>"Introducido","Comprobar el supuesto del proveedor",IF($K20>0,"Comprobar cargo con el proveedor","Dentro del límite introducido")))))
J21: =IF(OR($G21="",$D21=""),"",IFERROR(VLOOKUP($G21&"|"&$D21,'Parámetros'!$A$5:$G$104,4,FALSE),"")) | K21: =IF(OR($F21="",$J21=""),"",MAX(0,$F21-$J21)) | L21: =IF(OR($G21="",$D21=""),"",IFERROR(VLOOKUP($G21&"|"&$D21,'Parámetros'!$A$5:$G$104,5,FALSE),"")) | M21: =IF(OR($K21="",$L21=""),"",IFERROR($K21*$L21,"")) | N21: =IF($A21="","",IF(OR($G21="",$D21="",$F21="",$E21=""),"Completar entradas",IF($J21="","Revisar proveedor y servicio",IF(IFERROR(VLOOKUP($G21&"|"&$D21,'Parámetros'!$A$5:$G$104,7,FALSE),"")<>"Introducido","Comprobar el supuesto del proveedor",IF($K21>0,"Comprobar cargo con el proveedor","Dentro del límite introducido")))))
J22: =IF(OR($G22="",$D22=""),"",IFERROR(VLOOKUP($G22&"|"&$D22,'Parámetros'!$A$5:$G$104,4,FALSE),"")) | K22: =IF(OR($F22="",$J22=""),"",MAX(0,$F22-$J22)) | L22: =IF(OR($G22="",$D22=""),"",IFERROR(VLOOKUP($G22&"|"&$D22,'Parámetros'!$A$5:$G$104,5,FALSE),"")) | M22: =IF(OR($K22="",$L22=""),"",IFERROR($K22*$L22,"")) | N22: =IF($A22="","",IF(OR($G22="",$D22="",$F22="",$E22=""),"Completar entradas",IF($J22="","Revisar proveedor y servicio",IF(IFERROR(VLOOKUP($G22&"|"&$D22,'Parámetros'!$A$5:$G$104,7,FALSE),"")<>"Introducido","Comprobar el supuesto del proveedor",IF($K22>0,"Comprobar cargo con el proveedor","Dentro del límite introducido")))))
J23: =IF(OR($G23="",$D23=""),"",IFERROR(VLOOKUP($G23&"|"&$D23,'Parámetros'!$A$5:$G$104,4,FALSE),"")) | K23: =IF(OR($F23="",$J23=""),"",MAX(0,$F23-$J23)) | L23: =IF(OR($G23="",$D23=""),"",IFERROR(VLOOKUP($G23&"|"&$D23,'Parámetros'!$A$5:$G$104,5,FALSE),"")) | M23: =IF(OR($K23="",$L23=""),"",IFERROR($K23*$L23,"")) | N23: =IF($A23="","",IF(OR($G23="",$D23="",$F23="",$E23=""),"Completar entradas",IF($J23="","Revisar proveedor y servicio",IF(IFERROR(VLOOKUP($G23&"|"&$D23,'Parámetros'!$A$5:$G$104,7,FALSE),"")<>"Introducido","Comprobar el supuesto del proveedor",IF($K23>0,"Comprobar cargo con el proveedor","Dentro del límite introducido")))))
J24: =IF(OR($G24="",$D24=""),"",IFERROR(VLOOKUP($G24&"|"&$D24,'Parámetros'!$A$5:$G$104,4,FALSE),"")) | K24: =IF(OR($F24="",$J24=""),"",MAX(0,$F24-$J24)) | L24: =IF(OR($G24="",$D24=""),"",IFERROR(VLOOKUP($G24&"|"&$D24,'Parámetros'!$A$5:$G$104,5,FALSE),"")) | M24: =IF(OR($K24="",$L24=""),"",IFERROR($K24*$L24,"")) | N24: =IF($A24="","",IF(OR($G24="",$D24="",$F24="",$E24=""),"Completar entradas",IF($J24="","Revisar proveedor y servicio",IF(IFERROR(VLOOKUP($G24&"|"&$D24,'Parámetros'!$A$5:$G$104,7,FALSE),"")<>"Introducido","Comprobar el supuesto del proveedor",IF($K24>0,"Comprobar cargo con el proveedor","Dentro del límite introducido")))))
J25: =IF(OR($G25="",$D25=""),"",IFERROR(VLOOKUP($G25&"|"&$D25,'Parámetros'!$A$5:$G$104,4,FALSE),"")) | K25: =IF(OR($F25="",$J25=""),"",MAX(0,$F25-$J25)) | L25: =IF(OR($G25="",$D25=""),"",IFERROR(VLOOKUP($G25&"|"&$D25,'Parámetros'!$A$5:$G$104,5,FALSE),"")) | M25: =IF(OR($K25="",$L25=""),"",IFERROR($K25*$L25,"")) | N25: =IF($A25="","",IF(OR($G25="",$D25="",$F25="",$E25=""),"Completar entradas",IF($J25="","Revisar proveedor y servicio",IF(IFERROR(VLOOKUP($G25&"|"&$D25,'Parámetros'!$A$5:$G$104,7,FALSE),"")<>"Introducido","Comprobar el supuesto del proveedor",IF($K25>0,"Comprobar cargo con el proveedor","Dentro del límite introducido")))))
J26: =IF(OR($G26="",$D26=""),"",IFERROR(VLOOKUP($G26&"|"&$D26,'Parámetros'!$A$5:$G$104,4,FALSE),"")) | K26: =IF(OR($F26="",$J26=""),"",MAX(0,$F26-$J26)) | L26: =IF(OR($G26="",$D26=""),"",IFERROR(VLOOKUP($G26&"|"&$D26,'Parámetros'!$A$5:$G$104,5,FALSE),"")) | M26: =IF(OR($K26="",$L26=""),"",IFERROR($K26*$L26,"")) | N26: =IF($A26="","",IF(OR($G26="",$D26="",$F26="",$E26=""),"Completar entradas",IF($J26="","Revisar proveedor y servicio",IF(IFERROR(VLOOKUP($G26&"|"&$D26,'Parámetros'!$A$5:$G$104,7,FALSE),"")<>"Introducido","Comprobar el supuesto del proveedor",IF($K26>0,"Comprobar cargo con el proveedor","Dentro del límite introducido")))))
... J104: =IF(OR($G104="",$D104=""),"",IFERROR(VLOOKUP($G104&"|"&$D104,'Parámetros'!$A$5:$G$104,4,FALSE),"")) | K104: =IF(OR($F104="",$J104=""),"",MAX(0,$F104-$J104)) | L104: =IF(OR($G104="",$D104=""),"",IFERROR(VLOOKUP($G104&"|"&$D104,'Parámetros'!$A$5:$G$104,5,FALSE),"")) | M104: =IF(OR($K104="",$L104=""),"",IFERROR($K104*$L104,"")) | N104: =IF($A104="","",IF(OR($G104="",$D104="",$F104="",$E104=""),"Completar entradas",IF($J104="","Revisar proveedor y servicio",IF(IFERROR(VLOOKUP($G104&"|"&$D104,'Parámetros'!$A$5:$G$104,7,FALSE),"")<>"Introducido","Comprobar el supuesto del proveedor",IF($K104>0,"Comprobar cargo con el proveedor","Dentro del límite introducido")))))

Sheet Parámetros
A1: Parámetros editables de equipaje
A2: Todos los valores son ficticios y editables. Sustituya límites, importes y fechas por los datos que proceda comprobar para cada proveedor y servicio.
A4: Clave de consulta (calculada) | B4: Proveedor | C4: Servicio | D4: Cantidad incluida (kg/persona) | E4: Importe por exceso (€/kg) | F4: Fecha de referencia | G4: Estado de revisión | J4: Parámetro visible | K4: Valor editable
A5: =IF(OR($B5="",$C5=""),"",$B5&"|"&$C5) | B5: Transportista Nébula Ficticio | C5: Tarifa Brisa Ficticia | D5: 23 | E5: 12.5 | F5: 46257 | G5: Introducido | J5: Máximo de kg previstos | K5: 80
A6: =IF(OR($B6="",$C6=""),"",$B6&"|"&$C6) | B6: Líneas Cobalto Ficticias | C6: Tarifa Sal Ficticia | D6: 15 | E6: 18 | F6: 46232 | G6: Introducido | J6: Máximo de importe por kg | K6: 250
A7: =IF(OR($B7="",$C7=""),"",$B7&"|"&$C7) | B7: Ala Boreal Ficticia | C7: Tarifa Nieve Ficticia | D7: 20 | E7: 9.75 | F7: 45547 | G7: Pendiente de revisión | J7: Horizonte de fechas (días) | K7: 730
A8: =IF(OR($B8="",$C8=""),"",$B8&"|"&$C8) | B8: Ferri Estela Ficticio | C8: Cabina Costa Ficticia | D8: 50 | E8: 4 | F8: 46217 | G8: Introducido | J8: Texto de aviso interno | K8: Comprobar manualmente las condiciones antes de confirmar el servicio.
A9: =IF(OR($B9="",$C9=""),"",$B9&"|"&$C9) | B9: Tren Horizonte Ficticio | C9: Billete Ruta Ficticio | D9: 25 | E9: 6.5 | F9: 46262 | G9: Introducido
A10: =IF(OR($B10="",$C10=""),"",$B10&"|"&$C10) | B10: Autocar Lumen Ficticio | C10: Plaza Flexible Ficticia | D10: 20 | E10: 8 | F10: 46187 | G10: Pendiente de revisión
A11: =IF(OR($B11="",$C11=""),"",$B11&"|"&$C11) | B11: Aerolínea Prisma Ficticia | C11: Tarifa Cielo Ficticia | D11: 32 | E11: 15 | F11: 46267 | G11: Introducido
A12: =IF(OR($B12="",$C12=""),"",$B12&"|"&$C12) | B12: Naviera Órbita Ficticia | C12: Pasaje Marea Ficticio | D12: 40 | E12: 5.25 | F12: 46242 | G12: Introducido
A13: =IF(OR($B13="",$C13=""),"",$B13&"|"&$C13)
A14: =IF(OR($B14="",$C14=""),"",$B14&"|"&$C14)
A15: =IF(OR($B15="",$C15=""),"",$B15&"|"&$C15)
A16: =IF(OR($B16="",$C16=""),"",$B16&"|"&$C16)
A17: =IF(OR($B17="",$C17=""),"",$B17&"|"&$C17)
A18: =IF(OR($B18="",$C18=""),"",$B18&"|"&$C18)
A19: =IF(OR($B19="",$C19=""),"",$B19&"|"&$C19)
A20: =IF(OR($B20="",$C20=""),"",$B20&"|"&$C20)
A21: =IF(OR($B21="",$C21=""),"",$B21&"|"&$C21)
A22: =IF(OR($B22="",$C22=""),"",$B22&"|"&$C22)
A23: =IF(OR($B23="",$C23=""),"",$B23&"|"&$C23)
A24: =IF(OR($B24="",$C24=""),"",$B24&"|"&$C24)
... A104: =IF(OR($B104="",$C104=""),"",$B104&"|"&$C104)
