Workbook

Sheet Calendario
A1: Calendario de salidas confirmadas
A2: Fecha de control | B2: ='Configuración'!$B$3 | C2: Hora de control | D2: ='Configuración'!$B$4 | E2: Salidas futuras incluidas | F2: =COUNT(Salidas!$P$8:$P$157) | G2: Salidas en próximos 7 días | H2: =COUNTIFS(Salidas!$L$8:$L$157,"Sí",Salidas!$N$8:$N$157,">="&('Configuración'!$B$3+'Configuración'!$B$4),Salidas!$N$8:$N$157,"<"&('Configuración'!$B$3+'Configuración'!$B$4+7)) | I2: Futuras sin responsable | J2: =COUNTIFS(Salidas!$L$8:$L$157,"Sí",Salidas!$N$8:$N$157,">="&('Configuración'!$B$3+'Configuración'!$B$4),Salidas!$I$8:$I$157,"") | K2: Pasadas todavía incluidas | L2: =COUNTIFS(Salidas!$L$8:$L$157,"Sí",Salidas!$N$8:$N$157,">0",Salidas!$N$8:$N$157,"<"&('Configuración'!$B$3+'Configuración'!$B$4))
A3: No listas dentro del horizonte | B3: =COUNTIFS(Salidas!$L$8:$L$157,"Sí",Salidas!$N$8:$N$157,">="&('Configuración'!$B$3+'Configuración'!$B$4),Salidas!$N$8:$N$157,"<="&('Configuración'!$B$3+'Configuración'!$B$4+'Configuración'!$B$5),Salidas!$K$8:$K$157,"<>Lista") | C3: Filas con datos que revisar | D3: =COUNTIF(Salidas!$Q$8:$Q$157,"Revisar datos")
A5: Consulta automática | B5: La primera fila visible es la siguiente salida incluida a partir del momento de control.
A7: Orden | B7: Fecha | C7: Hora | D7: Código | E7: Salida | F7: Zona o destino | G7: Punto de encuentro | H7: Noches | I7: Personas previstas | J7: Responsable operativo | K7: Responsable de apoyo | L7: Preparación | M7: Aviso | N7: Clave de extracción
A8: =IF($N8="","",ROWS($A$8:A8)) | B8: =IF($N8="","",IFERROR(INDEX(Salidas!$D$8:$D$157,MATCH($N8,Salidas!$P$8:$P$157,0)),"")) | C8: =IF($N8="","",IFERROR(INDEX(Salidas!$E$8:$E$157,MATCH($N8,Salidas!$P$8:$P$157,0)),"")) | D8: =IF($N8="","",IFERROR(INDEX(Salidas!$A$8:$A$157,MATCH($N8,Salidas!$P$8:$P$157,0)),"")) | E8: =IF($N8="","",IFERROR(INDEX(Salidas!$B$8:$B$157,MATCH($N8,Salidas!$P$8:$P$157,0)),"")) | F8: =IF($N8="","",IFERROR(INDEX(Salidas!$C$8:$C$157,MATCH($N8,Salidas!$P$8:$P$157,0)),"")) | G8: =IF($N8="","",IFERROR(INDEX(Salidas!$F$8:$F$157,MATCH($N8,Salidas!$P$8:$P$157,0)),"")) | H8: =IF($N8="","",IFERROR(INDEX(Salidas!$G$8:$G$157,MATCH($N8,Salidas!$P$8:$P$157,0)),"")) | I8: =IF($N8="","",IFERROR(INDEX(Salidas!$H$8:$H$157,MATCH($N8,Salidas!$P$8:$P$157,0)),"")) | J8: =IF($N8="","",IFERROR(INDEX(Salidas!$I$8:$I$157,MATCH($N8,Salidas!$P$8:$P$157,0)),"")) | K8: =IF($N8="","",IFERROR(INDEX(Salidas!$J$8:$J$157,MATCH($N8,Salidas!$P$8:$P$157,0)),"")) | L8: =IF($N8="","",IFERROR(INDEX(Salidas!$K$8:$K$157,MATCH($N8,Salidas!$P$8:$P$157,0)),"")) | M8: =IF($N8="","",IFERROR(INDEX(Salidas!$Q$8:$Q$157,MATCH($N8,Salidas!$P$8:$P$157,0)),"")) | N8: =IFERROR(SMALL(Salidas!$P$8:$P$157,ROWS($N$8:N8)),"")
A9: =IF($N9="","",ROWS($A$8:A9)) | B9: =IF($N9="","",IFERROR(INDEX(Salidas!$D$8:$D$157,MATCH($N9,Salidas!$P$8:$P$157,0)),"")) | C9: =IF($N9="","",IFERROR(INDEX(Salidas!$E$8:$E$157,MATCH($N9,Salidas!$P$8:$P$157,0)),"")) | D9: =IF($N9="","",IFERROR(INDEX(Salidas!$A$8:$A$157,MATCH($N9,Salidas!$P$8:$P$157,0)),"")) | E9: =IF($N9="","",IFERROR(INDEX(Salidas!$B$8:$B$157,MATCH($N9,Salidas!$P$8:$P$157,0)),"")) | F9: =IF($N9="","",IFERROR(INDEX(Salidas!$C$8:$C$157,MATCH($N9,Salidas!$P$8:$P$157,0)),"")) | G9: =IF($N9="","",IFERROR(INDEX(Salidas!$F$8:$F$157,MATCH($N9,Salidas!$P$8:$P$157,0)),"")) | H9: =IF($N9="","",IFERROR(INDEX(Salidas!$G$8:$G$157,MATCH($N9,Salidas!$P$8:$P$157,0)),"")) | I9: =IF($N9="","",IFERROR(INDEX(Salidas!$H$8:$H$157,MATCH($N9,Salidas!$P$8:$P$157,0)),"")) | J9: =IF($N9="","",IFERROR(INDEX(Salidas!$I$8:$I$157,MATCH($N9,Salidas!$P$8:$P$157,0)),"")) | K9: =IF($N9="","",IFERROR(INDEX(Salidas!$J$8:$J$157,MATCH($N9,Salidas!$P$8:$P$157,0)),"")) | L9: =IF($N9="","",IFERROR(INDEX(Salidas!$K$8:$K$157,MATCH($N9,Salidas!$P$8:$P$157,0)),"")) | M9: =IF($N9="","",IFERROR(INDEX(Salidas!$Q$8:$Q$157,MATCH($N9,Salidas!$P$8:$P$157,0)),"")) | N9: =IFERROR(SMALL(Salidas!$P$8:$P$157,ROWS($N$8:N9)),"")
A10: =IF($N10="","",ROWS($A$8:A10)) | B10: =IF($N10="","",IFERROR(INDEX(Salidas!$D$8:$D$157,MATCH($N10,Salidas!$P$8:$P$157,0)),"")) | C10: =IF($N10="","",IFERROR(INDEX(Salidas!$E$8:$E$157,MATCH($N10,Salidas!$P$8:$P$157,0)),"")) | D10: =IF($N10="","",IFERROR(INDEX(Salidas!$A$8:$A$157,MATCH($N10,Salidas!$P$8:$P$157,0)),"")) | E10: =IF($N10="","",IFERROR(INDEX(Salidas!$B$8:$B$157,MATCH($N10,Salidas!$P$8:$P$157,0)),"")) | F10: =IF($N10="","",IFERROR(INDEX(Salidas!$C$8:$C$157,MATCH($N10,Salidas!$P$8:$P$157,0)),"")) | G10: =IF($N10="","",IFERROR(INDEX(Salidas!$F$8:$F$157,MATCH($N10,Salidas!$P$8:$P$157,0)),"")) | H10: =IF($N10="","",IFERROR(INDEX(Salidas!$G$8:$G$157,MATCH($N10,Salidas!$P$8:$P$157,0)),"")) | I10: =IF($N10="","",IFERROR(INDEX(Salidas!$H$8:$H$157,MATCH($N10,Salidas!$P$8:$P$157,0)),"")) | J10: =IF($N10="","",IFERROR(INDEX(Salidas!$I$8:$I$157,MATCH($N10,Salidas!$P$8:$P$157,0)),"")) | K10: =IF($N10="","",IFERROR(INDEX(Salidas!$J$8:$J$157,MATCH($N10,Salidas!$P$8:$P$157,0)),"")) | L10: =IF($N10="","",IFERROR(INDEX(Salidas!$K$8:$K$157,MATCH($N10,Salidas!$P$8:$P$157,0)),"")) | M10: =IF($N10="","",IFERROR(INDEX(Salidas!$Q$8:$Q$157,MATCH($N10,Salidas!$P$8:$P$157,0)),"")) | N10: =IFERROR(SMALL(Salidas!$P$8:$P$157,ROWS($N$8:N10)),"")
A11: =IF($N11="","",ROWS($A$8:A11)) | B11: =IF($N11="","",IFERROR(INDEX(Salidas!$D$8:$D$157,MATCH($N11,Salidas!$P$8:$P$157,0)),"")) | C11: =IF($N11="","",IFERROR(INDEX(Salidas!$E$8:$E$157,MATCH($N11,Salidas!$P$8:$P$157,0)),"")) | D11: =IF($N11="","",IFERROR(INDEX(Salidas!$A$8:$A$157,MATCH($N11,Salidas!$P$8:$P$157,0)),"")) | E11: =IF($N11="","",IFERROR(INDEX(Salidas!$B$8:$B$157,MATCH($N11,Salidas!$P$8:$P$157,0)),"")) | F11: =IF($N11="","",IFERROR(INDEX(Salidas!$C$8:$C$157,MATCH($N11,Salidas!$P$8:$P$157,0)),"")) | G11: =IF($N11="","",IFERROR(INDEX(Salidas!$F$8:$F$157,MATCH($N11,Salidas!$P$8:$P$157,0)),"")) | H11: =IF($N11="","",IFERROR(INDEX(Salidas!$G$8:$G$157,MATCH($N11,Salidas!$P$8:$P$157,0)),"")) | I11: =IF($N11="","",IFERROR(INDEX(Salidas!$H$8:$H$157,MATCH($N11,Salidas!$P$8:$P$157,0)),"")) | J11: =IF($N11="","",IFERROR(INDEX(Salidas!$I$8:$I$157,MATCH($N11,Salidas!$P$8:$P$157,0)),"")) | K11: =IF($N11="","",IFERROR(INDEX(Salidas!$J$8:$J$157,MATCH($N11,Salidas!$P$8:$P$157,0)),"")) | L11: =IF($N11="","",IFERROR(INDEX(Salidas!$K$8:$K$157,MATCH($N11,Salidas!$P$8:$P$157,0)),"")) | M11: =IF($N11="","",IFERROR(INDEX(Salidas!$Q$8:$Q$157,MATCH($N11,Salidas!$P$8:$P$157,0)),"")) | N11: =IFERROR(SMALL(Salidas!$P$8:$P$157,ROWS($N$8:N11)),"")
A12: =IF($N12="","",ROWS($A$8:A12)) | B12: =IF($N12="","",IFERROR(INDEX(Salidas!$D$8:$D$157,MATCH($N12,Salidas!$P$8:$P$157,0)),"")) | C12: =IF($N12="","",IFERROR(INDEX(Salidas!$E$8:$E$157,MATCH($N12,Salidas!$P$8:$P$157,0)),"")) | D12: =IF($N12="","",IFERROR(INDEX(Salidas!$A$8:$A$157,MATCH($N12,Salidas!$P$8:$P$157,0)),"")) | E12: =IF($N12="","",IFERROR(INDEX(Salidas!$B$8:$B$157,MATCH($N12,Salidas!$P$8:$P$157,0)),"")) | F12: =IF($N12="","",IFERROR(INDEX(Salidas!$C$8:$C$157,MATCH($N12,Salidas!$P$8:$P$157,0)),"")) | G12: =IF($N12="","",IFERROR(INDEX(Salidas!$F$8:$F$157,MATCH($N12,Salidas!$P$8:$P$157,0)),"")) | H12: =IF($N12="","",IFERROR(INDEX(Salidas!$G$8:$G$157,MATCH($N12,Salidas!$P$8:$P$157,0)),"")) | I12: =IF($N12="","",IFERROR(INDEX(Salidas!$H$8:$H$157,MATCH($N12,Salidas!$P$8:$P$157,0)),"")) | J12: =IF($N12="","",IFERROR(INDEX(Salidas!$I$8:$I$157,MATCH($N12,Salidas!$P$8:$P$157,0)),"")) | K12: =IF($N12="","",IFERROR(INDEX(Salidas!$J$8:$J$157,MATCH($N12,Salidas!$P$8:$P$157,0)),"")) | L12: =IF($N12="","",IFERROR(INDEX(Salidas!$K$8:$K$157,MATCH($N12,Salidas!$P$8:$P$157,0)),"")) | M12: =IF($N12="","",IFERROR(INDEX(Salidas!$Q$8:$Q$157,MATCH($N12,Salidas!$P$8:$P$157,0)),"")) | N12: =IFERROR(SMALL(Salidas!$P$8:$P$157,ROWS($N$8:N12)),"")
A13: =IF($N13="","",ROWS($A$8:A13)) | B13: =IF($N13="","",IFERROR(INDEX(Salidas!$D$8:$D$157,MATCH($N13,Salidas!$P$8:$P$157,0)),"")) | C13: =IF($N13="","",IFERROR(INDEX(Salidas!$E$8:$E$157,MATCH($N13,Salidas!$P$8:$P$157,0)),"")) | D13: =IF($N13="","",IFERROR(INDEX(Salidas!$A$8:$A$157,MATCH($N13,Salidas!$P$8:$P$157,0)),"")) | E13: =IF($N13="","",IFERROR(INDEX(Salidas!$B$8:$B$157,MATCH($N13,Salidas!$P$8:$P$157,0)),"")) | F13: =IF($N13="","",IFERROR(INDEX(Salidas!$C$8:$C$157,MATCH($N13,Salidas!$P$8:$P$157,0)),"")) | G13: =IF($N13="","",IFERROR(INDEX(Salidas!$F$8:$F$157,MATCH($N13,Salidas!$P$8:$P$157,0)),"")) | H13: =IF($N13="","",IFERROR(INDEX(Salidas!$G$8:$G$157,MATCH($N13,Salidas!$P$8:$P$157,0)),"")) | I13: =IF($N13="","",IFERROR(INDEX(Salidas!$H$8:$H$157,MATCH($N13,Salidas!$P$8:$P$157,0)),"")) | J13: =IF($N13="","",IFERROR(INDEX(Salidas!$I$8:$I$157,MATCH($N13,Salidas!$P$8:$P$157,0)),"")) | K13: =IF($N13="","",IFERROR(INDEX(Salidas!$J$8:$J$157,MATCH($N13,Salidas!$P$8:$P$157,0)),"")) | L13: =IF($N13="","",IFERROR(INDEX(Salidas!$K$8:$K$157,MATCH($N13,Salidas!$P$8:$P$157,0)),"")) | M13: =IF($N13="","",IFERROR(INDEX(Salidas!$Q$8:$Q$157,MATCH($N13,Salidas!$P$8:$P$157,0)),"")) | N13: =IFERROR(SMALL(Salidas!$P$8:$P$157,ROWS($N$8:N13)),"")
A14: =IF($N14="","",ROWS($A$8:A14)) | B14: =IF($N14="","",IFERROR(INDEX(Salidas!$D$8:$D$157,MATCH($N14,Salidas!$P$8:$P$157,0)),"")) | C14: =IF($N14="","",IFERROR(INDEX(Salidas!$E$8:$E$157,MATCH($N14,Salidas!$P$8:$P$157,0)),"")) | D14: =IF($N14="","",IFERROR(INDEX(Salidas!$A$8:$A$157,MATCH($N14,Salidas!$P$8:$P$157,0)),"")) | E14: =IF($N14="","",IFERROR(INDEX(Salidas!$B$8:$B$157,MATCH($N14,Salidas!$P$8:$P$157,0)),"")) | F14: =IF($N14="","",IFERROR(INDEX(Salidas!$C$8:$C$157,MATCH($N14,Salidas!$P$8:$P$157,0)),"")) | G14: =IF($N14="","",IFERROR(INDEX(Salidas!$F$8:$F$157,MATCH($N14,Salidas!$P$8:$P$157,0)),"")) | H14: =IF($N14="","",IFERROR(INDEX(Salidas!$G$8:$G$157,MATCH($N14,Salidas!$P$8:$P$157,0)),"")) | I14: =IF($N14="","",IFERROR(INDEX(Salidas!$H$8:$H$157,MATCH($N14,Salidas!$P$8:$P$157,0)),"")) | J14: =IF($N14="","",IFERROR(INDEX(Salidas!$I$8:$I$157,MATCH($N14,Salidas!$P$8:$P$157,0)),"")) | K14: =IF($N14="","",IFERROR(INDEX(Salidas!$J$8:$J$157,MATCH($N14,Salidas!$P$8:$P$157,0)),"")) | L14: =IF($N14="","",IFERROR(INDEX(Salidas!$K$8:$K$157,MATCH($N14,Salidas!$P$8:$P$157,0)),"")) | M14: =IF($N14="","",IFERROR(INDEX(Salidas!$Q$8:$Q$157,MATCH($N14,Salidas!$P$8:$P$157,0)),"")) | N14: =IFERROR(SMALL(Salidas!$P$8:$P$157,ROWS($N$8:N14)),"")
A15: =IF($N15="","",ROWS($A$8:A15)) | B15: =IF($N15="","",IFERROR(INDEX(Salidas!$D$8:$D$157,MATCH($N15,Salidas!$P$8:$P$157,0)),"")) | C15: =IF($N15="","",IFERROR(INDEX(Salidas!$E$8:$E$157,MATCH($N15,Salidas!$P$8:$P$157,0)),"")) | D15: =IF($N15="","",IFERROR(INDEX(Salidas!$A$8:$A$157,MATCH($N15,Salidas!$P$8:$P$157,0)),"")) | E15: =IF($N15="","",IFERROR(INDEX(Salidas!$B$8:$B$157,MATCH($N15,Salidas!$P$8:$P$157,0)),"")) | F15: =IF($N15="","",IFERROR(INDEX(Salidas!$C$8:$C$157,MATCH($N15,Salidas!$P$8:$P$157,0)),"")) | G15: =IF($N15="","",IFERROR(INDEX(Salidas!$F$8:$F$157,MATCH($N15,Salidas!$P$8:$P$157,0)),"")) | H15: =IF($N15="","",IFERROR(INDEX(Salidas!$G$8:$G$157,MATCH($N15,Salidas!$P$8:$P$157,0)),"")) | I15: =IF($N15="","",IFERROR(INDEX(Salidas!$H$8:$H$157,MATCH($N15,Salidas!$P$8:$P$157,0)),"")) | J15: =IF($N15="","",IFERROR(INDEX(Salidas!$I$8:$I$157,MATCH($N15,Salidas!$P$8:$P$157,0)),"")) | K15: =IF($N15="","",IFERROR(INDEX(Salidas!$J$8:$J$157,MATCH($N15,Salidas!$P$8:$P$157,0)),"")) | L15: =IF($N15="","",IFERROR(INDEX(Salidas!$K$8:$K$157,MATCH($N15,Salidas!$P$8:$P$157,0)),"")) | M15: =IF($N15="","",IFERROR(INDEX(Salidas!$Q$8:$Q$157,MATCH($N15,Salidas!$P$8:$P$157,0)),"")) | N15: =IFERROR(SMALL(Salidas!$P$8:$P$157,ROWS($N$8:N15)),"")
A16: =IF($N16="","",ROWS($A$8:A16)) | B16: =IF($N16="","",IFERROR(INDEX(Salidas!$D$8:$D$157,MATCH($N16,Salidas!$P$8:$P$157,0)),"")) | C16: =IF($N16="","",IFERROR(INDEX(Salidas!$E$8:$E$157,MATCH($N16,Salidas!$P$8:$P$157,0)),"")) | D16: =IF($N16="","",IFERROR(INDEX(Salidas!$A$8:$A$157,MATCH($N16,Salidas!$P$8:$P$157,0)),"")) | E16: =IF($N16="","",IFERROR(INDEX(Salidas!$B$8:$B$157,MATCH($N16,Salidas!$P$8:$P$157,0)),"")) | F16: =IF($N16="","",IFERROR(INDEX(Salidas!$C$8:$C$157,MATCH($N16,Salidas!$P$8:$P$157,0)),"")) | G16: =IF($N16="","",IFERROR(INDEX(Salidas!$F$8:$F$157,MATCH($N16,Salidas!$P$8:$P$157,0)),"")) | H16: =IF($N16="","",IFERROR(INDEX(Salidas!$G$8:$G$157,MATCH($N16,Salidas!$P$8:$P$157,0)),"")) | I16: =IF($N16="","",IFERROR(INDEX(Salidas!$H$8:$H$157,MATCH($N16,Salidas!$P$8:$P$157,0)),"")) | J16: =IF($N16="","",IFERROR(INDEX(Salidas!$I$8:$I$157,MATCH($N16,Salidas!$P$8:$P$157,0)),"")) | K16: =IF($N16="","",IFERROR(INDEX(Salidas!$J$8:$J$157,MATCH($N16,Salidas!$P$8:$P$157,0)),"")) | L16: =IF($N16="","",IFERROR(INDEX(Salidas!$K$8:$K$157,MATCH($N16,Salidas!$P$8:$P$157,0)),"")) | M16: =IF($N16="","",IFERROR(INDEX(Salidas!$Q$8:$Q$157,MATCH($N16,Salidas!$P$8:$P$157,0)),"")) | N16: =IFERROR(SMALL(Salidas!$P$8:$P$157,ROWS($N$8:N16)),"")
A17: =IF($N17="","",ROWS($A$8:A17)) | B17: =IF($N17="","",IFERROR(INDEX(Salidas!$D$8:$D$157,MATCH($N17,Salidas!$P$8:$P$157,0)),"")) | C17: =IF($N17="","",IFERROR(INDEX(Salidas!$E$8:$E$157,MATCH($N17,Salidas!$P$8:$P$157,0)),"")) | D17: =IF($N17="","",IFERROR(INDEX(Salidas!$A$8:$A$157,MATCH($N17,Salidas!$P$8:$P$157,0)),"")) | E17: =IF($N17="","",IFERROR(INDEX(Salidas!$B$8:$B$157,MATCH($N17,Salidas!$P$8:$P$157,0)),"")) | F17: =IF($N17="","",IFERROR(INDEX(Salidas!$C$8:$C$157,MATCH($N17,Salidas!$P$8:$P$157,0)),"")) | G17: =IF($N17="","",IFERROR(INDEX(Salidas!$F$8:$F$157,MATCH($N17,Salidas!$P$8:$P$157,0)),"")) | H17: =IF($N17="","",IFERROR(INDEX(Salidas!$G$8:$G$157,MATCH($N17,Salidas!$P$8:$P$157,0)),"")) | I17: =IF($N17="","",IFERROR(INDEX(Salidas!$H$8:$H$157,MATCH($N17,Salidas!$P$8:$P$157,0)),"")) | J17: =IF($N17="","",IFERROR(INDEX(Salidas!$I$8:$I$157,MATCH($N17,Salidas!$P$8:$P$157,0)),"")) | K17: =IF($N17="","",IFERROR(INDEX(Salidas!$J$8:$J$157,MATCH($N17,Salidas!$P$8:$P$157,0)),"")) | L17: =IF($N17="","",IFERROR(INDEX(Salidas!$K$8:$K$157,MATCH($N17,Salidas!$P$8:$P$157,0)),"")) | M17: =IF($N17="","",IFERROR(INDEX(Salidas!$Q$8:$Q$157,MATCH($N17,Salidas!$P$8:$P$157,0)),"")) | N17: =IFERROR(SMALL(Salidas!$P$8:$P$157,ROWS($N$8:N17)),"")
A18: =IF($N18="","",ROWS($A$8:A18)) | B18: =IF($N18="","",IFERROR(INDEX(Salidas!$D$8:$D$157,MATCH($N18,Salidas!$P$8:$P$157,0)),"")) | C18: =IF($N18="","",IFERROR(INDEX(Salidas!$E$8:$E$157,MATCH($N18,Salidas!$P$8:$P$157,0)),"")) | D18: =IF($N18="","",IFERROR(INDEX(Salidas!$A$8:$A$157,MATCH($N18,Salidas!$P$8:$P$157,0)),"")) | E18: =IF($N18="","",IFERROR(INDEX(Salidas!$B$8:$B$157,MATCH($N18,Salidas!$P$8:$P$157,0)),"")) | F18: =IF($N18="","",IFERROR(INDEX(Salidas!$C$8:$C$157,MATCH($N18,Salidas!$P$8:$P$157,0)),"")) | G18: =IF($N18="","",IFERROR(INDEX(Salidas!$F$8:$F$157,MATCH($N18,Salidas!$P$8:$P$157,0)),"")) | H18: =IF($N18="","",IFERROR(INDEX(Salidas!$G$8:$G$157,MATCH($N18,Salidas!$P$8:$P$157,0)),"")) | I18: =IF($N18="","",IFERROR(INDEX(Salidas!$H$8:$H$157,MATCH($N18,Salidas!$P$8:$P$157,0)),"")) | J18: =IF($N18="","",IFERROR(INDEX(Salidas!$I$8:$I$157,MATCH($N18,Salidas!$P$8:$P$157,0)),"")) | K18: =IF($N18="","",IFERROR(INDEX(Salidas!$J$8:$J$157,MATCH($N18,Salidas!$P$8:$P$157,0)),"")) | L18: =IF($N18="","",IFERROR(INDEX(Salidas!$K$8:$K$157,MATCH($N18,Salidas!$P$8:$P$157,0)),"")) | M18: =IF($N18="","",IFERROR(INDEX(Salidas!$Q$8:$Q$157,MATCH($N18,Salidas!$P$8:$P$157,0)),"")) | N18: =IFERROR(SMALL(Salidas!$P$8:$P$157,ROWS($N$8:N18)),"")
A19: =IF($N19="","",ROWS($A$8:A19)) | B19: =IF($N19="","",IFERROR(INDEX(Salidas!$D$8:$D$157,MATCH($N19,Salidas!$P$8:$P$157,0)),"")) | C19: =IF($N19="","",IFERROR(INDEX(Salidas!$E$8:$E$157,MATCH($N19,Salidas!$P$8:$P$157,0)),"")) | D19: =IF($N19="","",IFERROR(INDEX(Salidas!$A$8:$A$157,MATCH($N19,Salidas!$P$8:$P$157,0)),"")) | E19: =IF($N19="","",IFERROR(INDEX(Salidas!$B$8:$B$157,MATCH($N19,Salidas!$P$8:$P$157,0)),"")) | F19: =IF($N19="","",IFERROR(INDEX(Salidas!$C$8:$C$157,MATCH($N19,Salidas!$P$8:$P$157,0)),"")) | G19: =IF($N19="","",IFERROR(INDEX(Salidas!$F$8:$F$157,MATCH($N19,Salidas!$P$8:$P$157,0)),"")) | H19: =IF($N19="","",IFERROR(INDEX(Salidas!$G$8:$G$157,MATCH($N19,Salidas!$P$8:$P$157,0)),"")) | I19: =IF($N19="","",IFERROR(INDEX(Salidas!$H$8:$H$157,MATCH($N19,Salidas!$P$8:$P$157,0)),"")) | J19: =IF($N19="","",IFERROR(INDEX(Salidas!$I$8:$I$157,MATCH($N19,Salidas!$P$8:$P$157,0)),"")) | K19: =IF($N19="","",IFERROR(INDEX(Salidas!$J$8:$J$157,MATCH($N19,Salidas!$P$8:$P$157,0)),"")) | L19: =IF($N19="","",IFERROR(INDEX(Salidas!$K$8:$K$157,MATCH($N19,Salidas!$P$8:$P$157,0)),"")) | M19: =IF($N19="","",IFERROR(INDEX(Salidas!$Q$8:$Q$157,MATCH($N19,Salidas!$P$8:$P$157,0)),"")) | N19: =IFERROR(SMALL(Salidas!$P$8:$P$157,ROWS($N$8:N19)),"")
... A157: =IF($N157="","",ROWS($A$8:A157)) | B157: =IF($N157="","",IFERROR(INDEX(Salidas!$D$8:$D$157,MATCH($N157,Salidas!$P$8:$P$157,0)),"")) | C157: =IF($N157="","",IFERROR(INDEX(Salidas!$E$8:$E$157,MATCH($N157,Salidas!$P$8:$P$157,0)),"")) | D157: =IF($N157="","",IFERROR(INDEX(Salidas!$A$8:$A$157,MATCH($N157,Salidas!$P$8:$P$157,0)),"")) | E157: =IF($N157="","",IFERROR(INDEX(Salidas!$B$8:$B$157,MATCH($N157,Salidas!$P$8:$P$157,0)),"")) | F157: =IF($N157="","",IFERROR(INDEX(Salidas!$C$8:$C$157,MATCH($N157,Salidas!$P$8:$P$157,0)),"")) | G157: =IF($N157="","",IFERROR(INDEX(Salidas!$F$8:$F$157,MATCH($N157,Salidas!$P$8:$P$157,0)),"")) | H157: =IF($N157="","",IFERROR(INDEX(Salidas!$G$8:$G$157,MATCH($N157,Salidas!$P$8:$P$157,0)),"")) | I157: =IF($N157="","",IFERROR(INDEX(Salidas!$H$8:$H$157,MATCH($N157,Salidas!$P$8:$P$157,0)),"")) | J157: =IF($N157="","",IFERROR(INDEX(Salidas!$I$8:$I$157,MATCH($N157,Salidas!$P$8:$P$157,0)),"")) | K157: =IF($N157="","",IFERROR(INDEX(Salidas!$J$8:$J$157,MATCH($N157,Salidas!$P$8:$P$157,0)),"")) | L157: =IF($N157="","",IFERROR(INDEX(Salidas!$K$8:$K$157,MATCH($N157,Salidas!$P$8:$P$157,0)),"")) | M157: =IF($N157="","",IFERROR(INDEX(Salidas!$Q$8:$Q$157,MATCH($N157,Salidas!$P$8:$P$157,0)),"")) | N157: =IFERROR(SMALL(Salidas!$P$8:$P$157,ROWS($N$8:N157)),"")

Sheet Salidas
A1: Registro administrativo de salidas confirmadas
A2: Datos de ejemplo ficticios. No introduzca datos de viajeros, pagos, documentos, contactos ni localizadores. | R2: Responsables auxiliares | S2: Preparación auxiliar | T2: Inclusión auxiliar
B3: Uso | C3: Cada fila representa una salida de grupo ya confirmada. «Incluir en calendario» solo controla su aparición en la vista. | R3: ='Configuración'!D3 | S3: ='Configuración'!E3 | T3: ='Configuración'!F3
R4: ='Configuración'!D4 | S4: ='Configuración'!E4 | T4: ='Configuración'!F4
R5: ='Configuración'!D5 | S5: ='Configuración'!E5
R6: ='Configuración'!D6 | S6: ='Configuración'!E6
A7: Código de salida | B7: Nombre de la salida | C7: Zona o destino | D7: Fecha de salida | E7: Hora de salida | F7: Punto de encuentro | G7: Noches | H7: Personas previstas | I7: Responsable operativo | J7: Responsable de apoyo | K7: Preparación | L7: Incluir en calendario | M7: Observaciones operativas | N7: Fecha y hora | O7: Días hasta la salida | P7: Clave de orden | Q7: Aviso | R7: ='Configuración'!D7 | S7: ='Configuración'!E7
A8: FIC-004 | B8: Capitales de Ensayo | C8: Zona ficticia Centro | D8: 46285 | E8: 0.375 | F8: Estación ficticia Central | G8: 5 | H8: 40 | I8: Responsable ficticio D | J8: Responsable ficticio B | K8: En curso | L8: Sí | M8: Ejemplo operativo ficticio. | N8: =IF(OR(D8="",E8=""),"",D8+E8) | O8: =IF(OR(N8="",L8<>"Sí"),"",INT(N8-('Configuración'!$B$3+'Configuración'!$B$4))) | P8: =IF(OR(N8="",L8<>"Sí",N8<('Configuración'!$B$3+'Configuración'!$B$4)),"",N8+ROW()/100000000) | Q8: =IF(COUNTA($A8:$M8)=0,"",IF($L8="","Revisar datos",IF($L8<>"Sí","Fuera del calendario",IF(OR($A8="",$B8="",$C8="",$D8="",$E8="",$F8="",$G8="",$H8="",$I8="",$K8="",COUNTIF($A$8:$A$157,$A8)>1,AND($J8<>"",$J8=$I8)),"Revisar datos",IF($N8<('Configuración'!$B$3+'Configuración'!$B$4),"Salida pasada",IF(AND($N8-('Configuración'!$B$3+'Configuración'!$B$4)<='Configuración'!$B$6,$K8<>"Lista"),"Inminente y no lista",IF($N8-('Configuración'!$B$3+'Configuración'!$B$4)<='Configuración'!$B$6,"Salida inminente",IF(AND($N8-('Configuración'!$B$3+'Configuración'!$B$4)<='Configuración'!$B$5,$K8<>"Lista"),"Preparación pendiente","Sin aviso")))))))) | R8: ='Configuración'!D8 | S8: ='Configuración'!E8
A9: FIC-001 | B9: Costa de Ejemplo | C9: Litoral ficticio Norte | D9: 46277 | E9: 0.35416667 | F9: Terminal ficticia Norte | G9: 2 | H9: 24 | I9: Responsable ficticio A | J9: Responsable ficticio B | K9: En curso | L9: Sí | M9: Ejemplo operativo ficticio. | N9: =IF(OR(D9="",E9=""),"",D9+E9) | O9: =IF(OR(N9="",L9<>"Sí"),"",INT(N9-('Configuración'!$B$3+'Configuración'!$B$4))) | P9: =IF(OR(N9="",L9<>"Sí",N9<('Configuración'!$B$3+'Configuración'!$B$4)),"",N9+ROW()/100000000) | Q9: =IF(COUNTA($A9:$M9)=0,"",IF($L9="","Revisar datos",IF($L9<>"Sí","Fuera del calendario",IF(OR($A9="",$B9="",$C9="",$D9="",$E9="",$F9="",$G9="",$H9="",$I9="",$K9="",COUNTIF($A$8:$A$157,$A9)>1,AND($J9<>"",$J9=$I9)),"Revisar datos",IF($N9<('Configuración'!$B$3+'Configuración'!$B$4),"Salida pasada",IF(AND($N9-('Configuración'!$B$3+'Configuración'!$B$4)<='Configuración'!$B$6,$K9<>"Lista"),"Inminente y no lista",IF($N9-('Configuración'!$B$3+'Configuración'!$B$4)<='Configuración'!$B$6,"Salida inminente",IF(AND($N9-('Configuración'!$B$3+'Configuración'!$B$4)<='Configuración'!$B$5,$K9<>"Lista"),"Preparación pendiente","Sin aviso")))))))) | R9: ='Configuración'!D9 | S9: ='Configuración'!E9
A10: FIC-007 | B10: Ruta Anterior de Prueba | C10: Zona ficticia Oeste | D10: 46276 | E10: 0.29166667 | F10: Dársena ficticia Oeste | G10: 1 | H10: 12 | I10: Responsable ficticio B | J10: Responsable ficticio A | K10: Lista | L10: Sí | M10: Ejemplo anterior al momento de control. | N10: =IF(OR(D10="",E10=""),"",D10+E10) | O10: =IF(OR(N10="",L10<>"Sí"),"",INT(N10-('Configuración'!$B$3+'Configuración'!$B$4))) | P10: =IF(OR(N10="",L10<>"Sí",N10<('Configuración'!$B$3+'Configuración'!$B$4)),"",N10+ROW()/100000000) | Q10: =IF(COUNTA($A10:$M10)=0,"",IF($L10="","Revisar datos",IF($L10<>"Sí","Fuera del calendario",IF(OR($A10="",$B10="",$C10="",$D10="",$E10="",$F10="",$G10="",$H10="",$I10="",$K10="",COUNTIF($A$8:$A$157,$A10)>1,AND($J10<>"",$J10=$I10)),"Revisar datos",IF($N10<('Configuración'!$B$3+'Configuración'!$B$4),"Salida pasada",IF(AND($N10-('Configuración'!$B$3+'Configuración'!$B$4)<='Configuración'!$B$6,$K10<>"Lista"),"Inminente y no lista",IF($N10-('Configuración'!$B$3+'Configuración'!$B$4)<='Configuración'!$B$6,"Salida inminente",IF(AND($N10-('Configuración'!$B$3+'Configuración'!$B$4)<='Configuración'!$B$5,$K10<>"Lista"),"Preparación pendiente","Sin aviso")))))))) | R10: ='Configuración'!D10 | S10: ='Configuración'!E10
A11: FIC-005 | B11: Isla Simulada | C11: Archipiélago ficticio | D11: 46292 | E11: 0.28125 | F11: Muelle ficticio 2 | G11: 7 | H11: 22 | I11: Responsable ficticio E | J11: Responsable ficticio C | K11: Lista | L11: Sí | M11: Ejemplo operativo ficticio. | N11: =IF(OR(D11="",E11=""),"",D11+E11) | O11: =IF(OR(N11="",L11<>"Sí"),"",INT(N11-('Configuración'!$B$3+'Configuración'!$B$4))) | P11: =IF(OR(N11="",L11<>"Sí",N11<('Configuración'!$B$3+'Configuración'!$B$4)),"",N11+ROW()/100000000) | Q11: =IF(COUNTA($A11:$M11)=0,"",IF($L11="","Revisar datos",IF($L11<>"Sí","Fuera del calendario",IF(OR($A11="",$B11="",$C11="",$D11="",$E11="",$F11="",$G11="",$H11="",$I11="",$K11="",COUNTIF($A$8:$A$157,$A11)>1,AND($J11<>"",$J11=$I11)),"Revisar datos",IF($N11<('Configuración'!$B$3+'Configuración'!$B$4),"Salida pasada",IF(AND($N11-('Configuración'!$B$3+'Configuración'!$B$4)<='Configuración'!$B$6,$K11<>"Lista"),"Inminente y no lista",IF($N11-('Configuración'!$B$3+'Configuración'!$B$4)<='Configuración'!$B$6,"Salida inminente",IF(AND($N11-('Configuración'!$B$3+'Configuración'!$B$4)<='Configuración'!$B$5,$K11<>"Lista"),"Preparación pendiente","Sin aviso")))))))) | R11: ='Configuración'!D11 | S11: ='Configuración'!E11
A12: FIC-003 | B12: Sierras de Muestra | C12: Zona ficticia Interior | D12: 46281 | E12: 0.30208333 | F12: Aparcamiento ficticio Sierra | G12: 4 | H12: 31 | I12: Responsable ficticio C | J12: Responsable ficticio A | K12: Pendiente | L12: Sí | M12: Ejemplo operativo ficticio. | N12: =IF(OR(D12="",E12=""),"",D12+E12) | O12: =IF(OR(N12="",L12<>"Sí"),"",INT(N12-('Configuración'!$B$3+'Configuración'!$B$4))) | P12: =IF(OR(N12="",L12<>"Sí",N12<('Configuración'!$B$3+'Configuración'!$B$4)),"",N12+ROW()/100000000) | Q12: =IF(COUNTA($A12:$M12)=0,"",IF($L12="","Revisar datos",IF($L12<>"Sí","Fuera del calendario",IF(OR($A12="",$B12="",$C12="",$D12="",$E12="",$F12="",$G12="",$H12="",$I12="",$K12="",COUNTIF($A$8:$A$157,$A12)>1,AND($J12<>"",$J12=$I12)),"Revisar datos",IF($N12<('Configuración'!$B$3+'Configuración'!$B$4),"Salida pasada",IF(AND($N12-('Configuración'!$B$3+'Configuración'!$B$4)<='Configuración'!$B$6,$K12<>"Lista"),"Inminente y no lista",IF($N12-('Configuración'!$B$3+'Configuración'!$B$4)<='Configuración'!$B$6,"Salida inminente",IF(AND($N12-('Configuración'!$B$3+'Configuración'!$B$4)<='Configuración'!$B$5,$K12<>"Lista"),"Preparación pendiente","Sin aviso")))))))) | R12: ='Configuración'!D12 | S12: ='Configuración'!E12
A13: FIC-009 | B13: Camino Demostrativo | C13: Zona ficticia Este | D13: 46283 | E13: 0.625 | F13: Intercambiador ficticio Este | G13: 2 | H13: 14 | I13: Responsable ficticio D | J13: Responsable ficticio E | K13: Lista | L13: No | M13: Ejemplo excluido únicamente de la vista. | N13: =IF(OR(D13="",E13=""),"",D13+E13) | O13: =IF(OR(N13="",L13<>"Sí"),"",INT(N13-('Configuración'!$B$3+'Configuración'!$B$4))) | P13: =IF(OR(N13="",L13<>"Sí",N13<('Configuración'!$B$3+'Configuración'!$B$4)),"",N13+ROW()/100000000) | Q13: =IF(COUNTA($A13:$M13)=0,"",IF($L13="","Revisar datos",IF($L13<>"Sí","Fuera del calendario",IF(OR($A13="",$B13="",$C13="",$D13="",$E13="",$F13="",$G13="",$H13="",$I13="",$K13="",COUNTIF($A$8:$A$157,$A13)>1,AND($J13<>"",$J13=$I13)),"Revisar datos",IF($N13<('Configuración'!$B$3+'Configuración'!$B$4),"Salida pasada",IF(AND($N13-('Configuración'!$B$3+'Configuración'!$B$4)<='Configuración'!$B$6,$K13<>"Lista"),"Inminente y no lista",IF($N13-('Configuración'!$B$3+'Configuración'!$B$4)<='Configuración'!$B$6,"Salida inminente",IF(AND($N13-('Configuración'!$B$3+'Configuración'!$B$4)<='Configuración'!$B$5,$K13<>"Lista"),"Preparación pendiente","Sin aviso")))))))) | R13: ='Configuración'!D13 | S13: ='Configuración'!E13
A14: FIC-002 | B14: Azahar Imaginario | C14: Zona ficticia Levante | D14: 46278 | E14: 0.70833333 | F14: Andén ficticio Levante | G14: 3 | H14: 18 | I14: Responsable ficticio B | J14: Responsable ficticio C | K14: Lista | L14: Sí | M14: Ejemplo operativo ficticio. | N14: =IF(OR(D14="",E14=""),"",D14+E14) | O14: =IF(OR(N14="",L14<>"Sí"),"",INT(N14-('Configuración'!$B$3+'Configuración'!$B$4))) | P14: =IF(OR(N14="",L14<>"Sí",N14<('Configuración'!$B$3+'Configuración'!$B$4)),"",N14+ROW()/100000000) | Q14: =IF(COUNTA($A14:$M14)=0,"",IF($L14="","Revisar datos",IF($L14<>"Sí","Fuera del calendario",IF(OR($A14="",$B14="",$C14="",$D14="",$E14="",$F14="",$G14="",$H14="",$I14="",$K14="",COUNTIF($A$8:$A$157,$A14)>1,AND($J14<>"",$J14=$I14)),"Revisar datos",IF($N14<('Configuración'!$B$3+'Configuración'!$B$4),"Salida pasada",IF(AND($N14-('Configuración'!$B$3+'Configuración'!$B$4)<='Configuración'!$B$6,$K14<>"Lista"),"Inminente y no lista",IF($N14-('Configuración'!$B$3+'Configuración'!$B$4)<='Configuración'!$B$6,"Salida inminente",IF(AND($N14-('Configuración'!$B$3+'Configuración'!$B$4)<='Configuración'!$B$5,$K14<>"Lista"),"Preparación pendiente","Sin aviso")))))))) | R14: ='Configuración'!D14 | S14: ='Configuración'!E14
A15: FIC-008 | B15: Villas de Prueba | C15: Zona ficticia Sur | D15: 46279 | E15: 0.52083333 | F15: Terminal ficticia Sur | G15: 2 | H15: 20 | J15: Responsable ficticio D | K15: Pendiente | L15: Sí | M15: Responsable principal vacío deliberadamente. | N15: =IF(OR(D15="",E15=""),"",D15+E15) | O15: =IF(OR(N15="",L15<>"Sí"),"",INT(N15-('Configuración'!$B$3+'Configuración'!$B$4))) | P15: =IF(OR(N15="",L15<>"Sí",N15<('Configuración'!$B$3+'Configuración'!$B$4)),"",N15+ROW()/100000000) | Q15: =IF(COUNTA($A15:$M15)=0,"",IF($L15="","Revisar datos",IF($L15<>"Sí","Fuera del calendario",IF(OR($A15="",$B15="",$C15="",$D15="",$E15="",$F15="",$G15="",$H15="",$I15="",$K15="",COUNTIF($A$8:$A$157,$A15)>1,AND($J15<>"",$J15=$I15)),"Revisar datos",IF($N15<('Configuración'!$B$3+'Configuración'!$B$4),"Salida pasada",IF(AND($N15-('Configuración'!$B$3+'Configuración'!$B$4)<='Configuración'!$B$6,$K15<>"Lista"),"Inminente y no lista",IF($N15-('Configuración'!$B$3+'Configuración'!$B$4)<='Configuración'!$B$6,"Salida inminente",IF(AND($N15-('Configuración'!$B$3+'Configuración'!$B$4)<='Configuración'!$B$5,$K15<>"Lista"),"Preparación pendiente","Sin aviso")))))))) | R15: ='Configuración'!D15 | S15: ='Configuración'!E15
A16: FIC-006 | B16: Valles de Demostración | C16: Zona ficticia Noroeste | D16: 46296 | E16: 0.41666667 | F16: Área ficticia del Valle | G16: 3 | H16: 16 | I16: Responsable ficticio A | J16: Responsable ficticio D | K16: Pendiente | L16: Sí | M16: Ejemplo operativo ficticio. | N16: =IF(OR(D16="",E16=""),"",D16+E16) | O16: =IF(OR(N16="",L16<>"Sí"),"",INT(N16-('Configuración'!$B$3+'Configuración'!$B$4))) | P16: =IF(OR(N16="",L16<>"Sí",N16<('Configuración'!$B$3+'Configuración'!$B$4)),"",N16+ROW()/100000000) | Q16: =IF(COUNTA($A16:$M16)=0,"",IF($L16="","Revisar datos",IF($L16<>"Sí","Fuera del calendario",IF(OR($A16="",$B16="",$C16="",$D16="",$E16="",$F16="",$G16="",$H16="",$I16="",$K16="",COUNTIF($A$8:$A$157,$A16)>1,AND($J16<>"",$J16=$I16)),"Revisar datos",IF($N16<('Configuración'!$B$3+'Configuración'!$B$4),"Salida pasada",IF(AND($N16-('Configuración'!$B$3+'Configuración'!$B$4)<='Configuración'!$B$6,$K16<>"Lista"),"Inminente y no lista",IF($N16-('Configuración'!$B$3+'Configuración'!$B$4)<='Configuración'!$B$6,"Salida inminente",IF(AND($N16-('Configuración'!$B$3+'Configuración'!$B$4)<='Configuración'!$B$5,$K16<>"Lista"),"Preparación pendiente","Sin aviso")))))))) | R16: ='Configuración'!D16 | S16: ='Configuración'!E16
A17: FIC-010 | B17: Miradores Inventados | C17: Zona ficticia Norte | D17: 46290 | E17: 0.22916667 | G17: 3 | H17: 26 | I17: Responsable ficticio E | J17: Responsable ficticio A | K17: En curso | L17: Sí | M17: Punto de encuentro vacío deliberadamente. | N17: =IF(OR(D17="",E17=""),"",D17+E17) | O17: =IF(OR(N17="",L17<>"Sí"),"",INT(N17-('Configuración'!$B$3+'Configuración'!$B$4))) | P17: =IF(OR(N17="",L17<>"Sí",N17<('Configuración'!$B$3+'Configuración'!$B$4)),"",N17+ROW()/100000000) | Q17: =IF(COUNTA($A17:$M17)=0,"",IF($L17="","Revisar datos",IF($L17<>"Sí","Fuera del calendario",IF(OR($A17="",$B17="",$C17="",$D17="",$E17="",$F17="",$G17="",$H17="",$I17="",$K17="",COUNTIF($A$8:$A$157,$A17)>1,AND($J17<>"",$J17=$I17)),"Revisar datos",IF($N17<('Configuración'!$B$3+'Configuración'!$B$4),"Salida pasada",IF(AND($N17-('Configuración'!$B$3+'Configuración'!$B$4)<='Configuración'!$B$6,$K17<>"Lista"),"Inminente y no lista",IF($N17-('Configuración'!$B$3+'Configuración'!$B$4)<='Configuración'!$B$6,"Salida inminente",IF(AND($N17-('Configuración'!$B$3+'Configuración'!$B$4)<='Configuración'!$B$5,$K17<>"Lista"),"Preparación pendiente","Sin aviso")))))))) | R17: ='Configuración'!D17 | S17: ='Configuración'!E17
N18: =IF(OR(D18="",E18=""),"",D18+E18) | O18: =IF(OR(N18="",L18<>"Sí"),"",INT(N18-('Configuración'!$B$3+'Configuración'!$B$4))) | P18: =IF(OR(N18="",L18<>"Sí",N18<('Configuración'!$B$3+'Configuración'!$B$4)),"",N18+ROW()/100000000) | Q18: =IF(COUNTA($A18:$M18)=0,"",IF($L18="","Revisar datos",IF($L18<>"Sí","Fuera del calendario",IF(OR($A18="",$B18="",$C18="",$D18="",$E18="",$F18="",$G18="",$H18="",$I18="",$K18="",COUNTIF($A$8:$A$157,$A18)>1,AND($J18<>"",$J18=$I18)),"Revisar datos",IF($N18<('Configuración'!$B$3+'Configuración'!$B$4),"Salida pasada",IF(AND($N18-('Configuración'!$B$3+'Configuración'!$B$4)<='Configuración'!$B$6,$K18<>"Lista"),"Inminente y no lista",IF($N18-('Configuración'!$B$3+'Configuración'!$B$4)<='Configuración'!$B$6,"Salida inminente",IF(AND($N18-('Configuración'!$B$3+'Configuración'!$B$4)<='Configuración'!$B$5,$K18<>"Lista"),"Preparación pendiente","Sin aviso")))))))) | R18: ='Configuración'!D18 | S18: ='Configuración'!E18
N19: =IF(OR(D19="",E19=""),"",D19+E19) | O19: =IF(OR(N19="",L19<>"Sí"),"",INT(N19-('Configuración'!$B$3+'Configuración'!$B$4))) | P19: =IF(OR(N19="",L19<>"Sí",N19<('Configuración'!$B$3+'Configuración'!$B$4)),"",N19+ROW()/100000000) | Q19: =IF(COUNTA($A19:$M19)=0,"",IF($L19="","Revisar datos",IF($L19<>"Sí","Fuera del calendario",IF(OR($A19="",$B19="",$C19="",$D19="",$E19="",$F19="",$G19="",$H19="",$I19="",$K19="",COUNTIF($A$8:$A$157,$A19)>1,AND($J19<>"",$J19=$I19)),"Revisar datos",IF($N19<('Configuración'!$B$3+'Configuración'!$B$4),"Salida pasada",IF(AND($N19-('Configuración'!$B$3+'Configuración'!$B$4)<='Configuración'!$B$6,$K19<>"Lista"),"Inminente y no lista",IF($N19-('Configuración'!$B$3+'Configuración'!$B$4)<='Configuración'!$B$6,"Salida inminente",IF(AND($N19-('Configuración'!$B$3+'Configuración'!$B$4)<='Configuración'!$B$5,$K19<>"Lista"),"Preparación pendiente","Sin aviso")))))))) | R19: ='Configuración'!D19 | S19: ='Configuración'!E19
N20: =IF(OR(D20="",E20=""),"",D20+E20) | O20: =IF(OR(N20="",L20<>"Sí"),"",INT(N20-('Configuración'!$B$3+'Configuración'!$B$4))) | P20: =IF(OR(N20="",L20<>"Sí",N20<('Configuración'!$B$3+'Configuración'!$B$4)),"",N20+ROW()/100000000) | Q20: =IF(COUNTA($A20:$M20)=0,"",IF($L20="","Revisar datos",IF($L20<>"Sí","Fuera del calendario",IF(OR($A20="",$B20="",$C20="",$D20="",$E20="",$F20="",$G20="",$H20="",$I20="",$K20="",COUNTIF($A$8:$A$157,$A20)>1,AND($J20<>"",$J20=$I20)),"Revisar datos",IF($N20<('Configuración'!$B$3+'Configuración'!$B$4),"Salida pasada",IF(AND($N20-('Configuración'!$B$3+'Configuración'!$B$4)<='Configuración'!$B$6,$K20<>"Lista"),"Inminente y no lista",IF($N20-('Configuración'!$B$3+'Configuración'!$B$4)<='Configuración'!$B$6,"Salida inminente",IF(AND($N20-('Configuración'!$B$3+'Configuración'!$B$4)<='Configuración'!$B$5,$K20<>"Lista"),"Preparación pendiente","Sin aviso")))))))) | R20: ='Configuración'!D20 | S20: ='Configuración'!E20
N21: =IF(OR(D21="",E21=""),"",D21+E21) | O21: =IF(OR(N21="",L21<>"Sí"),"",INT(N21-('Configuración'!$B$3+'Configuración'!$B$4))) | P21: =IF(OR(N21="",L21<>"Sí",N21<('Configuración'!$B$3+'Configuración'!$B$4)),"",N21+ROW()/100000000) | Q21: =IF(COUNTA($A21:$M21)=0,"",IF($L21="","Revisar datos",IF($L21<>"Sí","Fuera del calendario",IF(OR($A21="",$B21="",$C21="",$D21="",$E21="",$F21="",$G21="",$H21="",$I21="",$K21="",COUNTIF($A$8:$A$157,$A21)>1,AND($J21<>"",$J21=$I21)),"Revisar datos",IF($N21<('Configuración'!$B$3+'Configuración'!$B$4),"Salida pasada",IF(AND($N21-('Configuración'!$B$3+'Configuración'!$B$4)<='Configuración'!$B$6,$K21<>"Lista"),"Inminente y no lista",IF($N21-('Configuración'!$B$3+'Configuración'!$B$4)<='Configuración'!$B$6,"Salida inminente",IF(AND($N21-('Configuración'!$B$3+'Configuración'!$B$4)<='Configuración'!$B$5,$K21<>"Lista"),"Preparación pendiente","Sin aviso")))))))) | R21: ='Configuración'!D21 | S21: ='Configuración'!E21
N22: =IF(OR(D22="",E22=""),"",D22+E22) | O22: =IF(OR(N22="",L22<>"Sí"),"",INT(N22-('Configuración'!$B$3+'Configuración'!$B$4))) | P22: =IF(OR(N22="",L22<>"Sí",N22<('Configuración'!$B$3+'Configuración'!$B$4)),"",N22+ROW()/100000000) | Q22: =IF(COUNTA($A22:$M22)=0,"",IF($L22="","Revisar datos",IF($L22<>"Sí","Fuera del calendario",IF(OR($A22="",$B22="",$C22="",$D22="",$E22="",$F22="",$G22="",$H22="",$I22="",$K22="",COUNTIF($A$8:$A$157,$A22)>1,AND($J22<>"",$J22=$I22)),"Revisar datos",IF($N22<('Configuración'!$B$3+'Configuración'!$B$4),"Salida pasada",IF(AND($N22-('Configuración'!$B$3+'Configuración'!$B$4)<='Configuración'!$B$6,$K22<>"Lista"),"Inminente y no lista",IF($N22-('Configuración'!$B$3+'Configuración'!$B$4)<='Configuración'!$B$6,"Salida inminente",IF(AND($N22-('Configuración'!$B$3+'Configuración'!$B$4)<='Configuración'!$B$5,$K22<>"Lista"),"Preparación pendiente","Sin aviso")))))))) | R22: ='Configuración'!D22 | S22: ='Configuración'!E22
N23: =IF(OR(D23="",E23=""),"",D23+E23) | O23: =IF(OR(N23="",L23<>"Sí"),"",INT(N23-('Configuración'!$B$3+'Configuración'!$B$4))) | P23: =IF(OR(N23="",L23<>"Sí",N23<('Configuración'!$B$3+'Configuración'!$B$4)),"",N23+ROW()/100000000) | Q23: =IF(COUNTA($A23:$M23)=0,"",IF($L23="","Revisar datos",IF($L23<>"Sí","Fuera del calendario",IF(OR($A23="",$B23="",$C23="",$D23="",$E23="",$F23="",$G23="",$H23="",$I23="",$K23="",COUNTIF($A$8:$A$157,$A23)>1,AND($J23<>"",$J23=$I23)),"Revisar datos",IF($N23<('Configuración'!$B$3+'Configuración'!$B$4),"Salida pasada",IF(AND($N23-('Configuración'!$B$3+'Configuración'!$B$4)<='Configuración'!$B$6,$K23<>"Lista"),"Inminente y no lista",IF($N23-('Configuración'!$B$3+'Configuración'!$B$4)<='Configuración'!$B$6,"Salida inminente",IF(AND($N23-('Configuración'!$B$3+'Configuración'!$B$4)<='Configuración'!$B$5,$K23<>"Lista"),"Preparación pendiente","Sin aviso")))))))) | R23: ='Configuración'!D23 | S23: ='Configuración'!E23
N24: =IF(OR(D24="",E24=""),"",D24+E24) | O24: =IF(OR(N24="",L24<>"Sí"),"",INT(N24-('Configuración'!$B$3+'Configuración'!$B$4))) | P24: =IF(OR(N24="",L24<>"Sí",N24<('Configuración'!$B$3+'Configuración'!$B$4)),"",N24+ROW()/100000000) | Q24: =IF(COUNTA($A24:$M24)=0,"",IF($L24="","Revisar datos",IF($L24<>"Sí","Fuera del calendario",IF(OR($A24="",$B24="",$C24="",$D24="",$E24="",$F24="",$G24="",$H24="",$I24="",$K24="",COUNTIF($A$8:$A$157,$A24)>1,AND($J24<>"",$J24=$I24)),"Revisar datos",IF($N24<('Configuración'!$B$3+'Configuración'!$B$4),"Salida pasada",IF(AND($N24-('Configuración'!$B$3+'Configuración'!$B$4)<='Configuración'!$B$6,$K24<>"Lista"),"Inminente y no lista",IF($N24-('Configuración'!$B$3+'Configuración'!$B$4)<='Configuración'!$B$6,"Salida inminente",IF(AND($N24-('Configuración'!$B$3+'Configuración'!$B$4)<='Configuración'!$B$5,$K24<>"Lista"),"Preparación pendiente","Sin aviso")))))))) | R24: ='Configuración'!D24 | S24: ='Configuración'!E24
N25: =IF(OR(D25="",E25=""),"",D25+E25) | O25: =IF(OR(N25="",L25<>"Sí"),"",INT(N25-('Configuración'!$B$3+'Configuración'!$B$4))) | P25: =IF(OR(N25="",L25<>"Sí",N25<('Configuración'!$B$3+'Configuración'!$B$4)),"",N25+ROW()/100000000) | Q25: =IF(COUNTA($A25:$M25)=0,"",IF($L25="","Revisar datos",IF($L25<>"Sí","Fuera del calendario",IF(OR($A25="",$B25="",$C25="",$D25="",$E25="",$F25="",$G25="",$H25="",$I25="",$K25="",COUNTIF($A$8:$A$157,$A25)>1,AND($J25<>"",$J25=$I25)),"Revisar datos",IF($N25<('Configuración'!$B$3+'Configuración'!$B$4),"Salida pasada",IF(AND($N25-('Configuración'!$B$3+'Configuración'!$B$4)<='Configuración'!$B$6,$K25<>"Lista"),"Inminente y no lista",IF($N25-('Configuración'!$B$3+'Configuración'!$B$4)<='Configuración'!$B$6,"Salida inminente",IF(AND($N25-('Configuración'!$B$3+'Configuración'!$B$4)<='Configuración'!$B$5,$K25<>"Lista"),"Preparación pendiente","Sin aviso")))))))) | R25: ='Configuración'!D25 | S25: ='Configuración'!E25
N26: =IF(OR(D26="",E26=""),"",D26+E26) | O26: =IF(OR(N26="",L26<>"Sí"),"",INT(N26-('Configuración'!$B$3+'Configuración'!$B$4))) | P26: =IF(OR(N26="",L26<>"Sí",N26<('Configuración'!$B$3+'Configuración'!$B$4)),"",N26+ROW()/100000000) | Q26: =IF(COUNTA($A26:$M26)=0,"",IF($L26="","Revisar datos",IF($L26<>"Sí","Fuera del calendario",IF(OR($A26="",$B26="",$C26="",$D26="",$E26="",$F26="",$G26="",$H26="",$I26="",$K26="",COUNTIF($A$8:$A$157,$A26)>1,AND($J26<>"",$J26=$I26)),"Revisar datos",IF($N26<('Configuración'!$B$3+'Configuración'!$B$4),"Salida pasada",IF(AND($N26-('Configuración'!$B$3+'Configuración'!$B$4)<='Configuración'!$B$6,$K26<>"Lista"),"Inminente y no lista",IF($N26-('Configuración'!$B$3+'Configuración'!$B$4)<='Configuración'!$B$6,"Salida inminente",IF(AND($N26-('Configuración'!$B$3+'Configuración'!$B$4)<='Configuración'!$B$5,$K26<>"Lista"),"Preparación pendiente","Sin aviso")))))))) | R26: ='Configuración'!D26 | S26: ='Configuración'!E26
N27: =IF(OR(D27="",E27=""),"",D27+E27) | O27: =IF(OR(N27="",L27<>"Sí"),"",INT(N27-('Configuración'!$B$3+'Configuración'!$B$4))) | P27: =IF(OR(N27="",L27<>"Sí",N27<('Configuración'!$B$3+'Configuración'!$B$4)),"",N27+ROW()/100000000) | Q27: =IF(COUNTA($A27:$M27)=0,"",IF($L27="","Revisar datos",IF($L27<>"Sí","Fuera del calendario",IF(OR($A27="",$B27="",$C27="",$D27="",$E27="",$F27="",$G27="",$H27="",$I27="",$K27="",COUNTIF($A$8:$A$157,$A27)>1,AND($J27<>"",$J27=$I27)),"Revisar datos",IF($N27<('Configuración'!$B$3+'Configuración'!$B$4),"Salida pasada",IF(AND($N27-('Configuración'!$B$3+'Configuración'!$B$4)<='Configuración'!$B$6,$K27<>"Lista"),"Inminente y no lista",IF($N27-('Configuración'!$B$3+'Configuración'!$B$4)<='Configuración'!$B$6,"Salida inminente",IF(AND($N27-('Configuración'!$B$3+'Configuración'!$B$4)<='Configuración'!$B$5,$K27<>"Lista"),"Preparación pendiente","Sin aviso")))))))) | R27: ='Configuración'!D27 | S27: ='Configuración'!E27
N28: =IF(OR(D28="",E28=""),"",D28+E28) | O28: =IF(OR(N28="",L28<>"Sí"),"",INT(N28-('Configuración'!$B$3+'Configuración'!$B$4))) | P28: =IF(OR(N28="",L28<>"Sí",N28<('Configuración'!$B$3+'Configuración'!$B$4)),"",N28+ROW()/100000000) | Q28: =IF(COUNTA($A28:$M28)=0,"",IF($L28="","Revisar datos",IF($L28<>"Sí","Fuera del calendario",IF(OR($A28="",$B28="",$C28="",$D28="",$E28="",$F28="",$G28="",$H28="",$I28="",$K28="",COUNTIF($A$8:$A$157,$A28)>1,AND($J28<>"",$J28=$I28)),"Revisar datos",IF($N28<('Configuración'!$B$3+'Configuración'!$B$4),"Salida pasada",IF(AND($N28-('Configuración'!$B$3+'Configuración'!$B$4)<='Configuración'!$B$6,$K28<>"Lista"),"Inminente y no lista",IF($N28-('Configuración'!$B$3+'Configuración'!$B$4)<='Configuración'!$B$6,"Salida inminente",IF(AND($N28-('Configuración'!$B$3+'Configuración'!$B$4)<='Configuración'!$B$5,$K28<>"Lista"),"Preparación pendiente","Sin aviso")))))))) | R28: ='Configuración'!D28 | S28: ='Configuración'!E28
N29: =IF(OR(D29="",E29=""),"",D29+E29) | O29: =IF(OR(N29="",L29<>"Sí"),"",INT(N29-('Configuración'!$B$3+'Configuración'!$B$4))) | P29: =IF(OR(N29="",L29<>"Sí",N29<('Configuración'!$B$3+'Configuración'!$B$4)),"",N29+ROW()/100000000) | Q29: =IF(COUNTA($A29:$M29)=0,"",IF($L29="","Revisar datos",IF($L29<>"Sí","Fuera del calendario",IF(OR($A29="",$B29="",$C29="",$D29="",$E29="",$F29="",$G29="",$H29="",$I29="",$K29="",COUNTIF($A$8:$A$157,$A29)>1,AND($J29<>"",$J29=$I29)),"Revisar datos",IF($N29<('Configuración'!$B$3+'Configuración'!$B$4),"Salida pasada",IF(AND($N29-('Configuración'!$B$3+'Configuración'!$B$4)<='Configuración'!$B$6,$K29<>"Lista"),"Inminente y no lista",IF($N29-('Configuración'!$B$3+'Configuración'!$B$4)<='Configuración'!$B$6,"Salida inminente",IF(AND($N29-('Configuración'!$B$3+'Configuración'!$B$4)<='Configuración'!$B$5,$K29<>"Lista"),"Preparación pendiente","Sin aviso")))))))) | R29: ='Configuración'!D29 | S29: ='Configuración'!E29
... N157: =IF(OR(D157="",E157=""),"",D157+E157) | O157: =IF(OR(N157="",L157<>"Sí"),"",INT(N157-('Configuración'!$B$3+'Configuración'!$B$4))) | P157: =IF(OR(N157="",L157<>"Sí",N157<('Configuración'!$B$3+'Configuración'!$B$4)),"",N157+ROW()/100000000) | Q157: =IF(COUNTA($A157:$M157)=0,"",IF($L157="","Revisar datos",IF($L157<>"Sí","Fuera del calendario",IF(OR($A157="",$B157="",$C157="",$D157="",$E157="",$F157="",$G157="",$H157="",$I157="",$K157="",COUNTIF($A$8:$A$157,$A157)>1,AND($J157<>"",$J157=$I157)),"Revisar datos",IF($N157<('Configuración'!$B$3+'Configuración'!$B$4),"Salida pasada",IF(AND($N157-('Configuración'!$B$3+'Configuración'!$B$4)<='Configuración'!$B$6,$K157<>"Lista"),"Inminente y no lista",IF($N157-('Configuración'!$B$3+'Configuración'!$B$4)<='Configuración'!$B$6,"Salida inminente",IF(AND($N157-('Configuración'!$B$3+'Configuración'!$B$4)<='Configuración'!$B$5,$K157<>"Lista"),"Preparación pendiente","Sin aviso")))))))) | R157: ='Configuración'!D157 | S157: ='Configuración'!E157

Sheet Configuración
A1: Configuración del calendario de salidas
A2: Parámetro | B2: Valor editable | C2: Uso operativo | D2: Responsables administrativos | E2: Estados de preparación | F2: Inclusión
A3: Fecha de control | B3: 46276 | C3: Momento de referencia | D3: Responsable ficticio A | E3: Pendiente | F3: Sí
A4: Hora de control | B4: 0.375 | C4: Momento de referencia | D4: Responsable ficticio B | E4: En curso | F4: No
A5: Horizonte de preparación | B5: 14 | C5: Días para revisar preparación | D5: Responsable ficticio C | E5: Lista
A6: Umbral de salida inminente | B6: 3 | C6: Días para aviso inminente | D6: Responsable ficticio D
D7: Responsable ficticio E
D8: Responsable ficticio F
A10: Los responsables de ejemplo son etiquetas ficticias. Sustitúyalas, si procede, por alias administrativos internos sin añadir teléfonos, correos ni otros contactos.
